BEGIN:VCALENDAR
VERSION:2.0
PRODID:-//Tunnel to Towers Foundation - ECPv6.15.17//NONSGML v1.0//EN
CALSCALE:GREGORIAN
METHOD:PUBLISH
X-ORIGINAL-URL:https://t2t.org
X-WR-CALDESC:Events for Tunnel to Towers Foundation
REFRESH-INTERVAL;VALUE=DURATION:PT1H
X-Robots-Tag:noindex
X-PUBLISHED-TTL:PT1H
BEGIN:VTIMEZONE
TZID:America/New_York
BEGIN:DAYLIGHT
TZOFFSETFROM:-0500
TZOFFSETTO:-0400
TZNAME:EDT
DTSTART:20230312T070000
END:DAYLIGHT
BEGIN:STANDARD
TZOFFSETFROM:-0400
TZOFFSETTO:-0500
TZNAME:EST
DTSTART:20231105T060000
END:STANDARD
BEGIN:DAYLIGHT
TZOFFSETFROM:-0500
TZOFFSETTO:-0400
TZNAME:EDT
DTSTART:20240310T070000
END:DAYLIGHT
BEGIN:STANDARD
TZOFFSETFROM:-0400
TZOFFSETTO:-0500
TZNAME:EST
DTSTART:20241103T060000
END:STANDARD
BEGIN:DAYLIGHT
TZOFFSETFROM:-0500
TZOFFSETTO:-0400
TZNAME:EDT
DTSTART:20250309T070000
END:DAYLIGHT
BEGIN:STANDARD
TZOFFSETFROM:-0400
TZOFFSETTO:-0500
TZNAME:EST
DTSTART:20251102T060000
END:STANDARD
BEGIN:DAYLIGHT
TZOFFSETFROM:-0500
TZOFFSETTO:-0400
TZNAME:EDT
DTSTART:20260308T070000
END:DAYLIGHT
BEGIN:STANDARD
TZOFFSETFROM:-0400
TZOFFSETTO:-0500
TZNAME:EST
DTSTART:20261101T060000
END:STANDARD
END:VTIMEZONE
BEGIN:VEVENT
DTSTART;VALUE=DATE:20250712
DTEND;VALUE=DATE:20250713
DTSTAMP:20260424T232918
CREATED:20250522T211112Z
LAST-MODIFIED:20250522T211147Z
UID:62305-1752278400-1752364799@t2t.org
SUMMARY:The Tunnel To Towers Zachary Swan Memorial Golf Classic
DESCRIPTION:FOR TICKETS & SPONSORSHIPS \n Register \n  \nSATURDAY | July 12\, 2025\nRegistration & Breakfast: 8:00 AM\nShotgun Start: 9:00 AM\nLunch: 2:00 PM \n Download Form \n  \n\n\nOn Sept. 11\, 2001\, FDNY firefighter Stephen Siller strapped his gear to his back and raced on foot through the Hugh L. Carey Tunnel to the World Trade Center Site after he received word of an attack. There\, he gave up his life while saving others. To commemorate Stephen’s sacrifice\, and the sacrifice of so many others\, the Tunnel to Towers Foundation began the National Golf Series which benefits the Foundation’s programs and efforts supporting first responders and service members. \nFind out more about our National Golf Series \nLearn More
URL:https://t2t.org/event/the-tunnel-to-towers-zachary-swan-memorial-golf-classic/
LOCATION:Vesper Hills Golf Club\, 4291 Octagon Rd\, Tully\, NY\, 13159\, United States
CATEGORIES:New York,Tunnel to Towers National Golf Series
ATTACH;FMTTYPE=image/jpeg:https://t2t.org/wp-content/uploads/2025/05/vesper-hills-golf.jpg
END:VEVENT
BEGIN:VEVENT
DTSTART;TZID=America/New_York:20240713T080000
DTEND;TZID=America/New_York:20240713T080000
DTSTAMP:20260424T232918
CREATED:20240415T222415Z
LAST-MODIFIED:20240415T225012Z
UID:56223-1720857600-1720857600@t2t.org
SUMMARY:Zachary Swan Memorial Golf Classic
DESCRIPTION:FOR TICKETS & SPONSORSHIPS \n  \nPurchase Tickets \n  \nSATURDAY | July 13\, 2024\nRegistration 8:00 AM\nShotgun Start 9:30 AM \n  \nDownload Form \n  \n  \n \n\n\nOn Sept. 11\, 2001\, FDNY firefighter Stephen Siller strapped his gear to his back and raced on foot through the Hugh L. Carey Tunnel to the World Trade Center Site after he received word of an attack. There\, he gave up his life while saving others. To commemorate Stephen’s sacrifice\, and the sacrifice of so many others\, the Tunnel to Towers Foundation began the National Golf Series which benefits the Foundation’s programs and efforts supporting first responders and service members. \nFind out more about our National Golf Series \nLearn More
URL:https://t2t.org/event/zachary-swan-memorial-golf-classic/
LOCATION:Vesper Hills Golf Club\, 4291 Octagon Rd\, Tully\, NY\, 13159\, United States
CATEGORIES:New York,Tunnel to Towers National Golf Series
ATTACH;FMTTYPE=image/jpeg:https://t2t.org/wp-content/uploads/2024/04/zachary.jpg
END:VEVENT
END:VCALENDAR