BEGIN:VCALENDAR
VERSION:2.0
PRODID:-//Tunnel to Towers Foundation - ECPv6.15.17//NONSGML v1.0//EN
CALSCALE:GREGORIAN
METHOD:PUBLISH
X-WR-CALNAME:Tunnel to Towers Foundation
X-ORIGINAL-URL:https://t2t.org
X-WR-CALDESC:Events for Tunnel to Towers Foundation
REFRESH-INTERVAL;VALUE=DURATION:PT1H
X-Robots-Tag:noindex
X-PUBLISHED-TTL:PT1H
BEGIN:VTIMEZONE
TZID:America/New_York
BEGIN:DAYLIGHT
TZOFFSETFROM:-0500
TZOFFSETTO:-0400
TZNAME:EDT
DTSTART:20200308T070000
END:DAYLIGHT
BEGIN:STANDARD
TZOFFSETFROM:-0400
TZOFFSETTO:-0500
TZNAME:EST
DTSTART:20201101T060000
END:STANDARD
BEGIN:DAYLIGHT
TZOFFSETFROM:-0500
TZOFFSETTO:-0400
TZNAME:EDT
DTSTART:20210314T070000
END:DAYLIGHT
BEGIN:STANDARD
TZOFFSETFROM:-0400
TZOFFSETTO:-0500
TZNAME:EST
DTSTART:20211107T060000
END:STANDARD
BEGIN:DAYLIGHT
TZOFFSETFROM:-0500
TZOFFSETTO:-0400
TZNAME:EDT
DTSTART:20220313T070000
END:DAYLIGHT
BEGIN:STANDARD
TZOFFSETFROM:-0400
TZOFFSETTO:-0500
TZNAME:EST
DTSTART:20221106T060000
END:STANDARD
BEGIN:DAYLIGHT
TZOFFSETFROM:-0500
TZOFFSETTO:-0400
TZNAME:EDT
DTSTART:20230312T070000
END:DAYLIGHT
BEGIN:STANDARD
TZOFFSETFROM:-0400
TZOFFSETTO:-0500
TZNAME:EST
DTSTART:20231105T060000
END:STANDARD
BEGIN:DAYLIGHT
TZOFFSETFROM:-0500
TZOFFSETTO:-0400
TZNAME:EDT
DTSTART:20240310T070000
END:DAYLIGHT
BEGIN:STANDARD
TZOFFSETFROM:-0400
TZOFFSETTO:-0500
TZNAME:EST
DTSTART:20241103T060000
END:STANDARD
BEGIN:DAYLIGHT
TZOFFSETFROM:-0500
TZOFFSETTO:-0400
TZNAME:EDT
DTSTART:20250309T070000
END:DAYLIGHT
BEGIN:STANDARD
TZOFFSETFROM:-0400
TZOFFSETTO:-0500
TZNAME:EST
DTSTART:20251102T060000
END:STANDARD
BEGIN:DAYLIGHT
TZOFFSETFROM:-0500
TZOFFSETTO:-0400
TZNAME:EDT
DTSTART:20260308T070000
END:DAYLIGHT
BEGIN:STANDARD
TZOFFSETFROM:-0400
TZOFFSETTO:-0500
TZNAME:EST
DTSTART:20261101T060000
END:STANDARD
END:VTIMEZONE
BEGIN:VEVENT
DTSTART;TZID=America/New_York:20250906T090000
DTEND;TZID=America/New_York:20250906T090000
DTSTAMP:20260425T220147
CREATED:20250306T174322Z
LAST-MODIFIED:20250306T174322Z
UID:61303-1757149200-1757149200@t2t.org
SUMMARY:2025 Tunnel to Towers 5K Run & Walk Sheboygan
DESCRIPTION:
URL:https://t2t.org/event/2025-tunnel-to-towers-5k-run-walk-sheboygan/
LOCATION:Town of Sheboygan Fire Department\, 3911 county road Y\, sheboygan\, WI\, 53083\, United States
CATEGORIES:5K Run & Walk Event,Wisconsin
ATTACH;FMTTYPE=image/png:https://t2t.org/wp-content/uploads/2025/03/2025-Sheboygan.png
ORGANIZER;CN="T2T Sheboygan":MAILTO:Sheboygan@t2t.org
END:VEVENT
BEGIN:VEVENT
DTSTART;TZID=America/New_York:20240914T090000
DTEND;TZID=America/New_York:20240914T090000
DTSTAMP:20260425T220147
CREATED:20240307T165047Z
LAST-MODIFIED:20240307T165047Z
UID:55478-1726304400-1726304400@t2t.org
SUMMARY:2024 Tunnel to Towers 5K Run & Walk Sheboygan
DESCRIPTION:
URL:https://t2t.org/event/2024-tunnel-to-towers-5k-run-walk-sheboygan/
LOCATION:Town of Sheboygan Fire Department\, 3911 county road Y\, sheboygan\, WI\, 53083\, United States
CATEGORIES:5K Run & Walk Event,Wisconsin
ATTACH;FMTTYPE=image/jpeg:https://t2t.org/wp-content/uploads/2024/03/2024-Sheboygan.jpg
ORGANIZER;CN="T2T Sheboygan":MAILTO:Sheboygan@t2t.org
END:VEVENT
BEGIN:VEVENT
DTSTART;TZID=America/New_York:20230916T090000
DTEND;TZID=America/New_York:20230916T090000
DTSTAMP:20260425T220147
CREATED:20230518T192452Z
LAST-MODIFIED:20240506T114959Z
UID:37010-1694854800-1694854800@t2t.org
SUMMARY:2023 Tunnel to Towers 5K Run & Walk Sheboygan
DESCRIPTION:
URL:https://t2t.org/event/2023-tunnel-to-towers-5k-run-walk-sheboygan/
LOCATION:Town of Sheboygan Fire Department\, 3911 county road Y\, sheboygan\, WI\, 53083\, United States
CATEGORIES:5K Run & Walk Event,Wisconsin
ATTACH;FMTTYPE=image/jpeg:https://t2t.org/wp-content/uploads/2022/02/2023-Thumbnails-Sheboygan.jpg
ORGANIZER;CN="T2T Sheboygan":MAILTO:Sheboygan@t2t.org
END:VEVENT
BEGIN:VEVENT
DTSTART;TZID=America/New_York:20220910T090000
DTEND;TZID=America/New_York:20220910T090000
DTSTAMP:20260425T220147
CREATED:20220210T204137Z
LAST-MODIFIED:20240506T125652Z
UID:29537-1662800400-1662800400@t2t.org
SUMMARY:2022 Tunnel to Towers 5K Run & Walk Sheboygan
DESCRIPTION:
URL:https://t2t.org/event/2022-tunnel-to-towers-5k-run-walk-sheboygan/
LOCATION:Town of Sheboygan Fire Department\, 3911 county road Y\, sheboygan\, WI\, 53083\, United States
CATEGORIES:5K Run & Walk Event,Wisconsin
ATTACH;FMTTYPE=image/png:https://t2t.org/wp-content/uploads/2021/05/2022-Classy-Team-Photo-Sheboygan.png
ORGANIZER;CN="T2T Sheboygan":MAILTO:Sheboygan@t2t.org
END:VEVENT
BEGIN:VEVENT
DTSTART;TZID=America/New_York:20210911T080000
DTEND;TZID=America/New_York:20210911T083000
DTSTAMP:20260425T220147
CREATED:20210504T190236Z
LAST-MODIFIED:20240506T125635Z
UID:21715-1631347200-1631349000@t2t.org
SUMMARY:2021 Tunnel to Towers 5K Run & Walk Sheboygan
DESCRIPTION:PP
URL:https://t2t.org/event/2021-tunnel-to-towers-5k-run-walk-sheboygan/
LOCATION:Town of Sheboygan Fire Department\, 3911 county road Y\, sheboygan\, WI\, 53083\, United States
CATEGORIES:5K Run & Walk Event,Wisconsin
ATTACH;FMTTYPE=image/png:https://t2t.org/wp-content/uploads/2021/05/2021-Sheboygan-WI.png
ORGANIZER;CN="T2T Sheboygan":MAILTO:Sheboygan@t2t.org
END:VEVENT
END:VCALENDAR