BEGIN:VCALENDAR
VERSION:2.0
PRODID:-//Tunnel to Towers Foundation - ECPv6.15.17//NONSGML v1.0//EN
CALSCALE:GREGORIAN
METHOD:PUBLISH
X-WR-CALNAME:Tunnel to Towers Foundation
X-ORIGINAL-URL:https://t2t.org
X-WR-CALDESC:Events for Tunnel to Towers Foundation
REFRESH-INTERVAL;VALUE=DURATION:PT1H
X-Robots-Tag:noindex
X-PUBLISHED-TTL:PT1H
BEGIN:VTIMEZONE
TZID:America/New_York
BEGIN:DAYLIGHT
TZOFFSETFROM:-0500
TZOFFSETTO:-0400
TZNAME:EDT
DTSTART:20220313T070000
END:DAYLIGHT
BEGIN:STANDARD
TZOFFSETFROM:-0400
TZOFFSETTO:-0500
TZNAME:EST
DTSTART:20221106T060000
END:STANDARD
BEGIN:DAYLIGHT
TZOFFSETFROM:-0500
TZOFFSETTO:-0400
TZNAME:EDT
DTSTART:20230312T070000
END:DAYLIGHT
BEGIN:STANDARD
TZOFFSETFROM:-0400
TZOFFSETTO:-0500
TZNAME:EST
DTSTART:20231105T060000
END:STANDARD
BEGIN:DAYLIGHT
TZOFFSETFROM:-0500
TZOFFSETTO:-0400
TZNAME:EDT
DTSTART:20240310T070000
END:DAYLIGHT
BEGIN:STANDARD
TZOFFSETFROM:-0400
TZOFFSETTO:-0500
TZNAME:EST
DTSTART:20241103T060000
END:STANDARD
BEGIN:DAYLIGHT
TZOFFSETFROM:-0500
TZOFFSETTO:-0400
TZNAME:EDT
DTSTART:20250309T070000
END:DAYLIGHT
BEGIN:STANDARD
TZOFFSETFROM:-0400
TZOFFSETTO:-0500
TZNAME:EST
DTSTART:20251102T060000
END:STANDARD
BEGIN:DAYLIGHT
TZOFFSETFROM:-0500
TZOFFSETTO:-0400
TZNAME:EDT
DTSTART:20260308T070000
END:DAYLIGHT
BEGIN:STANDARD
TZOFFSETFROM:-0400
TZOFFSETTO:-0500
TZNAME:EST
DTSTART:20261101T060000
END:STANDARD
END:VTIMEZONE
BEGIN:VEVENT
DTSTART;VALUE=DATE:20250901
DTEND;VALUE=DATE:20250902
DTSTAMP:20260423T032939
CREATED:20250617T193312Z
LAST-MODIFIED:20250617T193352Z
UID:62660-1756684800-1756771199@t2t.org
SUMMARY:The Tunnel To Towers 4th Annual Summit Hero Golf Classic
DESCRIPTION:FOR TICKETS & SPONSORSHIPS \n Register \n  \nMONDAY | September 1\, 2025\nRegistration: 7:00 AM\nShotgun Start: 9:00 AM\nLunch to Follow \n Download Form \n  \n\n\nOn Sept. 11\, 2001\, FDNY firefighter Stephen Siller strapped his gear to his back and raced on foot through the Hugh L. Carey Tunnel to the World Trade Center Site after he received word of an attack. There\, he gave up his life while saving others. To commemorate Stephen’s sacrifice\, and the sacrifice of so many others\, the Tunnel to Towers Foundation began the National Golf Series which benefits the Foundation’s programs and efforts supporting first responders and service members. \nFind out more about our National Golf Series \nLearn More
URL:https://t2t.org/event/the-tunnel-to-towers-4th-annual-summit-hero-golf-classic/
LOCATION:The Raven at Three Peaks\, 2929 Golden Eagle Rd\, Silverthorne\, CO\, 80498\, United States
CATEGORIES:Colorado,Tunnel to Towers National Golf Series
ATTACH;FMTTYPE=image/jpeg:https://t2t.org/wp-content/uploads/2025/06/4th-summit-golf.jpg
END:VEVENT
BEGIN:VEVENT
DTSTART;TZID=America/New_York:20240902T070000
DTEND;TZID=America/New_York:20240902T070000
DTSTAMP:20260423T032939
CREATED:20240307T234209Z
LAST-MODIFIED:20240308T002059Z
UID:55510-1725260400-1725260400@t2t.org
SUMMARY:2024 3rd ANNUAL SUMMIT HERO GOLF CLASSIC
DESCRIPTION:FOR TICKETS & SPONSORSHIPS \n  \nPurchase Tickets \n  \nMONDAY | September 2\, 2024\nRegistration 7:00 AM\nShotgun Start 9:00 AM \n  \nDownload Form \n  \n \n\n\nOn Sept. 11\, 2001\, FDNY firefighter Stephen Siller strapped his gear to his back and raced on foot through the Hugh L. Carey Tunnel to the World Trade Center Site after he received word of an attack. There\, he gave up his life while saving others. To commemorate Stephen’s sacrifice\, and the sacrifice of so many others\, the Tunnel to Towers Foundation began the National Golf Series which benefits the Foundation’s programs and efforts supporting first responders and service members. \nFind out more about our National Golf Series \nLearn More
URL:https://t2t.org/event/2024-3rd-annual-summit-hero-golf-classic/
LOCATION:The Raven at Three Peaks\, 2929 Golden Eagle Rd\, Silverthorne\, CO\, 80498\, United States
CATEGORIES:Colorado,Tunnel to Towers National Golf Series
ATTACH;FMTTYPE=image/jpeg:https://t2t.org/wp-content/uploads/2024/03/GOLF-3RD.jpg
END:VEVENT
BEGIN:VEVENT
DTSTART;TZID=America/New_York:20240809T073000
DTEND;TZID=America/New_York:20240809T073000
DTSTAMP:20260423T032939
CREATED:20240308T215541Z
LAST-MODIFIED:20240308T220759Z
UID:55598-1723188600-1723188600@t2t.org
SUMMARY:Holes Fore Heroes Golf Classic
DESCRIPTION:FOR TICKETS & SPONSORSHIPS \n  \nPurchase Tickets \n  \nFRIDAY | August 9\, 2024\nRegistration 6:30 AM\nShotgun Start 7:30 AM\n&\nRegistration 11:30 AM\nShotgun Start 1:30 PM\n \n  \nDownload Form \n  \n \n\n\nOn Sept. 11\, 2001\, FDNY firefighter Stephen Siller strapped his gear to his back and raced on foot through the Hugh L. Carey Tunnel to the World Trade Center Site after he received word of an attack. There\, he gave up his life while saving others. To commemorate Stephen’s sacrifice\, and the sacrifice of so many others\, the Tunnel to Towers Foundation began the National Golf Series which benefits the Foundation’s programs and efforts supporting first responders and service members. \nFind out more about our National Golf Series \nLearn More
URL:https://t2t.org/event/holes-fore-heroes-golf-classic/2024-08-09/
LOCATION:The Raven at Three Peaks\, 2929 Golden Eagle Rd\, Silverthorne\, CO\, 80498\, United States
CATEGORIES:Illinois,Tunnel to Towers National Golf Series
ATTACH;FMTTYPE=image/jpeg:https://t2t.org/wp-content/uploads/2024/03/GOLF-AMBRIAR.jpg
END:VEVENT
BEGIN:VEVENT
DTSTART;TZID=America/New_York:20230904T080000
DTEND;TZID=America/New_York:20230904T170000
DTSTAMP:20260423T032939
CREATED:20230907T165733Z
LAST-MODIFIED:20240411T213948Z
UID:51507-1693814400-1693846800@t2t.org
SUMMARY:2023 The Summit Hero Golf Classic
DESCRIPTION:FOR TICKETS & SPONSORSHIPS \n\n\n\nPurchase Tickets \n  \n Monday\, September 4\, 2023 \n7:00 AM Registration\n9:00 AM Shotgun Start \n\n\n\n\n\nOn Sept. 11\, 2001\, FDNY firefighter Stephen Siller strapped his gear to his back and raced on foot through the Hugh L. Carey Tunnel to the World Trade Center Site after he received word of an attack. There\, he gave up his life while saving others. To commemorate Stephen’s sacrifice\, and the sacrifice of so many others\, the Tunnel to Towers Foundation began the National Golf Series which benefits the Foundation’s programs and efforts supporting first responders and service members. \nFind out more about our National Golf Series \nLearn More
URL:https://t2t.org/event/2023-the-summit-hero-golf-classic/
LOCATION:The Raven at Three Peaks\, 2929 Golden Eagle Rd\, Silverthorne\, CO\, 80498\, United States
CATEGORIES:South Carolina,Tunnel to Towers National Golf Series
ATTACH;FMTTYPE=image/png:https://t2t.org/wp-content/uploads/2023/09/The-Summit-Hero-Golf-Classic-1024x370-1.png
END:VEVENT
END:VCALENDAR