BEGIN:VCALENDAR
VERSION:2.0
PRODID:-//Tunnel to Towers Foundation - ECPv6.15.17//NONSGML v1.0//EN
CALSCALE:GREGORIAN
METHOD:PUBLISH
X-WR-CALNAME:Tunnel to Towers Foundation
X-ORIGINAL-URL:https://t2t.org
X-WR-CALDESC:Events for Tunnel to Towers Foundation
REFRESH-INTERVAL;VALUE=DURATION:PT1H
X-Robots-Tag:noindex
X-PUBLISHED-TTL:PT1H
BEGIN:VTIMEZONE
TZID:America/New_York
BEGIN:DAYLIGHT
TZOFFSETFROM:-0500
TZOFFSETTO:-0400
TZNAME:EDT
DTSTART:20220313T070000
END:DAYLIGHT
BEGIN:STANDARD
TZOFFSETFROM:-0400
TZOFFSETTO:-0500
TZNAME:EST
DTSTART:20221106T060000
END:STANDARD
BEGIN:DAYLIGHT
TZOFFSETFROM:-0500
TZOFFSETTO:-0400
TZNAME:EDT
DTSTART:20230312T070000
END:DAYLIGHT
BEGIN:STANDARD
TZOFFSETFROM:-0400
TZOFFSETTO:-0500
TZNAME:EST
DTSTART:20231105T060000
END:STANDARD
BEGIN:DAYLIGHT
TZOFFSETFROM:-0500
TZOFFSETTO:-0400
TZNAME:EDT
DTSTART:20240310T070000
END:DAYLIGHT
BEGIN:STANDARD
TZOFFSETFROM:-0400
TZOFFSETTO:-0500
TZNAME:EST
DTSTART:20241103T060000
END:STANDARD
END:VTIMEZONE
BEGIN:VEVENT
DTSTART;TZID=America/New_York:20230717T090000
DTEND;TZID=America/New_York:20230717T090000
DTSTAMP:20260425T215040
CREATED:20230329T134845Z
LAST-MODIFIED:20240411T212920Z
UID:36326-1689584400-1689584400@t2t.org
SUMMARY:2023 Connecticut Hero Golf Classic
DESCRIPTION:FOR TICKETS & SPONSORSHIPS \n\n  \nPurchase Tickets \n  \nMONDAY\, July 17\, 2023 \n  \nOn Sept. 11\, 2001\, FDNY firefighter Stephen Siller strapped his gear to his back and raced on foot through the Hugh L. Carey Tunnel to the World Trade Center Site after he received word of an attack. There\, he gave up his life while saving others. To commemorate Stephen’s sacrifice\, and the sacrifice of so many others\, the Tunnel to Towers Foundation began the National Golf Series which benefits the Foundation’s programs and efforts supporting first responders and service members. \n \n_____________________________________________\nFind out more about our National Golf Series\nLEARN MORE\n \nQuestions or Inquiries\, please contact Golf@t2t.org
URL:https://t2t.org/event/2023-connecticut-hero-golf-classic/
LOCATION:The Country Club of Waterbury\, 1 Oronoke Rd\, Waterbury\, CT\, 06708
CATEGORIES:Connecticut,Tunnel to Towers National Golf Series
ATTACH;FMTTYPE=image/png:https://t2t.org/wp-content/uploads/2023/03/6-2023-The-Country-Club-of-Waterbury.png
END:VEVENT
END:VCALENDAR