BEGIN:VCALENDAR
VERSION:2.0
PRODID:-//Tunnel to Towers Foundation - ECPv6.15.17//NONSGML v1.0//EN
CALSCALE:GREGORIAN
METHOD:PUBLISH
X-WR-CALNAME:Tunnel to Towers Foundation
X-ORIGINAL-URL:https://t2t.org
X-WR-CALDESC:Events for Tunnel to Towers Foundation
REFRESH-INTERVAL;VALUE=DURATION:PT1H
X-Robots-Tag:noindex
X-PUBLISHED-TTL:PT1H
BEGIN:VTIMEZONE
TZID:America/New_York
BEGIN:DAYLIGHT
TZOFFSETFROM:-0500
TZOFFSETTO:-0400
TZNAME:EDT
DTSTART:20130310T070000
END:DAYLIGHT
BEGIN:STANDARD
TZOFFSETFROM:-0400
TZOFFSETTO:-0500
TZNAME:EST
DTSTART:20131103T060000
END:STANDARD
BEGIN:DAYLIGHT
TZOFFSETFROM:-0500
TZOFFSETTO:-0400
TZNAME:EDT
DTSTART:20140309T070000
END:DAYLIGHT
BEGIN:STANDARD
TZOFFSETFROM:-0400
TZOFFSETTO:-0500
TZNAME:EST
DTSTART:20141102T060000
END:STANDARD
BEGIN:DAYLIGHT
TZOFFSETFROM:-0500
TZOFFSETTO:-0400
TZNAME:EDT
DTSTART:20150308T070000
END:DAYLIGHT
BEGIN:STANDARD
TZOFFSETFROM:-0400
TZOFFSETTO:-0500
TZNAME:EST
DTSTART:20151101T060000
END:STANDARD
BEGIN:DAYLIGHT
TZOFFSETFROM:-0500
TZOFFSETTO:-0400
TZNAME:EDT
DTSTART:20160313T070000
END:DAYLIGHT
BEGIN:STANDARD
TZOFFSETFROM:-0400
TZOFFSETTO:-0500
TZNAME:EST
DTSTART:20161106T060000
END:STANDARD
BEGIN:DAYLIGHT
TZOFFSETFROM:-0500
TZOFFSETTO:-0400
TZNAME:EDT
DTSTART:20170312T070000
END:DAYLIGHT
BEGIN:STANDARD
TZOFFSETFROM:-0400
TZOFFSETTO:-0500
TZNAME:EST
DTSTART:20171105T060000
END:STANDARD
BEGIN:DAYLIGHT
TZOFFSETFROM:-0500
TZOFFSETTO:-0400
TZNAME:EDT
DTSTART:20180311T070000
END:DAYLIGHT
BEGIN:STANDARD
TZOFFSETFROM:-0400
TZOFFSETTO:-0500
TZNAME:EST
DTSTART:20181104T060000
END:STANDARD
BEGIN:DAYLIGHT
TZOFFSETFROM:-0500
TZOFFSETTO:-0400
TZNAME:EDT
DTSTART:20190310T070000
END:DAYLIGHT
BEGIN:STANDARD
TZOFFSETFROM:-0400
TZOFFSETTO:-0500
TZNAME:EST
DTSTART:20191103T060000
END:STANDARD
BEGIN:DAYLIGHT
TZOFFSETFROM:-0500
TZOFFSETTO:-0400
TZNAME:EDT
DTSTART:20200308T070000
END:DAYLIGHT
BEGIN:STANDARD
TZOFFSETFROM:-0400
TZOFFSETTO:-0500
TZNAME:EST
DTSTART:20201101T060000
END:STANDARD
BEGIN:DAYLIGHT
TZOFFSETFROM:-0500
TZOFFSETTO:-0400
TZNAME:EDT
DTSTART:20210314T070000
END:DAYLIGHT
BEGIN:STANDARD
TZOFFSETFROM:-0400
TZOFFSETTO:-0500
TZNAME:EST
DTSTART:20211107T060000
END:STANDARD
BEGIN:DAYLIGHT
TZOFFSETFROM:-0500
TZOFFSETTO:-0400
TZNAME:EDT
DTSTART:20220313T070000
END:DAYLIGHT
BEGIN:STANDARD
TZOFFSETFROM:-0400
TZOFFSETTO:-0500
TZNAME:EST
DTSTART:20221106T060000
END:STANDARD
BEGIN:DAYLIGHT
TZOFFSETFROM:-0500
TZOFFSETTO:-0400
TZNAME:EDT
DTSTART:20230312T070000
END:DAYLIGHT
BEGIN:STANDARD
TZOFFSETFROM:-0400
TZOFFSETTO:-0500
TZNAME:EST
DTSTART:20231105T060000
END:STANDARD
BEGIN:DAYLIGHT
TZOFFSETFROM:-0500
TZOFFSETTO:-0400
TZNAME:EDT
DTSTART:20240310T070000
END:DAYLIGHT
BEGIN:STANDARD
TZOFFSETFROM:-0400
TZOFFSETTO:-0500
TZNAME:EST
DTSTART:20241103T060000
END:STANDARD
BEGIN:DAYLIGHT
TZOFFSETFROM:-0500
TZOFFSETTO:-0400
TZNAME:EDT
DTSTART:20250309T070000
END:DAYLIGHT
BEGIN:STANDARD
TZOFFSETFROM:-0400
TZOFFSETTO:-0500
TZNAME:EST
DTSTART:20251102T060000
END:STANDARD
BEGIN:DAYLIGHT
TZOFFSETFROM:-0500
TZOFFSETTO:-0400
TZNAME:EDT
DTSTART:20260308T070000
END:DAYLIGHT
BEGIN:STANDARD
TZOFFSETFROM:-0400
TZOFFSETTO:-0500
TZNAME:EST
DTSTART:20261101T060000
END:STANDARD
END:VTIMEZONE
BEGIN:VEVENT
DTSTART;VALUE=DATE:20250623
DTEND;VALUE=DATE:20250624
DTSTAMP:20260423T160810
CREATED:20250110T223807Z
LAST-MODIFIED:20250110T223807Z
UID:60804-1750636800-1750723199@t2t.org
SUMMARY:11th Annual New Jersey Golf Classic - Golf for Heroes 2025
DESCRIPTION:FOR TICKETS & SPONSORSHIPS \n  \n Download Form \n  \nAM \nMONDAY | June 23\, 2025\nRegistration: 7:00 AM\nShotgun Start: 8:00 AM\nBreakfast & Lunch Included \nPM \nMONDAY | June 23\, 2025\nRegistration: 11:30 AM\nShotgun Start: 1:00 PM\nLunch Included \n  \n  \n \n\n\nOn Sept. 11\, 2001\, FDNY firefighter Stephen Siller strapped his gear to his back and raced on foot through the Hugh L. Carey Tunnel to the World Trade Center Site after he received word of an attack. There\, he gave up his life while saving others. To commemorate Stephen’s sacrifice\, and the sacrifice of so many others\, the Tunnel to Towers Foundation began the National Golf Series which benefits the Foundation’s programs and efforts supporting first responders and service members. \nFind out more about our National Golf Series \nLearn More
URL:https://t2t.org/event/11th-annual-new-jersey-golf-classic-golf-for-heroes-2025/
LOCATION:Eagle Oaks Golf & Country Club\, 20 Shore Oaks Dr\, Farmingdale\, NJ\, 07727\, United States
CATEGORIES:New Jersey,Tunnel to Towers National Golf Series
ATTACH;FMTTYPE=image/jpeg:https://t2t.org/wp-content/uploads/2025/01/2025-GOLF-NJ-2.jpg
GEO:40.2168322;-74.1533519
X-APPLE-STRUCTURED-LOCATION;VALUE=URI;X-ADDRESS=Eagle Oaks Golf & Country Club 20 Shore Oaks Dr Farmingdale NJ 07727 United States;X-APPLE-RADIUS=500;X-TITLE=20 Shore Oaks Dr:geo:-74.1533519,40.2168322
END:VEVENT
BEGIN:VEVENT
DTSTART;TZID=America/New_York:20240624T070000
DTEND;TZID=America/New_York:20240624T080000
DTSTAMP:20260423T160810
CREATED:20240307T221910Z
LAST-MODIFIED:20240508T135916Z
UID:55500-1719212400-1719216000@t2t.org
SUMMARY:New Jersey Golf Classic
DESCRIPTION:FOR TICKETS & SPONSORSHIPS: \n  \nDownload Form \n  \nMONDAY | June 24\, 2024\nRegistration 7:00 AM\nShotgun Start 8:00 AM\n&\nRegistration 11:30 AM\nShotgun Start 1:00 PM \n  \n \n\n\nOn Sept. 11\, 2001\, FDNY firefighter Stephen Siller strapped his gear to his back and raced on foot through the Hugh L. Carey Tunnel to the World Trade Center Site after he received word of an attack. There\, he gave up his life while saving others. To commemorate Stephen’s sacrifice\, and the sacrifice of so many others\, the Tunnel to Towers Foundation began the National Golf Series which benefits the Foundation’s programs and efforts supporting first responders and service members. \nFind out more about our National Golf Series \nLearn More
URL:https://t2t.org/event/new-jersey-golf-classic/2024-06-24/
LOCATION:Eagle Oaks Golf & Country Club\, 20 Shore Oaks Dr\, Farmingdale\, NJ\, 07727\, United States
CATEGORIES:New Jersey,Tunnel to Towers National Golf Series
ATTACH;FMTTYPE=image/jpeg:https://t2t.org/wp-content/uploads/2024/03/GOLF-NJ.jpg
GEO:40.2168322;-74.1533519
X-APPLE-STRUCTURED-LOCATION;VALUE=URI;X-ADDRESS=Eagle Oaks Golf & Country Club 20 Shore Oaks Dr Farmingdale NJ 07727 United States;X-APPLE-RADIUS=500;X-TITLE=20 Shore Oaks Dr:geo:-74.1533519,40.2168322
END:VEVENT
BEGIN:VEVENT
DTSTART;VALUE=DATE:20230626
DTEND;VALUE=DATE:20230627
DTSTAMP:20260423T160810
CREATED:20220303T165431Z
LAST-MODIFIED:20240411T212945Z
UID:29791-1687737600-1687823999@t2t.org
SUMMARY:2023 Golf Classic at Eagle Oaks and Deal Golf Country Club
DESCRIPTION:  \n\nFOR TICKETS & SPONSORSHIPS\n\n  \n\nLEARN MORE\n \n\n\n\n  \n Eagle Oaks Golf & Country Club MONDAY | JUNE 26\, 2023\n  \n \n  \nRegistration 7amShotgun Start 8amBreakfast & Lunch Included \n  \n \n  \nRegistration 11:30amShotgun Start 1pmLunch Included \n  \n  \n Deal Golf & Country Club MONDAY | JUNE 26\, 2022\nRegistration 11am \nShotgun Start 12:30pm \nLunch Included \n6:30pm Dinner Included for Both Golf Courses will be at Eagle Oaks Golf & Country Club \n  \n\n\n  \n  \nOn Sept. 11\, 2001\, FDNY firefighter Stephen Siller strapped his gear to his back and raced on foot through the Hugh L. Carey Tunnel to the World Trade Center Site after he received word of an attack. There\, he gave up his life while saving others. To commemorate Stephen’s sacrifice\, and the sacrifice of so many others\, the Tunnel to Towers Foundation began the National Golf Series which benefits the Foundation’s programs and efforts supporting first responders and service members. \n  \n \n  \n_____________________________________________\nFind out more about our National Golf Series\n  \nLEARN MORE\n \nQuestions or Inquiries\, please contact Golf@t2t.org \n \n  \nPresented By\n  \n \n \n  \n 
URL:https://t2t.org/event/2023-golf-classic-at-eagle-oaks-and-deal-golf-country-clubs/
LOCATION:Eagle Oaks Golf & Country Club\, 20 Shore Oaks Dr\, Farmingdale\, NJ\, 07727\, United States
CATEGORIES:New Jersey,Tunnel to Towers National Golf Series
ATTACH;FMTTYPE=image/png:https://t2t.org/wp-content/uploads/2022/03/4-2023-Eagel-Oaks-.png
GEO:40.2168322;-74.1533519
X-APPLE-STRUCTURED-LOCATION;VALUE=URI;X-ADDRESS=Eagle Oaks Golf & Country Club 20 Shore Oaks Dr Farmingdale NJ 07727 United States;X-APPLE-RADIUS=500;X-TITLE=20 Shore Oaks Dr:geo:-74.1533519,40.2168322
END:VEVENT
BEGIN:VEVENT
DTSTART;VALUE=DATE:20210628
DTEND;VALUE=DATE:20210629
DTSTAMP:20260423T160810
CREATED:20190501T203509Z
LAST-MODIFIED:20240506T121850Z
UID:14642-1624838400-1624924799@t2t.org
SUMMARY:2021 Golf Classic at Eagle Oaks Golf & Country Club
DESCRIPTION:On Sept. 11\, 2001\, FDNY firefighter Stephen Siller strapped his gear to his back and raced on foot through the Hugh L. Carey Tunnel to the World Trade Center Site after he received word of an attack. There\, he gave up his life while saving others. To commemorate Stephen’s sacrifice\, and the sacrifice of so many others\, the Tunnel to Towers Foundation began National Golf Series which benefits the Foundation’s programs and efforts supporting first responders and service members. Learn more about the Tunnel to Towers National Golf Series here. THIS EVENT IS SOLD OUT! For more information\, please contact Golf@t2t.org \n On Sept. 11\, 2001\, FDNY firefighter Stephen Siller strapped his gear to his back and raced on foot through the Hugh L. Carey Tunnel to the World Trade Center Site after he received word of an attack. There\, he gave up his life while saving others. To commemorate Stephen’s sacrifice\, and the sacrifice of so many others\, the Stephen Siller Tunnel to Towers Foundation began National Golf Series which benefits the Foundation’s programs and efforts supporting first responders and service members. This year’s Farmingdale\, NJ event has been postponed until further notice. Learn more about the Tunnel to Towers National Golf Series here. For more information\, please contact Golf@t2t.org \n 
URL:https://t2t.org/event/2021-golf-classic-eagle-oaks/
LOCATION:Eagle Oaks Golf & Country Club\, 20 Shore Oaks Dr\, Farmingdale\, NJ\, 07727\, United States
CATEGORIES:New Jersey,Tunnel to Towers National Golf Series
ATTACH;FMTTYPE=image/png:https://t2t.org/wp-content/uploads/2018/06/2-2021-New_Jersey@2x.png
GEO:40.2168322;-74.1533519
X-APPLE-STRUCTURED-LOCATION;VALUE=URI;X-ADDRESS=Eagle Oaks Golf & Country Club 20 Shore Oaks Dr Farmingdale NJ 07727 United States;X-APPLE-RADIUS=500;X-TITLE=20 Shore Oaks Dr:geo:-74.1533519,40.2168322
END:VEVENT
BEGIN:VEVENT
DTSTART;VALUE=DATE:20180716
DTEND;VALUE=DATE:20180717
DTSTAMP:20260423T160810
CREATED:20180508T133336Z
LAST-MODIFIED:20240506T121355Z
UID:11551-1531699200-1531785599@t2t.org
SUMMARY:9/11 Memorial Golf Classic at Eagle Oaks Golf & Country Club
DESCRIPTION:On Sept. 11\, 2001\, FDNY firefighter Stephen Siller strapped his gear to his back and raced on foot through the Hugh L. Carey Tunnel to the World Trade Center Site after he received word of an attack. There\, he gave up his life while saving others. \nTo commemorate Stephen’s sacrifice\, and the sacrifice of so many others\, the Stephen Siller Tunnel to Towers Foundation began the 9/11 Memorial Golf Classic\, a charitable golf series that benefits the Foundation’s programs and efforts supporting first responders and service members. \nThis year’s Farmingdale\, NJ event will take place on Monday\, July 16\, 2018. \nLearn more about the Tunnel to Towers National Golf Series here. \nDownload our registration/sponsorship form here. \nFor more information\, please contact Golf@t2t.org
URL:https://t2t.org/event/2018-golf-classic-eagle-oaks/
LOCATION:Eagle Oaks Golf & Country Club\, 20 Shore Oaks Dr\, Farmingdale\, NJ\, 07727\, United States
CATEGORIES:Home Events,Tunnel to Towers National Golf Series
ATTACH;FMTTYPE=image/png:https://t2t.org/wp-content/uploads/2018/05/Fort-Myers-2.png
GEO:40.2168322;-74.1533519
X-APPLE-STRUCTURED-LOCATION;VALUE=URI;X-ADDRESS=Eagle Oaks Golf & Country Club 20 Shore Oaks Dr Farmingdale NJ 07727 United States;X-APPLE-RADIUS=500;X-TITLE=20 Shore Oaks Dr:geo:-74.1533519,40.2168322
END:VEVENT
BEGIN:VEVENT
DTSTART;VALUE=DATE:20170717
DTEND;VALUE=DATE:20170718
DTSTAMP:20260423T160810
CREATED:20170508T155304Z
LAST-MODIFIED:20240506T115831Z
UID:7712-1500249600-1500335999@t2t.org
SUMMARY:Golf Fore America's Bravest - New Jersey
DESCRIPTION:On Sept. 11\, 2001\, Stephen Siller\, a 34 year old firefighter\, took his final heroic steps as he ran with\nhis gear through the Brooklyn Battery Tunnel to the World Trade Center to help save others. Thousands of\nlives were saved that day\, but this was not to be Stephen’s destiny. The NYC 5K RUN & WALK traces the\nfootsteps he took on that fateful day. In running along his path\, the 16th annual run on September 24th\nnot only honors Stephen\, but also his firefighter brothers and all those who perished on 9/11. On that tragic summer’s day\, 9/11/01\, Stephen had just completed his scheduled tour with the FDNY\, and was traveling to meet his brothers to play a traditional round of golf. However\, he decided to go back and help others\, and unfortunately the innocence of an entire nation died that day. \nTo learn more about Golf Fore America’s Bravest Click Here \nClick Here to download the application for our 2017 New Jersey Golf Outing at Eagle Oaks.
URL:https://t2t.org/event/golf-fore-americas-bravest-new-jersey-3/
LOCATION:Eagle Oaks Golf & Country Club\, 20 Shore Oaks Dr\, Farmingdale\, NJ\, 07727\, United States
CATEGORIES:Initiatives
ORGANIZER;CN="Golf Fore America's Bravest":MAILTO:Golf@t2t.org
GEO:40.2168322;-74.1533519
X-APPLE-STRUCTURED-LOCATION;VALUE=URI;X-ADDRESS=Eagle Oaks Golf & Country Club 20 Shore Oaks Dr Farmingdale NJ 07727 United States;X-APPLE-RADIUS=500;X-TITLE=20 Shore Oaks Dr:geo:-74.1533519,40.2168322
END:VEVENT
BEGIN:VEVENT
DTSTART;VALUE=DATE:20160718
DTEND;VALUE=DATE:20160719
DTSTAMP:20260423T160810
CREATED:20160314T160421Z
LAST-MODIFIED:20240506T120409Z
UID:4157-1468800000-1468886399@t2t.org
SUMMARY:Golf Fore America's Bravest - New Jersey
DESCRIPTION:On Sept. 11\, 2001\, Stephen Siller\, a 34 year old firefighter\, took his final heroic steps as he ran with\nhis gear through the Brooklyn Battery Tunnel to the World Trade Center to help save others. Thousands of\nlives were saved that day\, but this was not to be Stephen’s destiny. The NYC 5K RUN & WALK traces the\nfootsteps he took on that fateful day. In running along his path\, the 13th annual run on September 28th\nnot only honors Stephen\, but also his firefighter brothers and all those who perished on 9/11. On that tragic summer’s day\, 9/11/01\, Stephen had just completed his scheduled tour with the FDNY\, and was traveling to meet his brothers to play a traditional round of golf. However\, he decided to go back and help others\, and unfortunately the innocence of an entire nation died that day. \nTo learn more about Golf Fore America’s Bravest Click Here \n Click Here to download the application for our 2016 New Jersey Golf Outing at Eagle Oaks.
URL:https://t2t.org/event/golf-fore-americas-bravest-new-jersey-2/
LOCATION:Eagle Oaks Golf & Country Club\, 20 Shore Oaks Dr\, Farmingdale\, NJ\, 07727\, United States
CATEGORIES:Initiatives
ORGANIZER;CN="Golf Fore America's Bravest":MAILTO:Golf@t2t.org
GEO:40.2168322;-74.1533519
X-APPLE-STRUCTURED-LOCATION;VALUE=URI;X-ADDRESS=Eagle Oaks Golf & Country Club 20 Shore Oaks Dr Farmingdale NJ 07727 United States;X-APPLE-RADIUS=500;X-TITLE=20 Shore Oaks Dr:geo:-74.1533519,40.2168322
END:VEVENT
BEGIN:VEVENT
DTSTART;TZID=America/New_York:20140804T110000
DTEND;TZID=America/New_York:20140804T203000
DTSTAMP:20260423T160810
CREATED:20140625T001023Z
LAST-MODIFIED:20240506T124125Z
UID:2366-1407150000-1407184200@t2t.org
SUMMARY:Golf Fore America's Bravest New Jersey
DESCRIPTION:On Sept. 11\, 2001\, Stephen Siller\, a 34 year old firefighter\, took his final heroic steps as he ran with\nhis gear through the Brooklyn Battery Tunnel to the World Trade Center to help save others. Thousands of\nlives were saved that day\, but this was not to be Stephen’s destiny. The NYC 5K RUN & WALK traces the\nfootsteps he took on that fateful day. In running along his path\, the 13th annual run on September 28th\nnot only honors Stephen\, but also his firefighter brothers and all those who perished on 9/11. On that tragic summer’s day\, 9/11/01\, Stephen had just completed his scheduled tour with the FDNY\, and was traveling to meet his brothers to play a traditional round of golf. However\, he decided to go back and help others\, and unfortunately the innocence of an entire nation died that day. \nTo learn more about Golf Fore America’s Bravest and/or to register for this event Click Here
URL:https://t2t.org/event/golf-fore-americas-bravest-new-jersey/
LOCATION:Eagle Oaks Golf & Country Club\, 20 Shore Oaks Dr\, Farmingdale\, NJ\, 07727\, United States
CATEGORIES:Initiatives
ORGANIZER;CN="Golf Fore America's Bravest":MAILTO:Golf@t2t.org
GEO:40.2168322;-74.1533519
X-APPLE-STRUCTURED-LOCATION;VALUE=URI;X-ADDRESS=Eagle Oaks Golf & Country Club 20 Shore Oaks Dr Farmingdale NJ 07727 United States;X-APPLE-RADIUS=500;X-TITLE=20 Shore Oaks Dr:geo:-74.1533519,40.2168322
END:VEVENT
END:VCALENDAR