BEGIN:VCALENDAR
VERSION:2.0
PRODID:-//Tunnel to Towers Foundation - ECPv6.15.17//NONSGML v1.0//EN
CALSCALE:GREGORIAN
METHOD:PUBLISH
X-WR-CALNAME:Tunnel to Towers Foundation
X-ORIGINAL-URL:https://t2t.org
X-WR-CALDESC:Events for Tunnel to Towers Foundation
REFRESH-INTERVAL;VALUE=DURATION:PT1H
X-Robots-Tag:noindex
X-PUBLISHED-TTL:PT1H
BEGIN:VTIMEZONE
TZID:America/New_York
BEGIN:DAYLIGHT
TZOFFSETFROM:-0500
TZOFFSETTO:-0400
TZNAME:EDT
DTSTART:20130310T070000
END:DAYLIGHT
BEGIN:STANDARD
TZOFFSETFROM:-0400
TZOFFSETTO:-0500
TZNAME:EST
DTSTART:20131103T060000
END:STANDARD
BEGIN:DAYLIGHT
TZOFFSETFROM:-0500
TZOFFSETTO:-0400
TZNAME:EDT
DTSTART:20140309T070000
END:DAYLIGHT
BEGIN:STANDARD
TZOFFSETFROM:-0400
TZOFFSETTO:-0500
TZNAME:EST
DTSTART:20141102T060000
END:STANDARD
BEGIN:DAYLIGHT
TZOFFSETFROM:-0500
TZOFFSETTO:-0400
TZNAME:EDT
DTSTART:20150308T070000
END:DAYLIGHT
BEGIN:STANDARD
TZOFFSETFROM:-0400
TZOFFSETTO:-0500
TZNAME:EST
DTSTART:20151101T060000
END:STANDARD
BEGIN:DAYLIGHT
TZOFFSETFROM:-0500
TZOFFSETTO:-0400
TZNAME:EDT
DTSTART:20160313T070000
END:DAYLIGHT
BEGIN:STANDARD
TZOFFSETFROM:-0400
TZOFFSETTO:-0500
TZNAME:EST
DTSTART:20161106T060000
END:STANDARD
BEGIN:DAYLIGHT
TZOFFSETFROM:-0500
TZOFFSETTO:-0400
TZNAME:EDT
DTSTART:20170312T070000
END:DAYLIGHT
BEGIN:STANDARD
TZOFFSETFROM:-0400
TZOFFSETTO:-0500
TZNAME:EST
DTSTART:20171105T060000
END:STANDARD
BEGIN:DAYLIGHT
TZOFFSETFROM:-0500
TZOFFSETTO:-0400
TZNAME:EDT
DTSTART:20180311T070000
END:DAYLIGHT
BEGIN:STANDARD
TZOFFSETFROM:-0400
TZOFFSETTO:-0500
TZNAME:EST
DTSTART:20181104T060000
END:STANDARD
BEGIN:DAYLIGHT
TZOFFSETFROM:-0500
TZOFFSETTO:-0400
TZNAME:EDT
DTSTART:20190310T070000
END:DAYLIGHT
BEGIN:STANDARD
TZOFFSETFROM:-0400
TZOFFSETTO:-0500
TZNAME:EST
DTSTART:20191103T060000
END:STANDARD
BEGIN:DAYLIGHT
TZOFFSETFROM:-0500
TZOFFSETTO:-0400
TZNAME:EDT
DTSTART:20200308T070000
END:DAYLIGHT
BEGIN:STANDARD
TZOFFSETFROM:-0400
TZOFFSETTO:-0500
TZNAME:EST
DTSTART:20201101T060000
END:STANDARD
BEGIN:DAYLIGHT
TZOFFSETFROM:-0500
TZOFFSETTO:-0400
TZNAME:EDT
DTSTART:20210314T070000
END:DAYLIGHT
BEGIN:STANDARD
TZOFFSETFROM:-0400
TZOFFSETTO:-0500
TZNAME:EST
DTSTART:20211107T060000
END:STANDARD
BEGIN:DAYLIGHT
TZOFFSETFROM:-0500
TZOFFSETTO:-0400
TZNAME:EDT
DTSTART:20220313T070000
END:DAYLIGHT
BEGIN:STANDARD
TZOFFSETFROM:-0400
TZOFFSETTO:-0500
TZNAME:EST
DTSTART:20221106T060000
END:STANDARD
BEGIN:DAYLIGHT
TZOFFSETFROM:-0500
TZOFFSETTO:-0400
TZNAME:EDT
DTSTART:20230312T070000
END:DAYLIGHT
BEGIN:STANDARD
TZOFFSETFROM:-0400
TZOFFSETTO:-0500
TZNAME:EST
DTSTART:20231105T060000
END:STANDARD
BEGIN:DAYLIGHT
TZOFFSETFROM:-0500
TZOFFSETTO:-0400
TZNAME:EDT
DTSTART:20240310T070000
END:DAYLIGHT
BEGIN:STANDARD
TZOFFSETFROM:-0400
TZOFFSETTO:-0500
TZNAME:EST
DTSTART:20241103T060000
END:STANDARD
BEGIN:DAYLIGHT
TZOFFSETFROM:-0500
TZOFFSETTO:-0400
TZNAME:EDT
DTSTART:20250309T070000
END:DAYLIGHT
BEGIN:STANDARD
TZOFFSETFROM:-0400
TZOFFSETTO:-0500
TZNAME:EST
DTSTART:20251102T060000
END:STANDARD
BEGIN:DAYLIGHT
TZOFFSETFROM:-0500
TZOFFSETTO:-0400
TZNAME:EDT
DTSTART:20260308T070000
END:DAYLIGHT
BEGIN:STANDARD
TZOFFSETFROM:-0400
TZOFFSETTO:-0500
TZNAME:EST
DTSTART:20261101T060000
END:STANDARD
END:VTIMEZONE
BEGIN:VEVENT
DTSTART;TZID=America/New_York:20250906T070000
DTEND;TZID=America/New_York:20250906T070000
DTSTAMP:20260423T122526
CREATED:20250306T175804Z
LAST-MODIFIED:20250306T175804Z
UID:61299-1757142000-1757142000@t2t.org
SUMMARY:2025 Tunnel to Towers 5K Run & Walk Orlando
DESCRIPTION:
URL:https://t2t.org/event/2025-tunnel-to-towers-5k-run-walk-orlando/
LOCATION:Cranes Roost Park\, 274 Cranes Roost Blvd.\, Altamonte Springs \, FL\, 32701\, United States
CATEGORIES:5K Run & Walk Event,Florida
ATTACH;FMTTYPE=image/png:https://t2t.org/wp-content/uploads/2025/03/2025-Orlando.png
ORGANIZER;CN="T2T Orlando":MAILTO:Orlando@t2t.org
GEO:28.6660475;-81.3835923
X-APPLE-STRUCTURED-LOCATION;VALUE=URI;X-ADDRESS=Cranes Roost Park 274 Cranes Roost Blvd. Altamonte Springs  FL 32701 United States;X-APPLE-RADIUS=500;X-TITLE=274 Cranes Roost Blvd.:geo:-81.3835923,28.6660475
END:VEVENT
BEGIN:VEVENT
DTSTART;TZID=America/New_York:20240907T073000
DTEND;TZID=America/New_York:20240907T073000
DTSTAMP:20260423T122526
CREATED:20240307T164905Z
LAST-MODIFIED:20240307T164905Z
UID:55475-1725694200-1725694200@t2t.org
SUMMARY:2024 Tunnel to Towers 5K Run & Walk Orlando
DESCRIPTION:
URL:https://t2t.org/event/2024-tunnel-to-towers-5k-run-walk-orlando/
LOCATION:Cranes Roost Park\, 274 Cranes Roost Blvd.\, Altamonte Springs \, FL\, 32701\, United States
CATEGORIES:5K Run & Walk Event,Florida
ATTACH;FMTTYPE=image/jpeg:https://t2t.org/wp-content/uploads/2024/03/2024-Orlando.jpg
ORGANIZER;CN="T2T Orlando":MAILTO:Orlando@t2t.org
GEO:28.6660475;-81.3835923
X-APPLE-STRUCTURED-LOCATION;VALUE=URI;X-ADDRESS=Cranes Roost Park 274 Cranes Roost Blvd. Altamonte Springs  FL 32701 United States;X-APPLE-RADIUS=500;X-TITLE=274 Cranes Roost Blvd.:geo:-81.3835923,28.6660475
END:VEVENT
BEGIN:VEVENT
DTSTART;TZID=America/New_York:20230909T070000
DTEND;TZID=America/New_York:20230909T070000
DTSTAMP:20260423T122526
CREATED:20230316T205444Z
LAST-MODIFIED:20240424T150823Z
UID:36189-1694242800-1694242800@t2t.org
SUMMARY:2023 Tunnel to Towers 5K Run & Walk Orlando
DESCRIPTION:
URL:https://t2t.org/event/2023-tunnel-to-towers-5k-run-walk-orlando/
LOCATION:Cranes Roost Park\, 274 Cranes Roost Blvd.\, Altamonte Springs \, FL\, 32701\, United States
CATEGORIES:5K Run & Walk Event,Florida
ATTACH;FMTTYPE=image/jpeg:https://t2t.org/wp-content/uploads/2023/03/2023-Thumbnails-Orlando.jpg
ORGANIZER;CN="T2T Orlando":MAILTO:Orlando@t2t.org
GEO:28.6660475;-81.3835923
X-APPLE-STRUCTURED-LOCATION;VALUE=URI;X-ADDRESS=Cranes Roost Park 274 Cranes Roost Blvd. Altamonte Springs  FL 32701 United States;X-APPLE-RADIUS=500;X-TITLE=274 Cranes Roost Blvd.:geo:-81.3835923,28.6660475
END:VEVENT
BEGIN:VEVENT
DTSTART;TZID=America/New_York:20220910T073000
DTEND;TZID=America/New_York:20220910T073000
DTSTAMP:20260423T122526
CREATED:20220318T183719Z
LAST-MODIFIED:20220318T183719Z
UID:30147-1662795000-1662795000@t2t.org
SUMMARY:2022 Tunnel to Towers 5K Run & Walk Orlando
DESCRIPTION:
URL:https://t2t.org/event/2022-tunnel-to-towers-5k-run-walk-orlando/
LOCATION:Cranes Roost Park\, 274 Cranes Roost Blvd.\, Altamonte Springs \, FL\, 32701\, United States
CATEGORIES:5K Run & Walk Event,Florida
ATTACH;FMTTYPE=image/jpeg:https://t2t.org/wp-content/uploads/2017/07/2022-Orlando-Run-Thumbnail.jpg
ORGANIZER;CN="T2T Orlando":MAILTO:Orlando@t2t.org
GEO:28.6660475;-81.3835923
X-APPLE-STRUCTURED-LOCATION;VALUE=URI;X-ADDRESS=Cranes Roost Park 274 Cranes Roost Blvd. Altamonte Springs  FL 32701 United States;X-APPLE-RADIUS=500;X-TITLE=274 Cranes Roost Blvd.:geo:-81.3835923,28.6660475
END:VEVENT
BEGIN:VEVENT
DTSTART;TZID=America/New_York:20210911T070000
DTEND;TZID=America/New_York:20210911T070000
DTSTAMP:20260423T122527
CREATED:20210506T150019Z
LAST-MODIFIED:20210711T020835Z
UID:21733-1631343600-1631343600@t2t.org
SUMMARY:2021 Tunnel to Towers 5K Run & Walk Orlando
DESCRIPTION:
URL:https://t2t.org/event/2021-tunnel-to-towers-tower-climb-orlando/
LOCATION:Cranes Roost Park\, 274 Cranes Roost Blvd.\, Altamonte Springs \, FL\, 32701\, United States
CATEGORIES:5K Run & Walk Event,Florida
ATTACH;FMTTYPE=image/png:https://t2t.org/wp-content/uploads/2017/07/2021-Orlando.png
ORGANIZER;CN="T2T Orlando":MAILTO:Orlando@t2t.org
GEO:28.6660475;-81.3835923
X-APPLE-STRUCTURED-LOCATION;VALUE=URI;X-ADDRESS=Cranes Roost Park 274 Cranes Roost Blvd. Altamonte Springs  FL 32701 United States;X-APPLE-RADIUS=500;X-TITLE=274 Cranes Roost Blvd.:geo:-81.3835923,28.6660475
END:VEVENT
BEGIN:VEVENT
DTSTART;TZID=America/New_York:20200912T073000
DTEND;TZID=America/New_York:20200912T073000
DTSTAMP:20260423T122527
CREATED:20200205T191112Z
LAST-MODIFIED:20210711T020826Z
UID:17114-1599895800-1599895800@t2t.org
SUMMARY:2020 Tunnel to Towers 5K Run & Walk Orlando
DESCRIPTION:
URL:https://t2t.org/event/2020-tunnel-to-towers-tower-climb-orlando/
LOCATION:Cranes Roost Park\, 274 Cranes Roost Blvd.\, Altamonte Springs \, FL\, 32701\, United States
CATEGORIES:5K Run & Walk Event,Florida
ATTACH;FMTTYPE=image/png:https://t2t.org/wp-content/uploads/2017/07/Postponed-Thumbnail-Orlando.png
ORGANIZER;CN="T2T Orlando":MAILTO:Orlando@t2t.org
GEO:28.6660475;-81.3835923
X-APPLE-STRUCTURED-LOCATION;VALUE=URI;X-ADDRESS=Cranes Roost Park 274 Cranes Roost Blvd. Altamonte Springs  FL 32701 United States;X-APPLE-RADIUS=500;X-TITLE=274 Cranes Roost Blvd.:geo:-81.3835923,28.6660475
END:VEVENT
BEGIN:VEVENT
DTSTART;VALUE=DATE:20150912
DTEND;VALUE=DATE:20150913
DTSTAMP:20260423T122527
CREATED:20150403T200233Z
LAST-MODIFIED:20150403T200233Z
UID:3296-1442016000-1442102399@t2t.org
SUMMARY:2015 Tunnel To Towers 5K Run & Walk Orlando
DESCRIPTION:
URL:https://t2t.org/event/2015-tunnel-towers-5k-run-walk-orlando/
LOCATION:Cranes Roost Park\, 274 Cranes Roost Blvd.\, Altamonte Springs \, FL\, 32701\, United States
CATEGORIES:5K Run & Walk Event
ORGANIZER;CN="T2T Orlando":MAILTO:Orlando@t2t.org
GEO:28.6660475;-81.3835923
X-APPLE-STRUCTURED-LOCATION;VALUE=URI;X-ADDRESS=Cranes Roost Park 274 Cranes Roost Blvd. Altamonte Springs  FL 32701 United States;X-APPLE-RADIUS=500;X-TITLE=274 Cranes Roost Blvd.:geo:-81.3835923,28.6660475
END:VEVENT
BEGIN:VEVENT
DTSTART;TZID=America/New_York:20140906T073000
DTEND;TZID=America/New_York:20140906T073000
DTSTAMP:20260423T122527
CREATED:20140221T202851Z
LAST-MODIFIED:20140221T202851Z
UID:1874-1409988600-1409988600@t2t.org
SUMMARY:Tunnel To Towers 5K Run & Walk Orlando
DESCRIPTION:
URL:https://t2t.org/event/tunnel-to-towers-5k-run-walk-orlando/
LOCATION:Cranes Roost Park\, 274 Cranes Roost Blvd.\, Altamonte Springs \, FL\, 32701\, United States
CATEGORIES:5K Run & Walk Event
ORGANIZER;CN="T2T Orlando":MAILTO:Orlando@t2t.org
GEO:28.6660475;-81.3835923
X-APPLE-STRUCTURED-LOCATION;VALUE=URI;X-ADDRESS=Cranes Roost Park 274 Cranes Roost Blvd. Altamonte Springs  FL 32701 United States;X-APPLE-RADIUS=500;X-TITLE=274 Cranes Roost Blvd.:geo:-81.3835923,28.6660475
END:VEVENT
END:VCALENDAR