BEGIN:VCALENDAR
VERSION:2.0
PRODID:-//Tunnel to Towers Foundation - ECPv6.15.17//NONSGML v1.0//EN
CALSCALE:GREGORIAN
METHOD:PUBLISH
X-WR-CALNAME:Tunnel to Towers Foundation
X-ORIGINAL-URL:https://t2t.org
X-WR-CALDESC:Events for Tunnel to Towers Foundation
REFRESH-INTERVAL;VALUE=DURATION:PT1H
X-Robots-Tag:noindex
X-PUBLISHED-TTL:PT1H
BEGIN:VTIMEZONE
TZID:America/New_York
BEGIN:DAYLIGHT
TZOFFSETFROM:-0500
TZOFFSETTO:-0400
TZNAME:EDT
DTSTART:20220313T070000
END:DAYLIGHT
BEGIN:STANDARD
TZOFFSETFROM:-0400
TZOFFSETTO:-0500
TZNAME:EST
DTSTART:20221106T060000
END:STANDARD
BEGIN:DAYLIGHT
TZOFFSETFROM:-0500
TZOFFSETTO:-0400
TZNAME:EDT
DTSTART:20230312T070000
END:DAYLIGHT
BEGIN:STANDARD
TZOFFSETFROM:-0400
TZOFFSETTO:-0500
TZNAME:EST
DTSTART:20231105T060000
END:STANDARD
BEGIN:DAYLIGHT
TZOFFSETFROM:-0500
TZOFFSETTO:-0400
TZNAME:EDT
DTSTART:20240310T070000
END:DAYLIGHT
BEGIN:STANDARD
TZOFFSETFROM:-0400
TZOFFSETTO:-0500
TZNAME:EST
DTSTART:20241103T060000
END:STANDARD
BEGIN:DAYLIGHT
TZOFFSETFROM:-0500
TZOFFSETTO:-0400
TZNAME:EDT
DTSTART:20250309T070000
END:DAYLIGHT
BEGIN:STANDARD
TZOFFSETFROM:-0400
TZOFFSETTO:-0500
TZNAME:EST
DTSTART:20251102T060000
END:STANDARD
END:VTIMEZONE
BEGIN:VTIMEZONE
TZID:UTC
BEGIN:STANDARD
TZOFFSETFROM:+0000
TZOFFSETTO:+0000
TZNAME:UTC
DTSTART:20200101T000000
END:STANDARD
END:VTIMEZONE
BEGIN:VEVENT
DTSTART;TZID=America/New_York:20241019T083000
DTEND;TZID=America/New_York:20241019T083000
DTSTAMP:20260425T141844
CREATED:20240530T161803Z
LAST-MODIFIED:20240530T161803Z
UID:57363-1729326600-1729326600@t2t.org
SUMMARY:2024 Tunnel to Towers 5K Run & Walk The Triangle
DESCRIPTION:
URL:https://t2t.org/event/2024-tunnel-to-towers-5k-run-walk-the-triangle/
LOCATION:American Legion Post\, 225 Holding Ave\, Wake Forest\, NC\, 27587\, United States
CATEGORIES:5K Run & Walk Event,North Carolina
ATTACH;FMTTYPE=image/jpeg:https://t2t.org/wp-content/uploads/2024/05/2024-Online-Graphic-Triangle-NC.jpg
ORGANIZER;CN="T2T The Triangle":MAILTO:Triangle@t2t.org
END:VEVENT
BEGIN:VEVENT
DTSTART;TZID=America/New_York:20231007T083000
DTEND;TZID=America/New_York:20231007T170000
DTSTAMP:20260425T141844
CREATED:20230906T010641Z
LAST-MODIFIED:20240411T213111Z
UID:51159-1696667400-1696698000@t2t.org
SUMMARY:2023 Tunnel to Towers 5K Run & Walk The Triangle
DESCRIPTION:OCTOBER 7 @ 8:30 AM
URL:https://t2t.org/event/2023-tunnel-to-towers-5k-run-walk-the-triangle/
LOCATION:American Legion Post\, 225 Holding Ave\, Wake Forest\, NC\, 27587\, United States
CATEGORIES:5K Run & Walk Event,North Carolina
ATTACH;FMTTYPE=image/jpeg:https://t2t.org/wp-content/uploads/2023/09/2023-Thumbnails-Triangle.jpg
ORGANIZER;CN="T2T The Triangle":MAILTO:Triangle@t2t.org
END:VEVENT
BEGIN:VEVENT
DTSTART;TZID=UTC:20221008T083000
DTEND;TZID=UTC:20221008T083000
DTSTAMP:20260425T141844
CREATED:20220519T161839Z
LAST-MODIFIED:20240506T121954Z
UID:31317-1665217800-1665217800@t2t.org
SUMMARY:2022 Tunnel to Towers 5K Run & Walk The Triangle
DESCRIPTION:
URL:https://t2t.org/event/2022-tunnel-to-towers-5k-run-walk-the-triangle/
LOCATION:American Legion Post\, 225 Holding Ave\, Wake Forest\, NC\, 27587\, United States
CATEGORIES:5K Run & Walk Event,North Carolina
ATTACH;FMTTYPE=image/jpeg:https://t2t.org/wp-content/uploads/2018/06/2022-Trinagle-Run-Thumbnail.jpg
ORGANIZER;CN="T2T The Triangle":MAILTO:Triangle@t2t.org
END:VEVENT
BEGIN:VEVENT
DTSTART;TZID=UTC:20211009T083000
DTEND;TZID=UTC:20211009T083000
DTSTAMP:20260425T141844
CREATED:20210713T172638Z
LAST-MODIFIED:20240506T123316Z
UID:23804-1633768200-1633768200@t2t.org
SUMMARY:2021 Tunnel to Towers 5K Run & Walk The Triangle
DESCRIPTION:
URL:https://t2t.org/event/2021-tunnel-to-towers-5k-run-walk-the-triangle/
LOCATION:American Legion Post\, 225 Holding Ave\, Wake Forest\, NC\, 27587\, United States
CATEGORIES:5K Run & Walk Event,North Carolina
ATTACH;FMTTYPE=image/png:https://t2t.org/wp-content/uploads/2018/06/2021-The-Triangle.png
ORGANIZER;CN="T2T The Triangle":MAILTO:Triangle@t2t.org
END:VEVENT
END:VCALENDAR