BEGIN:VCALENDAR
VERSION:2.0
PRODID:-//Tunnel to Towers Foundation - ECPv6.15.17//NONSGML v1.0//EN
CALSCALE:GREGORIAN
METHOD:PUBLISH
X-ORIGINAL-URL:https://t2t.org
X-WR-CALDESC:Events for Tunnel to Towers Foundation
REFRESH-INTERVAL;VALUE=DURATION:PT1H
X-Robots-Tag:noindex
X-PUBLISHED-TTL:PT1H
BEGIN:VTIMEZONE
TZID:UTC
BEGIN:STANDARD
TZOFFSETFROM:+0000
TZOFFSETTO:+0000
TZNAME:UTC
DTSTART:20190101T000000
END:STANDARD
END:VTIMEZONE
BEGIN:VTIMEZONE
TZID:America/New_York
BEGIN:DAYLIGHT
TZOFFSETFROM:-0500
TZOFFSETTO:-0400
TZNAME:EDT
DTSTART:20130310T070000
END:DAYLIGHT
BEGIN:STANDARD
TZOFFSETFROM:-0400
TZOFFSETTO:-0500
TZNAME:EST
DTSTART:20131103T060000
END:STANDARD
BEGIN:DAYLIGHT
TZOFFSETFROM:-0500
TZOFFSETTO:-0400
TZNAME:EDT
DTSTART:20140309T070000
END:DAYLIGHT
BEGIN:STANDARD
TZOFFSETFROM:-0400
TZOFFSETTO:-0500
TZNAME:EST
DTSTART:20141102T060000
END:STANDARD
BEGIN:DAYLIGHT
TZOFFSETFROM:-0500
TZOFFSETTO:-0400
TZNAME:EDT
DTSTART:20150308T070000
END:DAYLIGHT
BEGIN:STANDARD
TZOFFSETFROM:-0400
TZOFFSETTO:-0500
TZNAME:EST
DTSTART:20151101T060000
END:STANDARD
BEGIN:DAYLIGHT
TZOFFSETFROM:-0500
TZOFFSETTO:-0400
TZNAME:EDT
DTSTART:20160313T070000
END:DAYLIGHT
BEGIN:STANDARD
TZOFFSETFROM:-0400
TZOFFSETTO:-0500
TZNAME:EST
DTSTART:20161106T060000
END:STANDARD
END:VTIMEZONE
BEGIN:VEVENT
DTSTART;TZID=UTC:20250906T071500
DTEND;TZID=UTC:20250906T073000
DTSTAMP:20260422T232556
CREATED:20250529T170629Z
LAST-MODIFIED:20250530T140750Z
UID:62391-1757142900-1757143800@t2t.org
SUMMARY:2025 Tunnel to Towers 5K Run & Walk Vero Beach
DESCRIPTION:
URL:https://t2t.org/event/2025-tunnel-to-towers-5k-run-walk-vero-beach/
LOCATION:Riverside Park\, 3001 Riverside Park Dr.\, Vero Beach\, FL\, 32963\, United States
CATEGORIES:5K Run & Walk Event,Florida
ATTACH;FMTTYPE=image/jpeg:https://t2t.org/wp-content/uploads/2025/05/Vero-Beach-Thumbnails.jpg
ORGANIZER;CN="T2T Vero Beach":MAILTO:VeroBeach@t2t.org
GEO:27.649836;-80.3668989
X-APPLE-STRUCTURED-LOCATION;VALUE=URI;X-ADDRESS=Riverside Park 3001 Riverside Park Dr. Vero Beach FL 32963 United States;X-APPLE-RADIUS=500;X-TITLE=3001 Riverside Park Dr.:geo:-80.3668989,27.649836
END:VEVENT
BEGIN:VEVENT
DTSTART;TZID=UTC:20240907T073000
DTEND;TZID=UTC:20240907T073000
DTSTAMP:20260422T232556
CREATED:20240418T171015Z
LAST-MODIFIED:20240418T175331Z
UID:56360-1725694200-1725694200@t2t.org
SUMMARY:2024 Tunnel to Towers 5K Run & Walk Vero Beach
DESCRIPTION:
URL:https://t2t.org/event/2024-tunnel-to-towers-5k-run-walk-vero-beach/
LOCATION:Riverside Park\, 3001 Riverside Park Dr.\, Vero Beach\, FL\, 32963\, United States
CATEGORIES:5K Run & Walk Event,Florida
ATTACH;FMTTYPE=image/png:https://t2t.org/wp-content/uploads/2024/04/2024-Vero-Beach.png
ORGANIZER;CN="T2T Vero Beach":MAILTO:VeroBeach@t2t.org
GEO:27.649836;-80.3668989
X-APPLE-STRUCTURED-LOCATION;VALUE=URI;X-ADDRESS=Riverside Park 3001 Riverside Park Dr. Vero Beach FL 32963 United States;X-APPLE-RADIUS=500;X-TITLE=3001 Riverside Park Dr.:geo:-80.3668989,27.649836
END:VEVENT
BEGIN:VEVENT
DTSTART;TZID=UTC:20230909T071500
DTEND;TZID=UTC:20230909T071500
DTSTAMP:20260422T232556
CREATED:20230518T185435Z
LAST-MODIFIED:20240411T214004Z
UID:36997-1694243700-1694243700@t2t.org
SUMMARY:2023 Tunnel to Towers 5K Run & Walk Vero Beach
DESCRIPTION:
URL:https://t2t.org/event/2023-tunnel-to-towers-5k-run-walk-vero-beach/
LOCATION:Riverside Park\, 3001 Riverside Park Dr.\, Vero Beach\, FL\, 32963\, United States
CATEGORIES:5K Run & Walk Event,Florida
ATTACH;FMTTYPE=image/jpeg:https://t2t.org/wp-content/uploads/2022/01/2023-Thumbnails-Vero-Beach.jpg
ORGANIZER;CN="T2T Vero Beach":MAILTO:VeroBeach@t2t.org
GEO:27.649836;-80.3668989
X-APPLE-STRUCTURED-LOCATION;VALUE=URI;X-ADDRESS=Riverside Park 3001 Riverside Park Dr. Vero Beach FL 32963 United States;X-APPLE-RADIUS=500;X-TITLE=3001 Riverside Park Dr.:geo:-80.3668989,27.649836
END:VEVENT
BEGIN:VEVENT
DTSTART;TZID=UTC:20220910T071500
DTEND;TZID=UTC:20220910T071500
DTSTAMP:20260422T232556
CREATED:20220120T194504Z
LAST-MODIFIED:20240506T122613Z
UID:29302-1662794100-1662794100@t2t.org
SUMMARY:2022 Tunnel to Towers 5K Run & Walk Vero Beach
DESCRIPTION:
URL:https://t2t.org/event/2022-tunnel-to-towers-5k-run-walk-vero-beach/
LOCATION:Riverside Park\, 3001 Riverside Park Dr.\, Vero Beach\, FL\, 32963\, United States
CATEGORIES:5K Run & Walk Event,Florida
ATTACH;FMTTYPE=image/jpeg:https://t2t.org/wp-content/uploads/2017/07/2022-Vero-Beach-Run-Thumbnail-1.jpg
ORGANIZER;CN="T2T Vero Beach":MAILTO:VeroBeach@t2t.org
GEO:27.649836;-80.3668989
X-APPLE-STRUCTURED-LOCATION;VALUE=URI;X-ADDRESS=Riverside Park 3001 Riverside Park Dr. Vero Beach FL 32963 United States;X-APPLE-RADIUS=500;X-TITLE=3001 Riverside Park Dr.:geo:-80.3668989,27.649836
END:VEVENT
BEGIN:VEVENT
DTSTART;TZID=UTC:20210911T071500
DTEND;TZID=UTC:20210911T071500
DTSTAMP:20260422T232556
CREATED:20210504T190733Z
LAST-MODIFIED:20240506T122143Z
UID:21722-1631344500-1631344500@t2t.org
SUMMARY:2021 Tunnel to Towers 5K Run & Walk Vero Beach
DESCRIPTION:
URL:https://t2t.org/event/2021-tunnel-towers-5k-run-walk-vero-beach/
LOCATION:Riverside Park\, 3001 Riverside Park Dr.\, Vero Beach\, FL\, 32963\, United States
CATEGORIES:5K Run & Walk Event,Florida
ATTACH;FMTTYPE=image/png:https://t2t.org/wp-content/uploads/2021/05/2021-Vero-Beach.png
ORGANIZER;CN="T2T Vero Beach":MAILTO:VeroBeach@t2t.org
GEO:27.649836;-80.3668989
X-APPLE-STRUCTURED-LOCATION;VALUE=URI;X-ADDRESS=Riverside Park 3001 Riverside Park Dr. Vero Beach FL 32963 United States;X-APPLE-RADIUS=500;X-TITLE=3001 Riverside Park Dr.:geo:-80.3668989,27.649836
END:VEVENT
BEGIN:VEVENT
DTSTART;TZID=UTC:20200912T073000
DTEND;TZID=UTC:20200912T073000
DTSTAMP:20260422T232556
CREATED:20200313T152129Z
LAST-MODIFIED:20240506T122018Z
UID:17805-1599895800-1599895800@t2t.org
SUMMARY:2020 Tunnel to Towers 5K Run & Walk Vero Beach
DESCRIPTION:
URL:https://t2t.org/event/2020-tunnel-towers-5k-run-walk-vero-beach/
LOCATION:Riverside Park\, 3001 Riverside Park Dr.\, Vero Beach\, FL\, 32963\, United States
CATEGORIES:5K Run & Walk Event,Florida
ATTACH;FMTTYPE=image/png:https://t2t.org/wp-content/uploads/2020/03/Postponed-Thumbnail-Vero-Beach.png
ORGANIZER;CN="T2T Vero Beach":MAILTO:VeroBeach@t2t.org
GEO:27.649836;-80.3668989
X-APPLE-STRUCTURED-LOCATION;VALUE=URI;X-ADDRESS=Riverside Park 3001 Riverside Park Dr. Vero Beach FL 32963 United States;X-APPLE-RADIUS=500;X-TITLE=3001 Riverside Park Dr.:geo:-80.3668989,27.649836
END:VEVENT
BEGIN:VEVENT
DTSTART;VALUE=DATE:20150912
DTEND;VALUE=DATE:20150913
DTSTAMP:20260422T232556
CREATED:20150403T200238Z
LAST-MODIFIED:20240506T121236Z
UID:3299-1442016000-1442102399@t2t.org
SUMMARY:2015 Tunnel To Towers 5K Run & Walk Vero Beach
DESCRIPTION:
URL:https://t2t.org/event/2015-tunnel-towers-5k-run-walk-vero-beach/
LOCATION:Riverside Park\, 3001 Riverside Park Dr.\, Vero Beach\, FL\, 32963\, United States
CATEGORIES:5K Run & Walk Event
ORGANIZER;CN="T2T Vero Beach":MAILTO:VeroBeach@t2t.org
GEO:27.649836;-80.3668989
X-APPLE-STRUCTURED-LOCATION;VALUE=URI;X-ADDRESS=Riverside Park 3001 Riverside Park Dr. Vero Beach FL 32963 United States;X-APPLE-RADIUS=500;X-TITLE=3001 Riverside Park Dr.:geo:-80.3668989,27.649836
END:VEVENT
BEGIN:VEVENT
DTSTART;TZID=America/New_York:20140906T073000
DTEND;TZID=America/New_York:20140906T073000
DTSTAMP:20260422T232556
CREATED:20140221T202851Z
LAST-MODIFIED:20240506T124115Z
UID:1877-1409988600-1409988600@t2t.org
SUMMARY:Tunnel To Towers 5K Run & Walk Vero Beach
DESCRIPTION:
URL:https://t2t.org/event/tunnel-to-towers-5k-run-walk-vero-beach/
LOCATION:Riverside Park\, 3001 Riverside Park Dr.\, Vero Beach\, FL\, 32963\, United States
CATEGORIES:5K Run & Walk Event
ORGANIZER;CN="T2T Vero Beach":MAILTO:VeroBeach@t2t.org
GEO:27.649836;-80.3668989
X-APPLE-STRUCTURED-LOCATION;VALUE=URI;X-ADDRESS=Riverside Park 3001 Riverside Park Dr. Vero Beach FL 32963 United States;X-APPLE-RADIUS=500;X-TITLE=3001 Riverside Park Dr.:geo:-80.3668989,27.649836
END:VEVENT
END:VCALENDAR