BEGIN:VCALENDAR
VERSION:2.0
PRODID:-//Tunnel to Towers Foundation - ECPv6.15.17//NONSGML v1.0//EN
CALSCALE:GREGORIAN
METHOD:PUBLISH
X-ORIGINAL-URL:https://t2t.org
X-WR-CALDESC:Events for Tunnel to Towers Foundation
REFRESH-INTERVAL;VALUE=DURATION:PT1H
X-Robots-Tag:noindex
X-PUBLISHED-TTL:PT1H
BEGIN:VTIMEZONE
TZID:America/New_York
BEGIN:DAYLIGHT
TZOFFSETFROM:-0500
TZOFFSETTO:-0400
TZNAME:EDT
DTSTART:20190310T070000
END:DAYLIGHT
BEGIN:STANDARD
TZOFFSETFROM:-0400
TZOFFSETTO:-0500
TZNAME:EST
DTSTART:20191103T060000
END:STANDARD
BEGIN:DAYLIGHT
TZOFFSETFROM:-0500
TZOFFSETTO:-0400
TZNAME:EDT
DTSTART:20200308T070000
END:DAYLIGHT
BEGIN:STANDARD
TZOFFSETFROM:-0400
TZOFFSETTO:-0500
TZNAME:EST
DTSTART:20201101T060000
END:STANDARD
BEGIN:DAYLIGHT
TZOFFSETFROM:-0500
TZOFFSETTO:-0400
TZNAME:EDT
DTSTART:20210314T070000
END:DAYLIGHT
BEGIN:STANDARD
TZOFFSETFROM:-0400
TZOFFSETTO:-0500
TZNAME:EST
DTSTART:20211107T060000
END:STANDARD
BEGIN:DAYLIGHT
TZOFFSETFROM:-0500
TZOFFSETTO:-0400
TZNAME:EDT
DTSTART:20220313T070000
END:DAYLIGHT
BEGIN:STANDARD
TZOFFSETFROM:-0400
TZOFFSETTO:-0500
TZNAME:EST
DTSTART:20221106T060000
END:STANDARD
BEGIN:DAYLIGHT
TZOFFSETFROM:-0500
TZOFFSETTO:-0400
TZNAME:EDT
DTSTART:20230312T070000
END:DAYLIGHT
BEGIN:STANDARD
TZOFFSETFROM:-0400
TZOFFSETTO:-0500
TZNAME:EST
DTSTART:20231105T060000
END:STANDARD
BEGIN:DAYLIGHT
TZOFFSETFROM:-0500
TZOFFSETTO:-0400
TZNAME:EDT
DTSTART:20240310T070000
END:DAYLIGHT
BEGIN:STANDARD
TZOFFSETFROM:-0400
TZOFFSETTO:-0500
TZNAME:EST
DTSTART:20241103T060000
END:STANDARD
BEGIN:DAYLIGHT
TZOFFSETFROM:-0500
TZOFFSETTO:-0400
TZNAME:EDT
DTSTART:20250309T070000
END:DAYLIGHT
BEGIN:STANDARD
TZOFFSETFROM:-0400
TZOFFSETTO:-0500
TZNAME:EST
DTSTART:20251102T060000
END:STANDARD
BEGIN:DAYLIGHT
TZOFFSETFROM:-0500
TZOFFSETTO:-0400
TZNAME:EDT
DTSTART:20260308T070000
END:DAYLIGHT
BEGIN:STANDARD
TZOFFSETFROM:-0400
TZOFFSETTO:-0500
TZNAME:EST
DTSTART:20261101T060000
END:STANDARD
END:VTIMEZONE
BEGIN:VEVENT
DTSTART;TZID=America/New_York:20250913T080000
DTEND;TZID=America/New_York:20250913T080000
DTSTAMP:20260423T141229
CREATED:20250403T143359Z
LAST-MODIFIED:20250403T143359Z
UID:61587-1757750400-1757750400@t2t.org
SUMMARY:2025 Tunnel to Towers 5K Run & Walk Northern Kentucky
DESCRIPTION:
URL:https://t2t.org/event/2025-tunnel-to-towers-5k-run-walk-northern-kentucky/
LOCATION:Lou Hartfiel Park\, 800 Buttermilk Pike\, Crescent Springs\, KY\, 41017\, United States
CATEGORIES:5K Run & Walk Event,Kentucky
ATTACH;FMTTYPE=image/png:https://t2t.org/wp-content/uploads/2025/04/2025-Northern-KY.png
ORGANIZER;CN="T2T Northern Kentucky":MAILTO:NorthernKentucky@t2t.org
GEO:39.056532;-84.584699
X-APPLE-STRUCTURED-LOCATION;VALUE=URI;X-ADDRESS=Lou Hartfiel Park 800 Buttermilk Pike Crescent Springs KY 41017 United States;X-APPLE-RADIUS=500;X-TITLE=800 Buttermilk Pike:geo:-84.584699,39.056532
END:VEVENT
BEGIN:VEVENT
DTSTART;TZID=America/New_York:20240914T080000
DTEND;TZID=America/New_York:20240914T080000
DTSTAMP:20260423T141229
CREATED:20240418T170322Z
LAST-MODIFIED:20240418T170322Z
UID:56356-1726300800-1726300800@t2t.org
SUMMARY:2024 Tunnel to Towers 5K Run & Walk Northern Kentucky
DESCRIPTION:
URL:https://t2t.org/event/2024-tunnel-to-towers-5k-run-walk-northern-kentucky/
LOCATION:Lou Hartfiel Park\, 800 Buttermilk Pike\, Crescent Springs\, KY\, 41017\, United States
CATEGORIES:5K Run & Walk Event,Kentucky
ATTACH;FMTTYPE=image/png:https://t2t.org/wp-content/uploads/2024/04/2024-Northern-KY.png
ORGANIZER;CN="T2T Northern Kentucky":MAILTO:NorthernKentucky@t2t.org
GEO:39.056532;-84.584699
X-APPLE-STRUCTURED-LOCATION;VALUE=URI;X-ADDRESS=Lou Hartfiel Park 800 Buttermilk Pike Crescent Springs KY 41017 United States;X-APPLE-RADIUS=500;X-TITLE=800 Buttermilk Pike:geo:-84.584699,39.056532
END:VEVENT
BEGIN:VEVENT
DTSTART;TZID=America/New_York:20230916T080000
DTEND;TZID=America/New_York:20230916T080000
DTSTAMP:20260423T141229
CREATED:20230406T190028Z
LAST-MODIFIED:20240416T180307Z
UID:36492-1694851200-1694851200@t2t.org
SUMMARY:2023 Tunnel to Towers 5K Run & Walk Northern Kentucky
DESCRIPTION:
URL:https://t2t.org/event/2023-tunnel-to-towers-5k-run-walk-northern-kentucky/
LOCATION:Lou Hartfiel Park\, 800 Buttermilk Pike\, Crescent Springs\, KY\, 41017\, United States
CATEGORIES:5K Run & Walk Event,Kentucky
ATTACH;FMTTYPE=image/jpeg:https://t2t.org/wp-content/uploads/2017/07/2023-Thumbnails-NKentucky.jpg
ORGANIZER;CN="T2T Northern Kentucky":MAILTO:NorthernKentucky@t2t.org
GEO:39.056532;-84.584699
X-APPLE-STRUCTURED-LOCATION;VALUE=URI;X-ADDRESS=Lou Hartfiel Park 800 Buttermilk Pike Crescent Springs KY 41017 United States;X-APPLE-RADIUS=500;X-TITLE=800 Buttermilk Pike:geo:-84.584699,39.056532
END:VEVENT
BEGIN:VEVENT
DTSTART;TZID=America/New_York:20220910T080000
DTEND;TZID=America/New_York:20220910T080000
DTSTAMP:20260423T141229
CREATED:20220408T161117Z
LAST-MODIFIED:20220408T161117Z
UID:30602-1662796800-1662796800@t2t.org
SUMMARY:2022 Tunnel to Towers 5K Run & Walk Northern Kentucky
DESCRIPTION:
URL:https://t2t.org/event/2022-tunnel-to-towers-5k-run-walk-northern-kentucky/
LOCATION:Lou Hartfiel Park\, 800 Buttermilk Pike\, Crescent Springs\, KY\, 41017\, United States
CATEGORIES:5K Run & Walk Event,Kentucky
ATTACH;FMTTYPE=image/jpeg:https://t2t.org/wp-content/uploads/2017/07/2022-Northern-ky-Run-Thumbnail.jpg
ORGANIZER;CN="T2T Northern Kentucky":MAILTO:NorthernKentucky@t2t.org
GEO:39.056532;-84.584699
X-APPLE-STRUCTURED-LOCATION;VALUE=URI;X-ADDRESS=Lou Hartfiel Park 800 Buttermilk Pike Crescent Springs KY 41017 United States;X-APPLE-RADIUS=500;X-TITLE=800 Buttermilk Pike:geo:-84.584699,39.056532
END:VEVENT
BEGIN:VEVENT
DTSTART;TZID=America/New_York:20210911T080000
DTEND;TZID=America/New_York:20210911T080000
DTSTAMP:20260423T141229
CREATED:20210602T171416Z
LAST-MODIFIED:20210711T020838Z
UID:22205-1631347200-1631347200@t2t.org
SUMMARY:2021 Tunnel to Towers 5K Run & Walk Northern Kentucky
DESCRIPTION:
URL:https://t2t.org/event/2021-tunnel-to-towers-5k-run-walk-northern-kentucky/
LOCATION:Lou Hartfiel Park\, 800 Buttermilk Pike\, Crescent Springs\, KY\, 41017\, United States
CATEGORIES:5K Run & Walk Event,Kentucky
ATTACH;FMTTYPE=image/png:https://t2t.org/wp-content/uploads/2017/07/2021-Northern-KY-1.png
ORGANIZER;CN="T2T Northern Kentucky":MAILTO:NorthernKentucky@t2t.org
GEO:39.056532;-84.584699
X-APPLE-STRUCTURED-LOCATION;VALUE=URI;X-ADDRESS=Lou Hartfiel Park 800 Buttermilk Pike Crescent Springs KY 41017 United States;X-APPLE-RADIUS=500;X-TITLE=800 Buttermilk Pike:geo:-84.584699,39.056532
END:VEVENT
BEGIN:VEVENT
DTSTART;TZID=America/New_York:20200912T080000
DTEND;TZID=America/New_York:20200912T080000
DTSTAMP:20260423T141229
CREATED:20200313T164225Z
LAST-MODIFIED:20210711T020829Z
UID:17840-1599897600-1599897600@t2t.org
SUMMARY:2020 Tunnel to Towers 5K Run & Walk Northern Kentucky
DESCRIPTION:[us_image]
URL:https://t2t.org/event/2020-tunnel-towers-5k-run-walk-northern-kentucky/
LOCATION:Lou Hartfiel Park\, 800 Buttermilk Pike\, Crescent Springs\, KY\, 41017\, United States
CATEGORIES:5K Run & Walk Event,Kentucky
ATTACH;FMTTYPE=image/png:https://t2t.org/wp-content/uploads/2018/05/Postponed-Thumbnail-Northern-KY.png
ORGANIZER;CN="T2T Northern Kentucky":MAILTO:NorthernKentucky@t2t.org
GEO:39.056532;-84.584699
X-APPLE-STRUCTURED-LOCATION;VALUE=URI;X-ADDRESS=Lou Hartfiel Park 800 Buttermilk Pike Crescent Springs KY 41017 United States;X-APPLE-RADIUS=500;X-TITLE=800 Buttermilk Pike:geo:-84.584699,39.056532
END:VEVENT
END:VCALENDAR