BEGIN:VCALENDAR
VERSION:2.0
PRODID:-//Tunnel to Towers Foundation - ECPv6.15.17//NONSGML v1.0//EN
CALSCALE:GREGORIAN
METHOD:PUBLISH
X-ORIGINAL-URL:https://t2t.org
X-WR-CALDESC:Events for Tunnel to Towers Foundation
REFRESH-INTERVAL;VALUE=DURATION:PT1H
X-Robots-Tag:noindex
X-PUBLISHED-TTL:PT1H
BEGIN:VTIMEZONE
TZID:UTC
BEGIN:STANDARD
TZOFFSETFROM:+0000
TZOFFSETTO:+0000
TZNAME:UTC
DTSTART:20200101T000000
END:STANDARD
END:VTIMEZONE
BEGIN:VEVENT
DTSTART;TZID=UTC:20250906T084500
DTEND;TZID=UTC:20250906T084500
DTSTAMP:20260423T043730
CREATED:20250529T165119Z
LAST-MODIFIED:20250530T141123Z
UID:62381-1757148300-1757148300@t2t.org
SUMMARY:2025 Tunnel to Towers 5K Run & Walk Greater Augusta
DESCRIPTION:
URL:https://t2t.org/event/2025-tunnel-to-towers-5k-run-walk-greater-augusta/
LOCATION:Augusta University – Summerville Campus\, 2500 Walton Way\, Augusta\, GA\, 30904\, United States
CATEGORIES:5K Run & Walk Event,Georgia
ATTACH;FMTTYPE=image/jpeg:https://t2t.org/wp-content/uploads/2025/05/Roswell-Thumbnails-1.jpg
ORGANIZER;CN="T2T Greater Augusta":MAILTO:Augusta@t2t.org
GEO:33.476154;-82.0240038
X-APPLE-STRUCTURED-LOCATION;VALUE=URI;X-ADDRESS=Augusta University – Summerville Campus 2500 Walton Way Augusta GA 30904 United States;X-APPLE-RADIUS=500;X-TITLE=2500 Walton Way:geo:-82.0240038,33.476154
END:VEVENT
BEGIN:VEVENT
DTSTART;TZID=UTC:20240907T084500
DTEND;TZID=UTC:20240907T084500
DTSTAMP:20260423T043730
CREATED:20240711T144537Z
LAST-MODIFIED:20240711T144537Z
UID:58331-1725698700-1725698700@t2t.org
SUMMARY:2024 Tunnel to Towers 5K Run & Walk Greater Augusta
DESCRIPTION:
URL:https://t2t.org/event/2024-tunnel-to-towers-5k-run-walk-greater-augusta/
LOCATION:Augusta University – Summerville Campus\, 2500 Walton Way\, Augusta\, GA\, 30904\, United States
CATEGORIES:5K Run & Walk Event,Georgia
ATTACH;FMTTYPE=image/png:https://t2t.org/wp-content/uploads/2024/07/2024-Greater-Augusta.png
ORGANIZER;CN="T2T Greater Augusta":MAILTO:Augusta@t2t.org
GEO:33.476154;-82.0240038
X-APPLE-STRUCTURED-LOCATION;VALUE=URI;X-ADDRESS=Augusta University – Summerville Campus 2500 Walton Way Augusta GA 30904 United States;X-APPLE-RADIUS=500;X-TITLE=2500 Walton Way:geo:-82.0240038,33.476154
END:VEVENT
BEGIN:VEVENT
DTSTART;TZID=UTC:20230909T084600
DTEND;TZID=UTC:20230909T084600
DTSTAMP:20260423T043730
CREATED:20230406T190004Z
LAST-MODIFIED:20240506T114348Z
UID:36482-1694249160-1694249160@t2t.org
SUMMARY:2023 Tunnel to Towers 5K Run & Walk Greater Augusta
DESCRIPTION:
URL:https://t2t.org/event/2023-tunnel-to-towers-5k-run-walk-greater-augusta/
LOCATION:Augusta University – Summerville Campus\, 2500 Walton Way\, Augusta\, GA\, 30904\, United States
CATEGORIES:5K Run & Walk Event,Georgia
ATTACH;FMTTYPE=image/jpeg:https://t2t.org/wp-content/uploads/2022/04/2023-Thumbnails-Greater-Aug.jpg
ORGANIZER;CN="T2T Greater Augusta":MAILTO:Augusta@t2t.org
GEO:33.476154;-82.0240038
X-APPLE-STRUCTURED-LOCATION;VALUE=URI;X-ADDRESS=Augusta University – Summerville Campus 2500 Walton Way Augusta GA 30904 United States;X-APPLE-RADIUS=500;X-TITLE=2500 Walton Way:geo:-82.0240038,33.476154
END:VEVENT
BEGIN:VEVENT
DTSTART;TZID=UTC:20220910T084600
DTEND;TZID=UTC:20220910T084600
DTSTAMP:20260423T043730
CREATED:20220428T193503Z
LAST-MODIFIED:20240506T122649Z
UID:30948-1662799560-1662799560@t2t.org
SUMMARY:2022 Tunnel to Towers 5K Run & Walk Greater Augusta
DESCRIPTION:
URL:https://t2t.org/event/2022-tunnel-to-towers-5k-run-walk-greater-augusta/
LOCATION:Augusta University – Summerville Campus\, 2500 Walton Way\, Augusta\, GA\, 30904\, United States
CATEGORIES:5K Run & Walk Event,Georgia
ATTACH;FMTTYPE=image/jpeg:https://t2t.org/wp-content/uploads/2017/07/2022-GRreater-augusta-Run-Thumbnail.jpg
ORGANIZER;CN="T2T Greater Augusta":MAILTO:Augusta@t2t.org
GEO:33.476154;-82.0240038
X-APPLE-STRUCTURED-LOCATION;VALUE=URI;X-ADDRESS=Augusta University – Summerville Campus 2500 Walton Way Augusta GA 30904 United States;X-APPLE-RADIUS=500;X-TITLE=2500 Walton Way:geo:-82.0240038,33.476154
END:VEVENT
BEGIN:VEVENT
DTSTART;TZID=UTC:20210911T084600
DTEND;TZID=UTC:20210911T084600
DTSTAMP:20260423T043730
CREATED:20210622T164658Z
LAST-MODIFIED:20240506T123300Z
UID:22472-1631349960-1631349960@t2t.org
SUMMARY:2021 Tunnel to Towers 5K Run & Walk Greater Augusta
DESCRIPTION:
URL:https://t2t.org/event/2021-tunnel-to-towers-5k-run-walk-greater-augusta/
LOCATION:Augusta University – Summerville Campus\, 2500 Walton Way\, Augusta\, GA\, 30904\, United States
CATEGORIES:5K Run & Walk Event,Georgia
ATTACH;FMTTYPE=image/png:https://t2t.org/wp-content/uploads/2021/06/2021-Greater-Aug.png
ORGANIZER;CN="T2T Greater Augusta":MAILTO:Augusta@t2t.org
GEO:33.476154;-82.0240038
X-APPLE-STRUCTURED-LOCATION;VALUE=URI;X-ADDRESS=Augusta University – Summerville Campus 2500 Walton Way Augusta GA 30904 United States;X-APPLE-RADIUS=500;X-TITLE=2500 Walton Way:geo:-82.0240038,33.476154
END:VEVENT
END:VCALENDAR