BEGIN:VCALENDAR
VERSION:2.0
PRODID:-//Tunnel to Towers Foundation - ECPv6.15.17//NONSGML v1.0//EN
CALSCALE:GREGORIAN
METHOD:PUBLISH
X-WR-CALNAME:Tunnel to Towers Foundation
X-ORIGINAL-URL:https://t2t.org
X-WR-CALDESC:Events for Tunnel to Towers Foundation
REFRESH-INTERVAL;VALUE=DURATION:PT1H
X-Robots-Tag:noindex
X-PUBLISHED-TTL:PT1H
BEGIN:VTIMEZONE
TZID:America/New_York
BEGIN:DAYLIGHT
TZOFFSETFROM:-0500
TZOFFSETTO:-0400
TZNAME:EDT
DTSTART:20250309T070000
END:DAYLIGHT
BEGIN:STANDARD
TZOFFSETFROM:-0400
TZOFFSETTO:-0500
TZNAME:EST
DTSTART:20251102T060000
END:STANDARD
BEGIN:DAYLIGHT
TZOFFSETFROM:-0500
TZOFFSETTO:-0400
TZNAME:EDT
DTSTART:20260308T070000
END:DAYLIGHT
BEGIN:STANDARD
TZOFFSETFROM:-0400
TZOFFSETTO:-0500
TZNAME:EST
DTSTART:20261101T060000
END:STANDARD
BEGIN:DAYLIGHT
TZOFFSETFROM:-0500
TZOFFSETTO:-0400
TZNAME:EDT
DTSTART:20270314T070000
END:DAYLIGHT
BEGIN:STANDARD
TZOFFSETFROM:-0400
TZOFFSETTO:-0500
TZNAME:EST
DTSTART:20271107T060000
END:STANDARD
END:VTIMEZONE
BEGIN:VEVENT
DTSTART;TZID=America/New_York:20260503T080000
DTEND;TZID=America/New_York:20260503T080000
DTSTAMP:20260422T001400
CREATED:20260205T155059Z
LAST-MODIFIED:20260205T155059Z
UID:66290-1777795200-1777795200@t2t.org
SUMMARY:2026 Tunnel to Towers Foundation 5K Run & Walk Mount Pleasant\, SC
DESCRIPTION:
URL:https://t2t.org/event/2026-tunnel-to-towers-foundation-5k-run-walk-mount-pleasant-sc/
LOCATION:Park West Recreational Facilities\, 1251 Park W. Blvd.\, Mount Pleasant\, SC\, 29466\, United States
CATEGORIES:5K Run & Walk Event,South Carolina
ATTACH;FMTTYPE=image/jpeg:https://t2t.org/wp-content/uploads/2026/02/2026_MountPleasant_Thumbnail.jpg
END:VEVENT
BEGIN:VEVENT
DTSTART;VALUE=DATE:20260504
DTEND;VALUE=DATE:20260505
DTSTAMP:20260422T001400
CREATED:20260119T230641Z
LAST-MODIFIED:20260119T230641Z
UID:65941-1777852800-1777939199@t2t.org
SUMMARY:The Tunnel to Towers 2026 New York Golf Classic
DESCRIPTION:FOR TICKETS & SPONSORSHIPS \nMONDAY | May 4\, 2026\nRegistration: 10:00 AM\nShotgun Start: 11:30 AM\nCocktail Hour: 4:30 PM\nDinner: 6:00 PM \n  \n Download Form \n  \n\n\nOn Sept. 11\, 2001\, FDNY firefighter Stephen Siller strapped his gear to his back and raced on foot through the Hugh L. Carey Tunnel to the World Trade Center Site after he received word of an attack. There\, he gave up his life while saving others. To commemorate Stephen’s sacrifice\, and the sacrifice of so many others\, the Tunnel to Towers Foundation began the National Golf Series which benefits the Foundation’s programs and efforts supporting first responders and service members. \nFind out more about our National Golf Series \nLearn More
URL:https://t2t.org/event/the-tunnel-to-towers-2026-new-york-golf-classic/
LOCATION:Lake Success Golf Club\, 318 Lakeville Rd\, Lake Success\, NY\, 11020\, United States
CATEGORIES:New York,Tunnel to Towers National Golf Series
ATTACH;FMTTYPE=image/jpeg:https://t2t.org/wp-content/uploads/2026/01/NEW-YORK-GOLF-2026.jpg
END:VEVENT
BEGIN:VEVENT
DTSTART;VALUE=DATE:20260507
DTEND;VALUE=DATE:20260508
DTSTAMP:20260422T001400
CREATED:20260119T224320Z
LAST-MODIFIED:20260119T224320Z
UID:65924-1778112000-1778198399@t2t.org
SUMMARY:The Tunnel to Towers Central Florida Golf Classic
DESCRIPTION:FOR TICKETS & SPONSORSHIPS \n Register Now  \n  \nTHURSDAY | May 7\, 2026\nAM Registration: 6:30 AM\nAM Shotgun: 7:30 AM\nBreakfast and Coffee Available\nLunch to Follow\nPM Registration: 12:30 PM\nPM Shotgun: 1:30 PM\nDinner to Follow\nFour Person Scramble Format \n  \n Download Form \n  \n\n\nOn Sept. 11\, 2001\, FDNY firefighter Stephen Siller strapped his gear to his back and raced on foot through the Hugh L. Carey Tunnel to the World Trade Center Site after he received word of an attack. There\, he gave up his life while saving others. To commemorate Stephen’s sacrifice\, and the sacrifice of so many others\, the Tunnel to Towers Foundation began the National Golf Series which benefits the Foundation’s programs and efforts supporting first responders and service members. \nFind out more about our National Golf Series \nLearn More
URL:https://t2t.org/event/the-tunnel-to-towers-central-florida-golf-classic/
LOCATION:Harbor Hills Country Club\, 6538 Lake Griffin Road\, Lady Lake\, FL\, 32159\, United States
CATEGORIES:Florida,Tunnel to Towers National Golf Series
ATTACH;FMTTYPE=image/jpeg:https://t2t.org/wp-content/uploads/2026/01/Central-Florida-Lady-Lake.jpg
END:VEVENT
BEGIN:VEVENT
DTSTART;VALUE=DATE:20260514
DTEND;VALUE=DATE:20260515
DTSTAMP:20260422T001400
CREATED:20260119T225003Z
LAST-MODIFIED:20260119T225003Z
UID:65928-1778716800-1778803199@t2t.org
SUMMARY:The Tunnel to Towers South Jersey Golf Classic
DESCRIPTION:FOR TICKETS & SPONSORSHIPS \n Register Now  \n  \nTHURSDAY | May 14\, 2026\nRegistration: 10:00 AM\nShotgun: 12:00 PM\nLunch on the turn\nCocktails and Dinner: 5:00 PM \n  \n Download Form \n  \n\n\nOn Sept. 11\, 2001\, FDNY firefighter Stephen Siller strapped his gear to his back and raced on foot through the Hugh L. Carey Tunnel to the World Trade Center Site after he received word of an attack. There\, he gave up his life while saving others. To commemorate Stephen’s sacrifice\, and the sacrifice of so many others\, the Tunnel to Towers Foundation began the National Golf Series which benefits the Foundation’s programs and efforts supporting first responders and service members. \nFind out more about our National Golf Series \nLearn More
URL:https://t2t.org/event/the-tunnel-to-towers-south-jersey-golf-classic/
LOCATION:Blue Heron Pines Golf Club\, 550 Country Club Drive\, Egg Harbor City\, NJ\, 08215\, United States
CATEGORIES:New Jersey,Tunnel to Towers National Golf Series
ATTACH;FMTTYPE=image/jpeg:https://t2t.org/wp-content/uploads/2026/01/SOUTH-JERSEY-GOLF-2026.jpg
END:VEVENT
BEGIN:VEVENT
DTSTART;VALUE=DATE:20260518
DTEND;VALUE=DATE:20260519
DTSTAMP:20260422T001400
CREATED:20260119T225540Z
LAST-MODIFIED:20260119T225540Z
UID:65932-1779062400-1779148799@t2t.org
SUMMARY:The Tunnel to Towers Fairways Fore Heroes Golf Classic
DESCRIPTION:FOR TICKETS & SPONSORSHIPS \n Register Now  \n  \nMONDAY | May 18\, 2026\nRegistration: 9:30 AM\nBreakfast available\nCall to Carts: 11:45 AM\nShotgun Start: 12:00 PM \nHogan and Nelson Clubhouse Rooms to Follow\nCocktails Hour: 4:45 PM\nDinner: 5:30 PM\nFour Person Scramble Format \n  \n Download Form \n  \n\n\nOn Sept. 11\, 2001\, FDNY firefighter Stephen Siller strapped his gear to his back and raced on foot through the Hugh L. Carey Tunnel to the World Trade Center Site after he received word of an attack. There\, he gave up his life while saving others. To commemorate Stephen’s sacrifice\, and the sacrifice of so many others\, the Tunnel to Towers Foundation began the National Golf Series which benefits the Foundation’s programs and efforts supporting first responders and service members. \nFind out more about our National Golf Series \nLearn More
URL:https://t2t.org/event/the-tunnel-to-towers-fairways-fore-heroes-golf-classic/
LOCATION:Timarron Country Club\, 14 Byron Nelson Pkwy\, Southlake\, TX\, 76092\, United States
CATEGORIES:Texas,Tunnel to Towers National Golf Series
ATTACH;FMTTYPE=image/jpeg:https://t2t.org/wp-content/uploads/2026/01/SOUTHLAKE-TX-GOLF-2026.jpg
END:VEVENT
BEGIN:VEVENT
DTSTART;TZID=America/New_York:20260523T090000
DTEND;TZID=America/New_York:20260523T090000
DTSTAMP:20260422T001400
CREATED:20260205T155059Z
LAST-MODIFIED:20260205T155059Z
UID:66284-1779526800-1779526800@t2t.org
SUMMARY:2026 Tunnel to Towers 5K Run & Walk Hope Mills\, NC
DESCRIPTION:
URL:https://t2t.org/event/2026-tunnel-to-towers-5k-run-walk-hope-mills-nc/
LOCATION:Golfview Greenway Walking Trail\, 3644 Golfview Road\, Hope Mills\, NC\, 28348\, United States
CATEGORIES:5K Run & Walk Event,North Carolina
ATTACH;FMTTYPE=image/jpeg:https://t2t.org/wp-content/uploads/2026/02/2026_HopeMills_Thumbnail.jpg
END:VEVENT
BEGIN:VEVENT
DTSTART;TZID=America/New_York:20260606T080000
DTEND;TZID=America/New_York:20260606T170000
DTSTAMP:20260422T001401
CREATED:20260319T135103Z
LAST-MODIFIED:20260319T135103Z
UID:66941-1780732800-1780765200@t2t.org
SUMMARY:2026 Tunnel to Towers 5K Run & Walk Northern Delaware
DESCRIPTION:
URL:https://t2t.org/event/2026-tunnel-to-towers-5k-run-walk-northern-delaware/
LOCATION:800 Carr Road\, 800 Carr Road\, Wilmington\, DE\, 19809\, United States
CATEGORIES:5K Run & Walk Event,Delaware,Tunnel to Towers National Run, Walk & Climb Series
ATTACH;FMTTYPE=image/jpeg:https://t2t.org/wp-content/uploads/2026/03/2026_NorthernDE_Thumbnail.jpg
END:VEVENT
BEGIN:VEVENT
DTSTART;VALUE=DATE:20260607
DTEND;VALUE=DATE:20260608
DTSTAMP:20260422T001401
CREATED:20240220T150200Z
LAST-MODIFIED:20260217T150041Z
UID:55321-1780790400-1780876799@t2t.org
SUMMARY:Annual Tower Climb at One World Observatory
DESCRIPTION:Since 2015\, the Tunnel to Towers Foundation has held the Tunnel to Towers Tower Climb NYC in the One World Observatory. One thousand participants climb 104 stories which symbolizes strength\, hope\, and the resiliency of the American spirit. \nThe event celebrates the life and sacrifice of all 9/11 heroes\, including FDNY firefighter Stephen Siller and FDNY Captain Billy Burke.
URL:https://t2t.org/event/annual-tower-climb-at-one-world-observatory/
LOCATION:One World Observatory at One World Trade Center\, 285 Fulton St\, New York\, NY\, 10006\, United States
CATEGORIES:New York,Tower Climb Event,Tunnel to Towers
GEO:40.7130082;-74.0131689
X-APPLE-STRUCTURED-LOCATION;VALUE=URI;X-ADDRESS=One World Observatory at One World Trade Center 285 Fulton St New York NY 10006 United States;X-APPLE-RADIUS=500;X-TITLE=285 Fulton St:geo:-74.0131689,40.7130082
END:VEVENT
BEGIN:VEVENT
DTSTART;VALUE=DATE:20260612
DTEND;VALUE=DATE:20260613
DTSTAMP:20260422T001401
CREATED:20260309T220314Z
LAST-MODIFIED:20260309T221245Z
UID:66786-1781222400-1781308799@t2t.org
SUMMARY:The Tunnel to Towers Dan Reed Memorial Golf Classic
DESCRIPTION:FRIDAY | June 12\, 2026\nRegistration & Continental Breakfast: 8:30 AM\nBreakfast Beverage and Lunch On Course Provided\nShotgun Start: 11:00 AM\nCocktail Hour: 4:00 PM\nDinner: 5:00 PM\n \n  \n Download Form \n  \n\n\nOn Sept. 11\, 2001\, FDNY firefighter Stephen Siller strapped his gear to his back and raced on foot through the Hugh L. Carey Tunnel to the World Trade Center Site after he received word of an attack. There\, he gave up his life while saving others. To commemorate Stephen’s sacrifice\, and the sacrifice of so many others\, the Tunnel to Towers Foundation began the National Golf Series which benefits the Foundation’s programs and efforts supporting first responders and service members. \nFind out more about our National Golf Series \nLearn More
URL:https://t2t.org/event/the-tunnel-to-towers-dan-reed-memorial-golf-classic/
LOCATION:San Vicente Golf Resort\, 24157 San Vicente Rd\, Ramona\, CA\, 92065\, United States
CATEGORIES:Tennessee,Tunnel to Towers National Golf Series
ATTACH;FMTTYPE=image/jpeg:https://t2t.org/wp-content/uploads/2026/03/Governors-Club-Brentwood-TN.jpg
END:VEVENT
BEGIN:VEVENT
DTSTART;VALUE=DATE:20260615
DTEND;VALUE=DATE:20260616
DTSTAMP:20260422T001401
CREATED:20260323T160133Z
LAST-MODIFIED:20260323T162059Z
UID:66870-1781481600-1781567999@t2t.org
SUMMARY:The Tunnel to Towers Crystal Springs Golf Classic
DESCRIPTION:MONDAY | June 15\, 2026\nBreakfast/Registration: 9:30 – 11:30 AM\nFull Shotgun: 12:00 PM\nReception: 5:00 PM – 9:00 PM\n \n  \n Download Form \n  \n  \n\n\nOn Sept. 11\, 2001\, FDNY firefighter Stephen Siller strapped his gear to his back and raced on foot through the Hugh L. Carey Tunnel to the World Trade Center Site after he received word of an attack. There\, he gave up his life while saving others. To commemorate Stephen’s sacrifice\, and the sacrifice of so many others\, the Tunnel to Towers Foundation began the National Golf Series which benefits the Foundation’s programs and efforts supporting first responders and service members. \nFind out more about our National Golf Series \nLearn More
URL:https://t2t.org/event/the-tunnel-to-towers-crystal-springs-golf-classic/
LOCATION:Crystal Springs Golf Club\, 1 Wild Turkey Way\, Hamburg\, 07419\, United States
CATEGORIES:New Jersey,Tunnel to Towers National Golf Series
ATTACH;FMTTYPE=image/jpeg:https://t2t.org/wp-content/uploads/2026/03/Crystal-Springs-1.jpg
END:VEVENT
BEGIN:VEVENT
DTSTART;VALUE=DATE:20260622
DTEND;VALUE=DATE:20260623
DTSTAMP:20260422T001401
CREATED:20260309T221612Z
LAST-MODIFIED:20260309T221612Z
UID:66791-1782086400-1782172799@t2t.org
SUMMARY:The Tunnel to Towers New Jersey Golf Classic
DESCRIPTION:MONDAY | June 22\, 2026\nAM Registration: 7:00 AM\nAM Shotgun Start: 8:00 AM\nBreakfast\, Lunch & Dinner \nPM Registration: 11:30 AM\nPM Shotgun Start: 1:00 PM\nLunch & Dinner\n \n  \n Download Form \n  \n\n\nOn Sept. 11\, 2001\, FDNY firefighter Stephen Siller strapped his gear to his back and raced on foot through the Hugh L. Carey Tunnel to the World Trade Center Site after he received word of an attack. There\, he gave up his life while saving others. To commemorate Stephen’s sacrifice\, and the sacrifice of so many others\, the Tunnel to Towers Foundation began the National Golf Series which benefits the Foundation’s programs and efforts supporting first responders and service members. \nFind out more about our National Golf Series \nLearn More
URL:https://t2t.org/event/the-tunnel-to-towers-new-jersey-golf-classic/
LOCATION:Eagle Oaks Golf & Country Club\, 20 Shore Oaks Dr\, Farmingdale\, NJ\, 07727\, United States
CATEGORIES:New Jersey,Tunnel to Towers National Golf Series
ATTACH;FMTTYPE=image/jpeg:https://t2t.org/wp-content/uploads/2026/03/Governors-Club-Brentwood-TN.jpg
GEO:40.2168322;-74.1533519
X-APPLE-STRUCTURED-LOCATION;VALUE=URI;X-ADDRESS=Eagle Oaks Golf & Country Club 20 Shore Oaks Dr Farmingdale NJ 07727 United States;X-APPLE-RADIUS=500;X-TITLE=20 Shore Oaks Dr:geo:-74.1533519,40.2168322
END:VEVENT
BEGIN:VEVENT
DTSTART;VALUE=DATE:20260622
DTEND;VALUE=DATE:20260623
DTSTAMP:20260422T001401
CREATED:20260309T221856Z
LAST-MODIFIED:20260311T223518Z
UID:66796-1782086400-1782172799@t2t.org
SUMMARY:The Tunnel to Towers New Jersey Golf Classic - Deal
DESCRIPTION:MONDAY | June 22\, 2026\nAM Registration: 7:00 AM\nAM Shotgun Start: 8:00 AM\nBreakfast\, Lunch & Dinner \nPM Registration: 11:30 AM\nPM Shotgun Start: 1:00 PM\nLunch & Dinner\n6:30PM Cocktail hour with dinner to follow for both\ngolf courses at Eagle Oaks Golf & Country Club\n \n  \n Download Form \n  \n\n\nOn Sept. 11\, 2001\, FDNY firefighter Stephen Siller strapped his gear to his back and raced on foot through the Hugh L. Carey Tunnel to the World Trade Center Site after he received word of an attack. There\, he gave up his life while saving others. To commemorate Stephen’s sacrifice\, and the sacrifice of so many others\, the Tunnel to Towers Foundation began the National Golf Series which benefits the Foundation’s programs and efforts supporting first responders and service members. \nFind out more about our National Golf Series \nLearn More
URL:https://t2t.org/event/the-tunnel-to-towers-new-jersey-golf-classic-deal/
LOCATION:Deal Golf & Country Club\, 1 Golf Lane\, Deal\, 07723\, United States
CATEGORIES:New Jersey,Tunnel to Towers National Golf Series
ATTACH;FMTTYPE=image/jpeg:https://t2t.org/wp-content/uploads/2026/03/Governors-Club-Brentwood-TN.jpg
END:VEVENT
BEGIN:VEVENT
DTSTART;TZID=America/New_York:20260627T080000
DTEND;TZID=America/New_York:20260627T080000
DTSTAMP:20260422T001401
CREATED:20260205T155058Z
LAST-MODIFIED:20260205T155058Z
UID:66287-1782547200-1782547200@t2t.org
SUMMARY:2026 Tunnel to Towers 5K Run & Walk Lyndhurst\, OH
DESCRIPTION:
URL:https://t2t.org/event/2026-tunnel-to-towers-5k-run-walk-lyndhurst-oh/
LOCATION:Lyndhurst Municiple Complex\, 5301 Mayfield Road\, Lyndhurst\, OH\, 44124\, United States
CATEGORIES:5K Run & Walk Event,Ohio
ATTACH;FMTTYPE=image/jpeg:https://t2t.org/wp-content/uploads/2026/02/2026_Lyndhurst2_Thumbnail.jpg
END:VEVENT
BEGIN:VEVENT
DTSTART;VALUE=DATE:20260629
DTEND;VALUE=DATE:20260630
DTSTAMP:20260422T001401
CREATED:20260311T223753Z
LAST-MODIFIED:20260409T172436Z
UID:66858-1782691200-1782777599@t2t.org
SUMMARY:The Tunnel to Towers Northern Colorado Golf Classic
DESCRIPTION:MONDAY | June 29\, 2026\nRegistration: 6:30 AM\nBreakfast\, Lunch & Dinner\nShotgun Start: 8:00 AM\nLunch & Awards to Follow\nFour Person Scramble Format\n \n  \n Learn More \n  \n Download Form \n  \n\n\nOn Sept. 11\, 2001\, FDNY firefighter Stephen Siller strapped his gear to his back and raced on foot through the Hugh L. Carey Tunnel to the World Trade Center Site after he received word of an attack. There\, he gave up his life while saving others. To commemorate Stephen’s sacrifice\, and the sacrifice of so many others\, the Tunnel to Towers Foundation began the National Golf Series which benefits the Foundation’s programs and efforts supporting first responders and service members. \nFind out more about our National Golf Series \nLearn More
URL:https://t2t.org/event/the-tunnel-to-towers-northern-colorado-golf-classic/
LOCATION:HIGHLAND MEADOWS GOLF CLUB\, 6300 Highland Meadows Pkwy\, Windsor\, CO\, 80550\, United States
CATEGORIES:Colorado,Tunnel to Towers National Golf Series
ATTACH;FMTTYPE=image/jpeg:https://t2t.org/wp-content/uploads/2026/03/National-Series-Default.jpg
END:VEVENT
BEGIN:VEVENT
DTSTART;VALUE=DATE:20260720
DTEND;VALUE=DATE:20260721
DTSTAMP:20260422T001401
CREATED:20260421T164513Z
LAST-MODIFIED:20260421T164632Z
UID:67684-1784505600-1784591999@t2t.org
SUMMARY:The Tunnel to Towers 2026 Willow Bridge Golf Classic
DESCRIPTION:MONDAY | July 20\, 2026\nRegistration ends July 13\, 2026 at 11:59pm EDT\n \n  \n REGISTER NOW \n  \n  \n\n\nOn Sept. 11\, 2001\, FDNY firefighter Stephen Siller strapped his gear to his back and raced on foot through the Hugh L. Carey Tunnel to the World Trade Center Site after he received word of an attack. There\, he gave up his life while saving others. To commemorate Stephen’s sacrifice\, and the sacrifice of so many others\, the Tunnel to Towers Foundation began the National Golf Series which benefits the Foundation’s programs and efforts supporting first responders and service members. \nFind out more about our National Golf Series \nLearn More
URL:https://t2t.org/event/the-tunnel-to-towers-2026-willow-bridge-golf-classic/
LOCATION:The Golf Club of Georgia\, 1 Golf Club Dr\, Alpharetta\, GA\, 30005\, United States
CATEGORIES:Georgia,Tunnel to Towers National Golf Series
ATTACH;FMTTYPE=image/jpeg:https://t2t.org/wp-content/uploads/2026/03/Crystal-Springs-1.jpg
END:VEVENT
BEGIN:VEVENT
DTSTART;TZID=America/New_York:20260725T080000
DTEND;TZID=America/New_York:20260725T170000
DTSTAMP:20260422T001401
CREATED:20260319T135025Z
LAST-MODIFIED:20260319T135025Z
UID:66907-1784966400-1784998800@t2t.org
SUMMARY:2026 Tunnel to Towers 5K Run & Walk Barton
DESCRIPTION:
URL:https://t2t.org/event/2026-tunnel-to-towers-5k-run-walk-barton/
LOCATION:Orleans County Fairgrounds Racetrack\, 278 Roaring Brook Road\, Barton\, VT\, 05822\, United States
CATEGORIES:5K Run & Walk Event,Vermont
ATTACH;FMTTYPE=image/jpeg:https://t2t.org/wp-content/uploads/2026/03/2026_Barton_Thumbnail.jpg
END:VEVENT
BEGIN:VEVENT
DTSTART;TZID=America/New_York:20260801T080000
DTEND;TZID=America/New_York:20260801T170000
DTSTAMP:20260422T001401
CREATED:20260305T173116Z
LAST-MODIFIED:20260305T183910Z
UID:66734-1785571200-1785603600@t2t.org
SUMMARY:2026 Tunnel to Towers Tower Climb Somerset
DESCRIPTION:
URL:https://t2t.org/event/2026-tunnel-to-towers-tower-climb-somerset/
LOCATION:TD Bank Ball Park – Patriot Stadium\, 1 Patriot's Park\, Bridgewater\, NJ\, 08807\, United States
CATEGORIES:New Jersey,Tower Climb Event,Tunnel to Towers National Run, Walk & Climb Series
ATTACH;FMTTYPE=image/jpeg:https://t2t.org/wp-content/uploads/2026/03/2026_Somerset_Thumbnail.jpg
END:VEVENT
BEGIN:VEVENT
DTSTART;VALUE=DATE:20260817
DTEND;VALUE=DATE:20260818
DTSTAMP:20260422T001401
CREATED:20260312T171316Z
LAST-MODIFIED:20260403T170413Z
UID:66866-1786924800-1787011199@t2t.org
SUMMARY:The Tunnel to Towers - 2026 Celebrity Golf Classic
DESCRIPTION:MONDAY | August 17\, 2026 \n  \n Download Form \n  \n  \n\n\nOn Sept. 11\, 2001\, FDNY firefighter Stephen Siller strapped his gear to his back and raced on foot through the Hugh L. Carey Tunnel to the World Trade Center Site after he received word of an attack. There\, he gave up his life while saving others. To commemorate Stephen’s sacrifice\, and the sacrifice of so many others\, the Tunnel to Towers Foundation began the National Golf Series which benefits the Foundation’s programs and efforts supporting first responders and service members. \nFind out more about our National Golf Series \nLearn More
URL:https://t2t.org/event/the-tunnel-to-towers-2026-celebrity-golf-classic/
LOCATION:Liberty National Golf Course\, 100 Caven Point Rd\, Jersey City\, NJ\, 07305\, United States
CATEGORIES:New Jersey,Tunnel to Towers National Golf Series
ATTACH;FMTTYPE=image/jpeg:https://t2t.org/wp-content/uploads/2026/03/DSC02365-1-1.jpg
GEO:40.697034;-74.0673905
X-APPLE-STRUCTURED-LOCATION;VALUE=URI;X-ADDRESS=Liberty National Golf Course 100 Caven Point Rd Jersey City NJ 07305 United States;X-APPLE-RADIUS=500;X-TITLE=100 Caven Point Rd:geo:-74.0673905,40.697034
END:VEVENT
BEGIN:VEVENT
DTSTART;VALUE=DATE:20260908
DTEND;VALUE=DATE:20260909
DTSTAMP:20260422T001401
CREATED:20260119T230126Z
LAST-MODIFIED:20260420T182103Z
UID:65936-1788825600-1788911999@t2t.org
SUMMARY:The Tunnel to Towers 2026 North Jersey Golf Classic
DESCRIPTION:FOR TICKETS & SPONSORSHIPS \n Register Now  \n  \nTUESDAY | September 8\, 2026\nRegistration: 11:30 AM\nShotgun Start: 1:00 PM\nDinner & Awards: 5:30 PM \n  \n Download Form \n  \n\n\nOn Sept. 11\, 2001\, FDNY firefighter Stephen Siller strapped his gear to his back and raced on foot through the Hugh L. Carey Tunnel to the World Trade Center Site after he received word of an attack. There\, he gave up his life while saving others. To commemorate Stephen’s sacrifice\, and the sacrifice of so many others\, the Tunnel to Towers Foundation began the National Golf Series which benefits the Foundation’s programs and efforts supporting first responders and service members. \nFind out more about our National Golf Series \nLearn More
URL:https://t2t.org/event/the-tunnel-to-towers-2026-north-jersey-golf-classic/
LOCATION:Forest Hill Field Club\, 9 Belleville Avenue\, Bloomfield\, NJ\, 07003\, United States
CATEGORIES:New Jersey,Tunnel to Towers National Golf Series
ATTACH;FMTTYPE=image/jpeg:https://t2t.org/wp-content/uploads/2026/01/NORTH-JERSEY-GOLF-2026.jpg
END:VEVENT
BEGIN:VEVENT
DTSTART;TZID=America/New_York:20260912T080000
DTEND;TZID=America/New_York:20260912T080000
DTSTAMP:20260422T001401
CREATED:20260416T165804Z
LAST-MODIFIED:20260416T165804Z
UID:67613-1789200000-1789200000@t2t.org
SUMMARY:2026 Tunnel to Towers 5K Run & Walk Payette
DESCRIPTION:
URL:https://t2t.org/event/2026-tunnel-to-towers-5k-run-walk-payette/
LOCATION:Payette Middle School\, 400 N Iowa Avenue\, Payette\, ID\, 83661\, United States
CATEGORIES:5K Run & Walk Event,Idaho
ATTACH;FMTTYPE=image/jpeg:https://t2t.org/wp-content/uploads/2026/04/2026_Payette_Thumbnail.jpg
END:VEVENT
BEGIN:VEVENT
DTSTART;TZID=America/New_York:20260912T080000
DTEND;TZID=America/New_York:20260912T170000
DTSTAMP:20260422T001401
CREATED:20260305T183138Z
LAST-MODIFIED:20260305T183138Z
UID:66746-1789200000-1789232400@t2t.org
SUMMARY:2026 Tunnel to Towers Tower Climb Chicago
DESCRIPTION:
URL:https://t2t.org/event/2026-tunnel-to-towers-tower-climb-chicago/
LOCATION:150 N. Riverside Plaza\, 150 N. Riverside Plaza\, Chicago\, IL\, United States
CATEGORIES:Illinois,Tower Climb Event,Tunnel to Towers National Run, Walk & Climb Series
ATTACH;FMTTYPE=image/jpeg:https://t2t.org/wp-content/uploads/2026/03/2026_Chicago_Thumbnail.jpg
END:VEVENT
BEGIN:VEVENT
DTSTART;TZID=America/New_York:20261017T090000
DTEND;TZID=America/New_York:20261017T170000
DTSTAMP:20260422T001401
CREATED:20260319T134918Z
LAST-MODIFIED:20260319T134918Z
UID:66931-1792227600-1792256400@t2t.org
SUMMARY:2026 Tunnel to Towers 5K Run & Walk Hernando
DESCRIPTION:
URL:https://t2t.org/event/2026-tunnel-to-towers-5k-run-walk-hernando/
LOCATION:Hernando Civic Center at Renasant Park\, 3800 Robertson Gin Road\, Hernando\, MS\, 38632\, United States
CATEGORIES:5K Run & Walk Event,Mississippi,Tunnel to Towers National Run, Walk & Climb Series
ATTACH;FMTTYPE=image/jpeg:https://t2t.org/wp-content/uploads/2026/03/2026_Hernando_Thumbnail.jpg
END:VEVENT
BEGIN:VEVENT
DTSTART;TZID=America/New_York:20261018T083000
DTEND;TZID=America/New_York:20261018T083000
DTSTAMP:20260422T001401
CREATED:20260402T133525Z
LAST-MODIFIED:20260402T133525Z
UID:67265-1792312200-1792312200@t2t.org
SUMMARY:2026 Tunnel to Towers 5K Run & Walk Jersey Shore
DESCRIPTION:
URL:https://t2t.org/event/2026-tunnel-to-towers-5k-run-walk-jersey-shore/
LOCATION:Wall Township Municipal Complex\, 2700 Allaire Road\, Wall\, NJ\, 07719\, United States
CATEGORIES:5K Run & Walk Event,Tunnel to Towers National Run, Walk & Climb Series
ATTACH;FMTTYPE=image/jpeg:https://t2t.org/wp-content/uploads/2026/03/2026_JerseyShore_Thumbnail.jpg
END:VEVENT
BEGIN:VEVENT
DTSTART;TZID=America/New_York:20261101T080000
DTEND;TZID=America/New_York:20261101T170000
DTSTAMP:20260422T001401
CREATED:20260319T134917Z
LAST-MODIFIED:20260326T131329Z
UID:66938-1793520000-1793552400@t2t.org
SUMMARY:2026 Tunnel to Towers 5K Run & Walk New Orleans
DESCRIPTION:
URL:https://t2t.org/event/2026-tunnel-to-towers-5k-run-walk-new-orleans/
LOCATION:Marrero Harvey Fire Station 81\, 808 MacArthur Avenue\, Harvey\, LA\, 70058\, United States
CATEGORIES:5K Run & Walk Event,Louisiana,Tunnel to Towers National Run, Walk & Climb Series
ATTACH;FMTTYPE=image/jpeg:https://t2t.org/wp-content/uploads/2026/03/2026_NewOrleans_Thumbnail-1.jpg
END:VEVENT
BEGIN:VEVENT
DTSTART;VALUE=DATE:20261116
DTEND;VALUE=DATE:20261117
DTSTAMP:20260422T001401
CREATED:20260421T163845Z
LAST-MODIFIED:20260421T163845Z
UID:67679-1794787200-1794873599@t2t.org
SUMMARY:The Tunnel to Towers Pinehurst Golf Classic
DESCRIPTION:MONDAY | November 16-17\, 2026 \nDinner November 16\, 2026:\nat Outlook Ballroom (1 Carolina Vista Dr\, Pinehurst\, NC 28374)\nCocktail Hour: 5:00pm\nDinner: 6:00pm \nGolf November 17\, 2026:\nRegistration & Breakfast: 7:00am\nShotgun Start: 8:30am\nLunch to follow\n \n  \n Download Form \n  \n  \n\n\nOn Sept. 11\, 2001\, FDNY firefighter Stephen Siller strapped his gear to his back and raced on foot through the Hugh L. Carey Tunnel to the World Trade Center Site after he received word of an attack. There\, he gave up his life while saving others. To commemorate Stephen’s sacrifice\, and the sacrifice of so many others\, the Tunnel to Towers Foundation began the National Golf Series which benefits the Foundation’s programs and efforts supporting first responders and service members. \nFind out more about our National Golf Series \nLearn More
URL:https://t2t.org/event/the-tunnel-to-towers-pinehurst-golf-classic-2/2026-11-16/
LOCATION:Pinehurst Resort Course #8\, 100 Centennial Boulevard\, Pinehurst\, NC\, 28374\, United States
CATEGORIES:North Carolina,Tunnel to Towers National Golf Series
ATTACH;FMTTYPE=image/jpeg:https://t2t.org/wp-content/uploads/2026/03/Crystal-Springs-1.jpg
END:VEVENT
BEGIN:VEVENT
DTSTART;VALUE=DATE:20261117
DTEND;VALUE=DATE:20261118
DTSTAMP:20260422T001401
CREATED:20260421T163846Z
LAST-MODIFIED:20260421T163846Z
UID:67680-1794873600-1794959999@t2t.org
SUMMARY:The Tunnel to Towers Pinehurst Golf Classic
DESCRIPTION:MONDAY | November 16-17\, 2026 \nDinner November 16\, 2026:\nat Outlook Ballroom (1 Carolina Vista Dr\, Pinehurst\, NC 28374)\nCocktail Hour: 5:00pm\nDinner: 6:00pm \nGolf November 17\, 2026:\nRegistration & Breakfast: 7:00am\nShotgun Start: 8:30am\nLunch to follow\n \n  \n Download Form \n  \n  \n\n\nOn Sept. 11\, 2001\, FDNY firefighter Stephen Siller strapped his gear to his back and raced on foot through the Hugh L. Carey Tunnel to the World Trade Center Site after he received word of an attack. There\, he gave up his life while saving others. To commemorate Stephen’s sacrifice\, and the sacrifice of so many others\, the Tunnel to Towers Foundation began the National Golf Series which benefits the Foundation’s programs and efforts supporting first responders and service members. \nFind out more about our National Golf Series \nLearn More
URL:https://t2t.org/event/the-tunnel-to-towers-pinehurst-golf-classic-2/2026-11-17/
LOCATION:Pinehurst Resort Course #8\, 100 Centennial Boulevard\, Pinehurst\, NC\, 28374\, United States
CATEGORIES:North Carolina,Tunnel to Towers National Golf Series
ATTACH;FMTTYPE=image/jpeg:https://t2t.org/wp-content/uploads/2026/03/Crystal-Springs-1.jpg
END:VEVENT
END:VCALENDAR