BEGIN:VCALENDAR
VERSION:2.0
PRODID:-//Tunnel to Towers Foundation - ECPv6.15.17//NONSGML v1.0//EN
CALSCALE:GREGORIAN
METHOD:PUBLISH
X-ORIGINAL-URL:https://t2t.org
X-WR-CALDESC:Events for Tunnel to Towers Foundation
REFRESH-INTERVAL;VALUE=DURATION:PT1H
X-Robots-Tag:noindex
X-PUBLISHED-TTL:PT1H
BEGIN:VTIMEZONE
TZID:America/New_York
BEGIN:DAYLIGHT
TZOFFSETFROM:-0500
TZOFFSETTO:-0400
TZNAME:EDT
DTSTART:20130310T070000
END:DAYLIGHT
BEGIN:STANDARD
TZOFFSETFROM:-0400
TZOFFSETTO:-0500
TZNAME:EST
DTSTART:20131103T060000
END:STANDARD
BEGIN:DAYLIGHT
TZOFFSETFROM:-0500
TZOFFSETTO:-0400
TZNAME:EDT
DTSTART:20140309T070000
END:DAYLIGHT
BEGIN:STANDARD
TZOFFSETFROM:-0400
TZOFFSETTO:-0500
TZNAME:EST
DTSTART:20141102T060000
END:STANDARD
BEGIN:DAYLIGHT
TZOFFSETFROM:-0500
TZOFFSETTO:-0400
TZNAME:EDT
DTSTART:20150308T070000
END:DAYLIGHT
BEGIN:STANDARD
TZOFFSETFROM:-0400
TZOFFSETTO:-0500
TZNAME:EST
DTSTART:20151101T060000
END:STANDARD
BEGIN:DAYLIGHT
TZOFFSETFROM:-0500
TZOFFSETTO:-0400
TZNAME:EDT
DTSTART:20160313T070000
END:DAYLIGHT
BEGIN:STANDARD
TZOFFSETFROM:-0400
TZOFFSETTO:-0500
TZNAME:EST
DTSTART:20161106T060000
END:STANDARD
BEGIN:DAYLIGHT
TZOFFSETFROM:-0500
TZOFFSETTO:-0400
TZNAME:EDT
DTSTART:20170312T070000
END:DAYLIGHT
BEGIN:STANDARD
TZOFFSETFROM:-0400
TZOFFSETTO:-0500
TZNAME:EST
DTSTART:20171105T060000
END:STANDARD
BEGIN:DAYLIGHT
TZOFFSETFROM:-0500
TZOFFSETTO:-0400
TZNAME:EDT
DTSTART:20180311T070000
END:DAYLIGHT
BEGIN:STANDARD
TZOFFSETFROM:-0400
TZOFFSETTO:-0500
TZNAME:EST
DTSTART:20181104T060000
END:STANDARD
BEGIN:DAYLIGHT
TZOFFSETFROM:-0500
TZOFFSETTO:-0400
TZNAME:EDT
DTSTART:20190310T070000
END:DAYLIGHT
BEGIN:STANDARD
TZOFFSETFROM:-0400
TZOFFSETTO:-0500
TZNAME:EST
DTSTART:20191103T060000
END:STANDARD
BEGIN:DAYLIGHT
TZOFFSETFROM:-0500
TZOFFSETTO:-0400
TZNAME:EDT
DTSTART:20200308T070000
END:DAYLIGHT
BEGIN:STANDARD
TZOFFSETFROM:-0400
TZOFFSETTO:-0500
TZNAME:EST
DTSTART:20201101T060000
END:STANDARD
BEGIN:DAYLIGHT
TZOFFSETFROM:-0500
TZOFFSETTO:-0400
TZNAME:EDT
DTSTART:20210314T070000
END:DAYLIGHT
BEGIN:STANDARD
TZOFFSETFROM:-0400
TZOFFSETTO:-0500
TZNAME:EST
DTSTART:20211107T060000
END:STANDARD
BEGIN:DAYLIGHT
TZOFFSETFROM:-0500
TZOFFSETTO:-0400
TZNAME:EDT
DTSTART:20220313T070000
END:DAYLIGHT
BEGIN:STANDARD
TZOFFSETFROM:-0400
TZOFFSETTO:-0500
TZNAME:EST
DTSTART:20221106T060000
END:STANDARD
BEGIN:DAYLIGHT
TZOFFSETFROM:-0500
TZOFFSETTO:-0400
TZNAME:EDT
DTSTART:20230312T070000
END:DAYLIGHT
BEGIN:STANDARD
TZOFFSETFROM:-0400
TZOFFSETTO:-0500
TZNAME:EST
DTSTART:20231105T060000
END:STANDARD
BEGIN:DAYLIGHT
TZOFFSETFROM:-0500
TZOFFSETTO:-0400
TZNAME:EDT
DTSTART:20240310T070000
END:DAYLIGHT
BEGIN:STANDARD
TZOFFSETFROM:-0400
TZOFFSETTO:-0500
TZNAME:EST
DTSTART:20241103T060000
END:STANDARD
BEGIN:DAYLIGHT
TZOFFSETFROM:-0500
TZOFFSETTO:-0400
TZNAME:EDT
DTSTART:20250309T070000
END:DAYLIGHT
BEGIN:STANDARD
TZOFFSETFROM:-0400
TZOFFSETTO:-0500
TZNAME:EST
DTSTART:20251102T060000
END:STANDARD
END:VTIMEZONE
BEGIN:VTIMEZONE
TZID:UTC
BEGIN:STANDARD
TZOFFSETFROM:+0000
TZOFFSETTO:+0000
TZNAME:UTC
DTSTART:20160101T000000
END:STANDARD
END:VTIMEZONE
BEGIN:VEVENT
DTSTART;TZID=America/New_York:20241012T120000
DTEND;TZID=America/New_York:20241012T170000
DTSTAMP:20260424T225232
CREATED:20240910T174048Z
LAST-MODIFIED:20240916T181920Z
UID:59128-1728734400-1728752400@t2t.org
SUMMARY:14th Annual Bravest BBQ: Saturday October 12\, 2024
DESCRIPTION:
URL:https://t2t.org/event/14th-annual-bravest-bbq-saturday-october-12-2024/
LOCATION:Hillside Swim Club\, 151 Signs Rd\, Staten Island\, NY\, 10314\, United States
CATEGORIES:Home Events,New York
GEO:40.60375;-74.16907
X-APPLE-STRUCTURED-LOCATION;VALUE=URI;X-ADDRESS=Hillside Swim Club 151 Signs Rd Staten Island NY 10314 United States;X-APPLE-RADIUS=500;X-TITLE=151 Signs Rd:geo:-74.16907,40.60375
END:VEVENT
BEGIN:VEVENT
DTSTART;TZID=America/New_York:20231008T120000
DTEND;TZID=America/New_York:20231008T170000
DTSTAMP:20260424T225232
CREATED:20231004T152312Z
LAST-MODIFIED:20240411T213657Z
UID:52745-1696766400-1696784400@t2t.org
SUMMARY:New Date for 13th Annual Bravest BBQ: Sunday October 8\, 2023
DESCRIPTION:
URL:https://t2t.org/event/13th-annual-bravest-bbq/
LOCATION:Hillside Swim Club\, 151 Signs Rd\, Staten Island\, NY\, 10314\, United States
CATEGORIES:Home Events,New York
GEO:40.60375;-74.16907
X-APPLE-STRUCTURED-LOCATION;VALUE=URI;X-ADDRESS=Hillside Swim Club 151 Signs Rd Staten Island NY 10314 United States;X-APPLE-RADIUS=500;X-TITLE=151 Signs Rd:geo:-74.16907,40.60375
END:VEVENT
BEGIN:VEVENT
DTSTART;TZID=America/New_York:20221008T120000
DTEND;TZID=America/New_York:20221008T170000
DTSTAMP:20260424T225232
CREATED:20220929T200122Z
LAST-MODIFIED:20240506T114650Z
UID:33568-1665230400-1665248400@t2t.org
SUMMARY:12th Annual Bravest BBQ
DESCRIPTION:
URL:https://t2t.org/event/12th-annual-bravest-bbq/
LOCATION:Hillside Swim Club\, 151 Signs Rd\, Staten Island\, NY\, 10314\, United States
CATEGORIES:Home Events,New York
ATTACH;FMTTYPE=image/png:https://t2t.org/wp-content/uploads/2022/09/2022-Bravest-BBQ_Thumbnail.png
GEO:40.60375;-74.16907
X-APPLE-STRUCTURED-LOCATION;VALUE=URI;X-ADDRESS=Hillside Swim Club 151 Signs Rd Staten Island NY 10314 United States;X-APPLE-RADIUS=500;X-TITLE=151 Signs Rd:geo:-74.16907,40.60375
END:VEVENT
BEGIN:VEVENT
DTSTART;TZID=America/New_York:20211009T120000
DTEND;TZID=America/New_York:20211009T120000
DTSTAMP:20260424T225232
CREATED:20210831T183956Z
LAST-MODIFIED:20240506T124040Z
UID:24543-1633780800-1633780800@t2t.org
SUMMARY:11th Annual Bravest BBQ
DESCRIPTION:
URL:https://t2t.org/event/11th-annual-bravest-bbq/
LOCATION:South Shore Swimclub\, 6736 Hylan Blvd\, Staten Island\, 10309
CATEGORIES:Home Events,New York
ATTACH;FMTTYPE=image/jpeg:https://t2t.org/wp-content/uploads/2021/08/2021_Annual-Bravest-BBQ.jpg
END:VEVENT
BEGIN:VEVENT
DTSTART;TZID=America/New_York:20191012T120000
DTEND;TZID=America/New_York:20191012T120000
DTSTAMP:20260424T225233
CREATED:20190809T185118Z
LAST-MODIFIED:20240506T122229Z
UID:15627-1570881600-1570881600@t2t.org
SUMMARY:10th Annual Bravest BBQ
DESCRIPTION:
URL:https://t2t.org/event/10th-annual-bravest-bbq/
LOCATION:Hillside Swim Club\, 151 Signs Rd\, Staten Island\, NY\, 10314\, United States
CATEGORIES:Home Events,New York
ATTACH;FMTTYPE=image/png:https://t2t.org/wp-content/uploads/2019/08/2019-Bravest-BBQ_Thumbnail.png
GEO:40.60375;-74.16907
X-APPLE-STRUCTURED-LOCATION;VALUE=URI;X-ADDRESS=Hillside Swim Club 151 Signs Rd Staten Island NY 10314 United States;X-APPLE-RADIUS=500;X-TITLE=151 Signs Rd:geo:-74.16907,40.60375
END:VEVENT
BEGIN:VEVENT
DTSTART;TZID=America/New_York:20181006T120000
DTEND;TZID=America/New_York:20181006T120000
DTSTAMP:20260424T225233
CREATED:20180710T175320Z
LAST-MODIFIED:20240506T121947Z
UID:12244-1538827200-1538827200@t2t.org
SUMMARY:9th Annual Bravest BBQ
DESCRIPTION:
URL:https://t2t.org/event/9th-annual-bravest-bbq/
LOCATION:Hillside Swim Club\, 151 Signs Rd\, Staten Island\, NY\, 10314\, United States
CATEGORIES:Home Events
ATTACH;FMTTYPE=image/png:https://t2t.org/wp-content/uploads/2018/07/2018_BravestBBQ_Thumbnail-1.png
GEO:40.60375;-74.16907
X-APPLE-STRUCTURED-LOCATION;VALUE=URI;X-ADDRESS=Hillside Swim Club 151 Signs Rd Staten Island NY 10314 United States;X-APPLE-RADIUS=500;X-TITLE=151 Signs Rd:geo:-74.16907,40.60375
END:VEVENT
BEGIN:VEVENT
DTSTART;TZID=UTC:20171007T120000
DTEND;TZID=UTC:20171007T120000
DTSTAMP:20260424T225233
CREATED:20171006T003021Z
LAST-MODIFIED:20240506T122623Z
UID:9921-1507377600-1507377600@t2t.org
SUMMARY:8th Annual Bravest BBQ
DESCRIPTION:
URL:https://t2t.org/event/8th-annual-bravest-bbq/
LOCATION:Hillside Swim Club\, 151 Signs Rd\, Staten Island\, NY\, 10314\, United States
CATEGORIES:Initiatives
ATTACH;FMTTYPE=image/png:https://t2t.org/wp-content/uploads/2017/10/BBQ_Color.png
GEO:40.60375;-74.16907
X-APPLE-STRUCTURED-LOCATION;VALUE=URI;X-ADDRESS=Hillside Swim Club 151 Signs Rd Staten Island NY 10314 United States;X-APPLE-RADIUS=500;X-TITLE=151 Signs Rd:geo:-74.16907,40.60375
END:VEVENT
BEGIN:VEVENT
DTSTART;TZID=America/New_York:20161008T120000
DTEND;TZID=America/New_York:20161008T120000
DTSTAMP:20260424T225233
CREATED:20161003T162543Z
LAST-MODIFIED:20240506T121055Z
UID:4967-1475928000-1475928000@t2t.org
SUMMARY:7th Annual Bravest BBQ
DESCRIPTION:
URL:https://t2t.org/event/7th-annual-bravest-bbq/
LOCATION:Hillside Swim Club\, 151 Signs Rd\, Staten Island\, NY\, 10314\, United States
CATEGORIES:Initiatives
GEO:40.60375;-74.16907
X-APPLE-STRUCTURED-LOCATION;VALUE=URI;X-ADDRESS=Hillside Swim Club 151 Signs Rd Staten Island NY 10314 United States;X-APPLE-RADIUS=500;X-TITLE=151 Signs Rd:geo:-74.16907,40.60375
END:VEVENT
BEGIN:VEVENT
DTSTART;TZID=America/New_York:20160214T170000
DTEND;TZID=America/New_York:20160214T220000
DTSTAMP:20260424T225233
CREATED:20160104T203159Z
LAST-MODIFIED:20240506T124715Z
UID:3925-1455469200-1455487200@t2t.org
SUMMARY:4th Annual Valentine's Benefit Dinner
DESCRIPTION:
URL:https://t2t.org/event/4th-annual-valentines-benefit-dinner/
LOCATION:LiGreci’s Staaten\, 697 Forest Avenue\, Staten Island\, NY\, 10310\, United States
CATEGORIES:Initiatives
GEO:40.6294737;-74.1122607
X-APPLE-STRUCTURED-LOCATION;VALUE=URI;X-ADDRESS=LiGreci’s Staaten 697 Forest Avenue Staten Island NY 10310 United States;X-APPLE-RADIUS=500;X-TITLE=697 Forest Avenue:geo:-74.1122607,40.6294737
END:VEVENT
BEGIN:VEVENT
DTSTART;TZID=America/New_York:20151010T120000
DTEND;TZID=America/New_York:20151010T170000
DTSTAMP:20260424T225233
CREATED:20150929T231410Z
LAST-MODIFIED:20240506T124426Z
UID:3698-1444478400-1444496400@t2t.org
SUMMARY:6th Annual Bravest BBQ
DESCRIPTION:
URL:https://t2t.org/event/6th-annual-bravest-bbq/
LOCATION:Hillside Swim Club\, 151 Signs Rd\, Staten Island\, NY\, 10314\, United States
CATEGORIES:Initiatives
GEO:40.60375;-74.16907
X-APPLE-STRUCTURED-LOCATION;VALUE=URI;X-ADDRESS=Hillside Swim Club 151 Signs Rd Staten Island NY 10314 United States;X-APPLE-RADIUS=500;X-TITLE=151 Signs Rd:geo:-74.16907,40.60375
END:VEVENT
BEGIN:VEVENT
DTSTART;TZID=America/New_York:20150602T200000
DTEND;TZID=America/New_York:20150602T220000
DTSTAMP:20260424T225233
CREATED:20150410T223721Z
LAST-MODIFIED:20240506T123134Z
UID:3360-1433275200-1433282400@t2t.org
SUMMARY:Firefighters for America's Bravest Presents Whiskey Tasting
DESCRIPTION:
URL:https://t2t.org/event/whiskey-tasting/
LOCATION:Marina Cafe\, 154 Mansion Ave\, Staten Island\, 10308\, United States
CATEGORIES:Initiatives
GEO:40.5442297;-74.1410525
X-APPLE-STRUCTURED-LOCATION;VALUE=URI;X-ADDRESS=Marina Cafe 154 Mansion Ave Staten Island 10308 United States;X-APPLE-RADIUS=500;X-TITLE=154 Mansion Ave:geo:-74.1410525,40.5442297
END:VEVENT
BEGIN:VEVENT
DTSTART;TZID=America/New_York:20150212T190000
DTEND;TZID=America/New_York:20150212T220000
DTSTAMP:20260424T225233
CREATED:20141231T010327Z
LAST-MODIFIED:20240506T121045Z
UID:2872-1423767600-1423778400@t2t.org
SUMMARY:3rd Annual Valentine's Benefit Dinner
DESCRIPTION:
URL:https://t2t.org/event/3rd-annual-valentines-benefit-dinner/
LOCATION:LiGreci’s Staaten\, 697 Forest Avenue\, Staten Island\, NY\, 10310\, United States
CATEGORIES:Initiatives
GEO:40.6294737;-74.1122607
X-APPLE-STRUCTURED-LOCATION;VALUE=URI;X-ADDRESS=LiGreci’s Staaten 697 Forest Avenue Staten Island NY 10310 United States;X-APPLE-RADIUS=500;X-TITLE=697 Forest Avenue:geo:-74.1122607,40.6294737
END:VEVENT
BEGIN:VEVENT
DTSTART;TZID=America/New_York:20141011T120000
DTEND;TZID=America/New_York:20141011T170000
DTSTAMP:20260424T225233
CREATED:20140425T212642Z
LAST-MODIFIED:20240506T122416Z
UID:2268-1413028800-1413046800@t2t.org
SUMMARY:5th Annual Bravest BBQ
DESCRIPTION:
URL:https://t2t.org/event/bravest-bbq/
LOCATION:Hillside Swim Club\, 151 Signs Rd\, Staten Island\, NY\, 10314\, United States
CATEGORIES:Initiatives
GEO:40.60375;-74.16907
X-APPLE-STRUCTURED-LOCATION;VALUE=URI;X-ADDRESS=Hillside Swim Club 151 Signs Rd Staten Island NY 10314 United States;X-APPLE-RADIUS=500;X-TITLE=151 Signs Rd:geo:-74.16907,40.60375
END:VEVENT
END:VCALENDAR