BEGIN:VCALENDAR
VERSION:2.0
PRODID:-//Tunnel to Towers Foundation - ECPv6.15.17//NONSGML v1.0//EN
CALSCALE:GREGORIAN
METHOD:PUBLISH
X-WR-CALNAME:Tunnel to Towers Foundation
X-ORIGINAL-URL:https://t2t.org
X-WR-CALDESC:Events for Tunnel to Towers Foundation
REFRESH-INTERVAL;VALUE=DURATION:PT1H
X-Robots-Tag:noindex
X-PUBLISHED-TTL:PT1H
BEGIN:VTIMEZONE
TZID:America/New_York
BEGIN:DAYLIGHT
TZOFFSETFROM:-0500
TZOFFSETTO:-0400
TZNAME:EDT
DTSTART:20250309T070000
END:DAYLIGHT
BEGIN:STANDARD
TZOFFSETFROM:-0400
TZOFFSETTO:-0500
TZNAME:EST
DTSTART:20251102T060000
END:STANDARD
BEGIN:DAYLIGHT
TZOFFSETFROM:-0500
TZOFFSETTO:-0400
TZNAME:EDT
DTSTART:20260308T070000
END:DAYLIGHT
BEGIN:STANDARD
TZOFFSETFROM:-0400
TZOFFSETTO:-0500
TZNAME:EST
DTSTART:20261101T060000
END:STANDARD
BEGIN:DAYLIGHT
TZOFFSETFROM:-0500
TZOFFSETTO:-0400
TZNAME:EDT
DTSTART:20270314T070000
END:DAYLIGHT
BEGIN:STANDARD
TZOFFSETFROM:-0400
TZOFFSETTO:-0500
TZNAME:EST
DTSTART:20271107T060000
END:STANDARD
END:VTIMEZONE
BEGIN:VTIMEZONE
TZID:UTC
BEGIN:STANDARD
TZOFFSETFROM:+0000
TZOFFSETTO:+0000
TZNAME:UTC
DTSTART:20250101T000000
END:STANDARD
END:VTIMEZONE
BEGIN:VEVENT
DTSTART;TZID=America/New_York:20260912T081500
DTEND;TZID=America/New_York:20260912T081500
DTSTAMP:20260421T170810
CREATED:20260319T134919Z
LAST-MODIFIED:20260319T134919Z
UID:66960-1789200900-1789200900@t2t.org
SUMMARY:2026 Tunnel to Towers 5K Run & Walk St. Augustine
DESCRIPTION:
URL:https://t2t.org/event/2026-tunnel-to-towers-5k-run-walk-st-augustine/
LOCATION:Beachwalk Clubhouse\, 109 Beachwalk Club Drive\, St. John's\, 32259\, United States
CATEGORIES:5K Run & Walk Event,Florida
ATTACH;FMTTYPE=image/jpeg:https://t2t.org/wp-content/uploads/2026/03/2026_StAugustine_Thumbnail.jpg
ORGANIZER;CN="T2T St Augustine":MAILTO:StAugustine@t2t.org
END:VEVENT
BEGIN:VEVENT
DTSTART;TZID=UTC:20260912T083000
DTEND;TZID=UTC:20260912T083000
DTSTAMP:20260421T170810
CREATED:20260402T133526Z
LAST-MODIFIED:20260402T133526Z
UID:67263-1789201800-1789201800@t2t.org
SUMMARY:2026 Tunnel to Towers 5K Run & Walk Jefferson City
DESCRIPTION:
URL:https://t2t.org/event/2026-tunnel-to-towers-5k-run-walk-jefferson-city/
LOCATION:Missouri State Capitol – South Lawn\, 201 W Capitol ave\, Jefferson City\, MO\, 65101\, United States
CATEGORIES:5K Run & Walk Event,Missouri
ATTACH;FMTTYPE=image/jpeg:https://t2t.org/wp-content/uploads/2026/03/2026_JeffersonCity_Thumbnail.jpg
ORGANIZER;CN="T2T Jefferson City":MAILTO:JeffersonCity@t2t.org
END:VEVENT
BEGIN:VEVENT
DTSTART;TZID=America/New_York:20260912T084500
DTEND;TZID=America/New_York:20260912T084500
DTSTAMP:20260421T170810
CREATED:20260205T155057Z
LAST-MODIFIED:20260205T155057Z
UID:66270-1789202700-1789202700@t2t.org
SUMMARY:2026 Tunnel to Towers 5K Run & Walk Montrose\, PA
DESCRIPTION:
URL:https://t2t.org/event/2026-tunnel-to-towers-5k-run-walk-montrose-pa/
LOCATION:The Green in Montrose\, 18 Monument Square\, Montrose\, PA\, 18801\, United States
CATEGORIES:5K Run & Walk Event,Pennsylvania
ATTACH;FMTTYPE=image/jpeg:https://t2t.org/wp-content/uploads/2026/02/2026_Montrose_Thumbnail.jpg
ORGANIZER;CN="T2T Montrose":MAILTO:MontroseRun@t2t.org
END:VEVENT
BEGIN:VEVENT
DTSTART;TZID=America/New_York:20260912T090000
DTEND;TZID=America/New_York:20260912T090000
DTSTAMP:20260421T170810
CREATED:20260205T155056Z
LAST-MODIFIED:20260205T155056Z
UID:66293-1789203600-1789203600@t2t.org
SUMMARY:2026 Tunnel to Towers 5K Run & Walk Sheboygan
DESCRIPTION:
URL:https://t2t.org/event/2026-tunnel-to-towers-5k-run-walk-sheboygan/
LOCATION:Town of Sheboygan Fire Department\, 3911 county road Y\, sheboygan\, WI\, 53083\, United States
CATEGORIES:5K Run & Walk Event,Wisconsin
ATTACH;FMTTYPE=image/jpeg:https://t2t.org/wp-content/uploads/2026/02/2026_Sheboygan_Thumbnail.jpg
ORGANIZER;CN="T2T Sheboygan":MAILTO:Sheboygan@t2t.org
END:VEVENT
BEGIN:VEVENT
DTSTART;TZID=America/New_York:20260912T090000
DTEND;TZID=America/New_York:20260912T090000
DTSTAMP:20260421T170810
CREATED:20260319T134919Z
LAST-MODIFIED:20260319T134919Z
UID:66936-1789203600-1789203600@t2t.org
SUMMARY:2026 Tunnel to Towers 5K Run & Walk Metro Detroit
DESCRIPTION:
URL:https://t2t.org/event/2026-tunnel-to-towers-5k-run-walk-metro-detroit/
LOCATION:Lake St. Clair Metropark\, 31300 Metro Parkway\, Harrison Township\, MI\, 48045
CATEGORIES:5K Run & Walk Event,Michigan
ATTACH;FMTTYPE=image/jpeg:https://t2t.org/wp-content/uploads/2026/03/2026_MetroDetroit_Thumbnail.jpg
ORGANIZER;CN="T2T Metro Detroit":MAILTO:MetroDetroit@t2t.org
END:VEVENT
BEGIN:VEVENT
DTSTART;TZID=UTC:20260912T150000
DTEND;TZID=UTC:20260912T150000
DTSTAMP:20260421T170810
CREATED:20260416T165614Z
LAST-MODIFIED:20260416T165614Z
UID:67601-1789225200-1789225200@t2t.org
SUMMARY:2026 Tunnel to Towers 5K Run & Climb Biloxi
DESCRIPTION:
URL:https://t2t.org/event/2026-tunnel-to-towers-5k-run-climb-biloxi/
LOCATION:Margaritaville Resort Biloxi\, 165 Beach Blvd.\, Biloxi\, MS\, 39530\, United States
CATEGORIES:Mississippi,Run & Climb Event
ATTACH;FMTTYPE=image/jpeg:https://t2t.org/wp-content/uploads/2026/04/2026_Biloxi_Thumbnail.jpg
ORGANIZER;CN="T2T Biloxi":MAILTO:Biloxi@t2t.org
END:VEVENT
BEGIN:VEVENT
DTSTART;TZID=America/New_York:20260913T073000
DTEND;TZID=America/New_York:20260913T073000
DTSTAMP:20260421T170810
CREATED:20260319T134919Z
LAST-MODIFIED:20260319T134919Z
UID:66972-1789284600-1789284600@t2t.org
SUMMARY:2026 Tunnel to Towers 5K Run & Walk Tempe
DESCRIPTION:
URL:https://t2t.org/event/2026-tunnel-to-towers-5k-run-walk-tempe/
LOCATION:Tempe Beach Park\, 80 W. Rio Salado PKWY\, tempe\, AZ\, 85281\, United States
CATEGORIES:5K Run & Walk Event,Arizona
ATTACH;FMTTYPE=image/jpeg:https://t2t.org/wp-content/uploads/2026/03/2026_Tempe_Thumbnail.jpg
ORGANIZER;CN="T2T Tempe":MAILTO:Tempe@t2t.org
END:VEVENT
BEGIN:VEVENT
DTSTART;TZID=America/New_York:20260913T080000
DTEND;TZID=America/New_York:20260913T080000
DTSTAMP:20260421T170810
CREATED:20260319T134918Z
LAST-MODIFIED:20260319T134918Z
UID:66934-1789286400-1789286400@t2t.org
SUMMARY:2026 Tunnel to Towers 5K Run & Walk Medina
DESCRIPTION:
URL:https://t2t.org/event/2026-tunnel-to-towers-5k-run-walk-medina/
LOCATION:Medina Historic Public Square\, Broadway St.\, Medina\, OH\, 44256\, United States
CATEGORIES:5K Run & Walk Event,Ohio
ATTACH;FMTTYPE=image/jpeg:https://t2t.org/wp-content/uploads/2026/03/2026_Medina_Thumbnail.jpg
ORGANIZER;CN="T2T Medina":MAILTO:Medina@t2t.org
END:VEVENT
BEGIN:VEVENT
DTSTART;TZID=America/New_York:20260919T080000
DTEND;TZID=America/New_York:20260919T080000
DTSTAMP:20260421T170810
CREATED:20260402T133459Z
LAST-MODIFIED:20260402T133459Z
UID:67249-1789804800-1789804800@t2t.org
SUMMARY:2026 Tunnel to Towers 5k Run & Walk Huntington Beach
DESCRIPTION:
URL:https://t2t.org/event/2026-tunnel-to-towers-5k-run-walk-huntington-beach/
LOCATION:City Beach\, 21501 CA-1\, Huntington Beach\, CA\, 92648\, United States
CATEGORIES:5K Run & Walk Event,California
ATTACH;FMTTYPE=image/jpeg:https://t2t.org/wp-content/uploads/2026/03/2026_HuntingtonBeach_Thumbnail.jpg
ORGANIZER;CN="Huntington Beach Run - Lily Wentz":MAILTO:HuntingtonBeachRun@t2t.org
END:VEVENT
BEGIN:VEVENT
DTSTART;TZID=UTC:20260919T083000
DTEND;TZID=UTC:20260919T083000
DTSTAMP:20260421T170810
CREATED:20260219T175011Z
LAST-MODIFIED:20260219T175011Z
UID:66507-1789806600-1789806600@t2t.org
SUMMARY:2026 Tunnel to Towers 5k Run & Walk Buffalo
DESCRIPTION:
URL:https://t2t.org/event/2026-tunnel-to-towers-5k-run-walk-buffalo/
LOCATION:Bellevue Fire Hall\, 511 Como Park Bvld\, Cheektowaga\, NY\, 14227\, United States
CATEGORIES:5K Run & Walk Event,New York
ATTACH;FMTTYPE=image/jpeg:https://t2t.org/wp-content/uploads/2026/02/2026_Buffalo_Thumbnail.jpg
ORGANIZER;CN="T2T Buffalo":MAILTO:BuffaloNY@t2t.org
GEO:42.892192;-78.740826
X-APPLE-STRUCTURED-LOCATION;VALUE=URI;X-ADDRESS=Bellevue Fire Hall 511 Como Park Bvld Cheektowaga NY 14227 United States;X-APPLE-RADIUS=500;X-TITLE=511 Como Park Bvld:geo:-78.740826,42.892192
END:VEVENT
BEGIN:VEVENT
DTSTART;TZID=UTC:20260920T080000
DTEND;TZID=UTC:20260920T080000
DTSTAMP:20260421T170810
CREATED:20260416T165737Z
LAST-MODIFIED:20260416T165737Z
UID:67608-1789891200-1789891200@t2t.org
SUMMARY:2026 Tunnel to Towers Tower Climb Capital Region Area
DESCRIPTION:
URL:https://t2t.org/event/2026-tunnel-to-towers-tower-climb-capital-region-area/
LOCATION:Corning Tower\, 100 S Mall Arterial\, Albany\, NY\, 12210\, United States
CATEGORIES:New York,Tower Climb Event
ATTACH;FMTTYPE=image/jpeg:https://t2t.org/wp-content/uploads/2026/04/2026_CapitalRegion_Thumbnail.jpg
ORGANIZER;CN="T2T Albany":MAILTO:Albany@t2t.org
GEO:42.6517397;-73.7618614
X-APPLE-STRUCTURED-LOCATION;VALUE=URI;X-ADDRESS=Corning Tower 100 S Mall Arterial Albany NY 12210 United States;X-APPLE-RADIUS=500;X-TITLE=100 S Mall Arterial:geo:-73.7618614,42.6517397
END:VEVENT
BEGIN:VEVENT
DTSTART;TZID=America/New_York:20261017T083000
DTEND;TZID=America/New_York:20261017T083000
DTSTAMP:20260421T170810
CREATED:20260108T150107Z
LAST-MODIFIED:20260108T150107Z
UID:65714-1792225800-1792225800@t2t.org
SUMMARY:2026 Tunnel to Towers 5K Run & Walk The Triangle
DESCRIPTION:
URL:https://t2t.org/event/2026-tunnel-to-towers-5k-run-walk-the-triangle/
LOCATION:Forest Pines Elementary School\, 11455 Forest Pines Drive\, Raleigh\, 27614\, United States
CATEGORIES:5K Run & Walk Event,North Carolina
ATTACH;FMTTYPE=image/jpeg:https://t2t.org/wp-content/uploads/2026/01/2026_TheTriangle_Thumbnail.jpg
ORGANIZER;CN="T2T The Triangle":MAILTO:Triangle@t2t.org
END:VEVENT
BEGIN:VEVENT
DTSTART;TZID=America/New_York:20261017T090000
DTEND;TZID=America/New_York:20261017T170000
DTSTAMP:20260421T170810
CREATED:20260319T134918Z
LAST-MODIFIED:20260319T134918Z
UID:66931-1792227600-1792256400@t2t.org
SUMMARY:2026 Tunnel to Towers 5K Run & Walk Hernando
DESCRIPTION:
URL:https://t2t.org/event/2026-tunnel-to-towers-5k-run-walk-hernando/
LOCATION:Hernando Civic Center at Renasant Park\, 3800 Robertson Gin Road\, Hernando\, MS\, 38632\, United States
CATEGORIES:5K Run & Walk Event,Mississippi,Tunnel to Towers National Run, Walk & Climb Series
ATTACH;FMTTYPE=image/jpeg:https://t2t.org/wp-content/uploads/2026/03/2026_Hernando_Thumbnail.jpg
END:VEVENT
BEGIN:VEVENT
DTSTART;TZID=America/New_York:20261018T083000
DTEND;TZID=America/New_York:20261018T083000
DTSTAMP:20260421T170810
CREATED:20260402T133525Z
LAST-MODIFIED:20260402T133525Z
UID:67265-1792312200-1792312200@t2t.org
SUMMARY:2026 Tunnel to Towers 5K Run & Walk Jersey Shore
DESCRIPTION:
URL:https://t2t.org/event/2026-tunnel-to-towers-5k-run-walk-jersey-shore/
LOCATION:Wall Township Municipal Complex\, 2700 Allaire Road\, Wall\, NJ\, 07719\, United States
CATEGORIES:5K Run & Walk Event,Tunnel to Towers National Run, Walk & Climb Series
ATTACH;FMTTYPE=image/jpeg:https://t2t.org/wp-content/uploads/2026/03/2026_JerseyShore_Thumbnail.jpg
END:VEVENT
BEGIN:VEVENT
DTSTART;TZID=America/New_York:20261101T080000
DTEND;TZID=America/New_York:20261101T170000
DTSTAMP:20260421T170810
CREATED:20260319T134917Z
LAST-MODIFIED:20260326T131329Z
UID:66938-1793520000-1793552400@t2t.org
SUMMARY:2026 Tunnel to Towers 5K Run & Walk New Orleans
DESCRIPTION:
URL:https://t2t.org/event/2026-tunnel-to-towers-5k-run-walk-new-orleans/
LOCATION:Marrero Harvey Fire Station 81\, 808 MacArthur Avenue\, Harvey\, LA\, 70058\, United States
CATEGORIES:5K Run & Walk Event,Louisiana,Tunnel to Towers National Run, Walk & Climb Series
ATTACH;FMTTYPE=image/jpeg:https://t2t.org/wp-content/uploads/2026/03/2026_NewOrleans_Thumbnail-1.jpg
END:VEVENT
BEGIN:VEVENT
DTSTART;TZID=America/New_York:20261108T083000
DTEND;TZID=America/New_York:20261108T083000
DTSTAMP:20260421T170810
CREATED:20260319T134917Z
LAST-MODIFIED:20260319T134917Z
UID:66924-1794126600-1794126600@t2t.org
SUMMARY:2026 Tunnel to Towers 5K Run & Walk Bluffton
DESCRIPTION:
URL:https://t2t.org/event/2026-tunnel-to-towers-5k-run-walk-bluffton/
LOCATION:Rose Hill Plantation\, 1 Equestrian Way\, Bluffton\, SC\, 29910\, United States
CATEGORIES:5K Run & Walk Event,South Carolina
ATTACH;FMTTYPE=image/jpeg:https://t2t.org/wp-content/uploads/2026/03/2026_Bluffton_Thumbnail.jpg
ORGANIZER;CN="T2T Bluffton":MAILTO:bluffton@t2t.org
END:VEVENT
BEGIN:VEVENT
DTSTART;TZID=America/New_York:20261114T080000
DTEND;TZID=America/New_York:20261114T080000
DTSTAMP:20260421T170810
CREATED:20260319T134917Z
LAST-MODIFIED:20260319T134917Z
UID:66929-1794643200-1794643200@t2t.org
SUMMARY:2026 Tunnel to Towers 5K Run & Walk Delaware Beaches
DESCRIPTION:
URL:https://t2t.org/event/2026-tunnel-to-towers-5k-run-walk-delaware-beaches/
LOCATION:Cape Henlopen State Park\, 15099 Cape Henlopen Dr\, Lewes\, DE\, 19958\, United States
CATEGORIES:5K Run & Walk Event,Delaware
ATTACH;FMTTYPE=image/jpeg:https://t2t.org/wp-content/uploads/2026/03/2026_DelawareBeaches_Thumbnail.jpg
ORGANIZER;CN="T2T Delmarva":MAILTO:delmarva@t2t.org
END:VEVENT
BEGIN:VEVENT
DTSTART;VALUE=DATE:20261116
DTEND;VALUE=DATE:20261117
DTSTAMP:20260421T170810
CREATED:20260421T163845Z
LAST-MODIFIED:20260421T163845Z
UID:67679-1794787200-1794873599@t2t.org
SUMMARY:The Tunnel to Towers Pinehurst Golf Classic
DESCRIPTION:MONDAY | November 16-17\, 2026 \nDinner November 16\, 2026:\nat Outlook Ballroom (1 Carolina Vista Dr\, Pinehurst\, NC 28374)\nCocktail Hour: 5:00pm\nDinner: 6:00pm \nGolf November 17\, 2026:\nRegistration & Breakfast: 7:00am\nShotgun Start: 8:30am\nLunch to follow\n \n  \n Download Form \n  \n  \n\n\nOn Sept. 11\, 2001\, FDNY firefighter Stephen Siller strapped his gear to his back and raced on foot through the Hugh L. Carey Tunnel to the World Trade Center Site after he received word of an attack. There\, he gave up his life while saving others. To commemorate Stephen’s sacrifice\, and the sacrifice of so many others\, the Tunnel to Towers Foundation began the National Golf Series which benefits the Foundation’s programs and efforts supporting first responders and service members. \nFind out more about our National Golf Series \nLearn More
URL:https://t2t.org/event/the-tunnel-to-towers-pinehurst-golf-classic-2/2026-11-16/
LOCATION:Pinehurst Resort Course #8\, 100 Centennial Boulevard\, Pinehurst\, NC\, 28374\, United States
CATEGORIES:North Carolina,Tunnel to Towers National Golf Series
ATTACH;FMTTYPE=image/jpeg:https://t2t.org/wp-content/uploads/2026/03/Crystal-Springs-1.jpg
END:VEVENT
BEGIN:VEVENT
DTSTART;VALUE=DATE:20261117
DTEND;VALUE=DATE:20261118
DTSTAMP:20260421T170810
CREATED:20260421T163846Z
LAST-MODIFIED:20260421T163846Z
UID:67680-1794873600-1794959999@t2t.org
SUMMARY:The Tunnel to Towers Pinehurst Golf Classic
DESCRIPTION:MONDAY | November 16-17\, 2026 \nDinner November 16\, 2026:\nat Outlook Ballroom (1 Carolina Vista Dr\, Pinehurst\, NC 28374)\nCocktail Hour: 5:00pm\nDinner: 6:00pm \nGolf November 17\, 2026:\nRegistration & Breakfast: 7:00am\nShotgun Start: 8:30am\nLunch to follow\n \n  \n Download Form \n  \n  \n\n\nOn Sept. 11\, 2001\, FDNY firefighter Stephen Siller strapped his gear to his back and raced on foot through the Hugh L. Carey Tunnel to the World Trade Center Site after he received word of an attack. There\, he gave up his life while saving others. To commemorate Stephen’s sacrifice\, and the sacrifice of so many others\, the Tunnel to Towers Foundation began the National Golf Series which benefits the Foundation’s programs and efforts supporting first responders and service members. \nFind out more about our National Golf Series \nLearn More
URL:https://t2t.org/event/the-tunnel-to-towers-pinehurst-golf-classic-2/2026-11-17/
LOCATION:Pinehurst Resort Course #8\, 100 Centennial Boulevard\, Pinehurst\, NC\, 28374\, United States
CATEGORIES:North Carolina,Tunnel to Towers National Golf Series
ATTACH;FMTTYPE=image/jpeg:https://t2t.org/wp-content/uploads/2026/03/Crystal-Springs-1.jpg
END:VEVENT
BEGIN:VEVENT
DTSTART;TZID=UTC:20261119T090000
DTEND;TZID=UTC:20261119T090000
DTSTAMP:20260421T170810
CREATED:20260219T174450Z
LAST-MODIFIED:20260219T184117Z
UID:66535-1795078800-1795078800@t2t.org
SUMMARY:2026 Tunnel to Towers 5K Run & Walk Virginia Beach
DESCRIPTION:
URL:https://t2t.org/event/2026-tunnel-to-towers-5k-run-walk-virginia-beach/
LOCATION:24th Street Park\, 2400 Atlantic Avenue\, Virginia Beach\, VA\, 23451\, United States
CATEGORIES:5K Run & Walk Event,Virginia
ATTACH;FMTTYPE=image/jpeg:https://t2t.org/wp-content/uploads/2026/02/2026_VirginiaBeach_Thumbnail-1.jpg
END:VEVENT
END:VCALENDAR