BEGIN:VCALENDAR
VERSION:2.0
PRODID:-//Tunnel to Towers Foundation - ECPv6.15.17//NONSGML v1.0//EN
CALSCALE:GREGORIAN
METHOD:PUBLISH
X-WR-CALNAME:Tunnel to Towers Foundation
X-ORIGINAL-URL:https://t2t.org
X-WR-CALDESC:Events for Tunnel to Towers Foundation
REFRESH-INTERVAL;VALUE=DURATION:PT1H
X-Robots-Tag:noindex
X-PUBLISHED-TTL:PT1H
BEGIN:VTIMEZONE
TZID:UTC
BEGIN:STANDARD
TZOFFSETFROM:+0000
TZOFFSETTO:+0000
TZNAME:UTC
DTSTART:20210101T000000
END:STANDARD
END:VTIMEZONE
BEGIN:VTIMEZONE
TZID:America/New_York
BEGIN:DAYLIGHT
TZOFFSETFROM:-0500
TZOFFSETTO:-0400
TZNAME:EDT
DTSTART:20160313T070000
END:DAYLIGHT
BEGIN:STANDARD
TZOFFSETFROM:-0400
TZOFFSETTO:-0500
TZNAME:EST
DTSTART:20161106T060000
END:STANDARD
BEGIN:DAYLIGHT
TZOFFSETFROM:-0500
TZOFFSETTO:-0400
TZNAME:EDT
DTSTART:20170312T070000
END:DAYLIGHT
BEGIN:STANDARD
TZOFFSETFROM:-0400
TZOFFSETTO:-0500
TZNAME:EST
DTSTART:20171105T060000
END:STANDARD
BEGIN:DAYLIGHT
TZOFFSETFROM:-0500
TZOFFSETTO:-0400
TZNAME:EDT
DTSTART:20180311T070000
END:DAYLIGHT
BEGIN:STANDARD
TZOFFSETFROM:-0400
TZOFFSETTO:-0500
TZNAME:EST
DTSTART:20181104T060000
END:STANDARD
BEGIN:DAYLIGHT
TZOFFSETFROM:-0500
TZOFFSETTO:-0400
TZNAME:EDT
DTSTART:20190310T070000
END:DAYLIGHT
BEGIN:STANDARD
TZOFFSETFROM:-0400
TZOFFSETTO:-0500
TZNAME:EST
DTSTART:20191103T060000
END:STANDARD
BEGIN:DAYLIGHT
TZOFFSETFROM:-0500
TZOFFSETTO:-0400
TZNAME:EDT
DTSTART:20200308T070000
END:DAYLIGHT
BEGIN:STANDARD
TZOFFSETFROM:-0400
TZOFFSETTO:-0500
TZNAME:EST
DTSTART:20201101T060000
END:STANDARD
BEGIN:DAYLIGHT
TZOFFSETFROM:-0500
TZOFFSETTO:-0400
TZNAME:EDT
DTSTART:20210314T070000
END:DAYLIGHT
BEGIN:STANDARD
TZOFFSETFROM:-0400
TZOFFSETTO:-0500
TZNAME:EST
DTSTART:20211107T060000
END:STANDARD
BEGIN:DAYLIGHT
TZOFFSETFROM:-0500
TZOFFSETTO:-0400
TZNAME:EDT
DTSTART:20220313T070000
END:DAYLIGHT
BEGIN:STANDARD
TZOFFSETFROM:-0400
TZOFFSETTO:-0500
TZNAME:EST
DTSTART:20221106T060000
END:STANDARD
BEGIN:DAYLIGHT
TZOFFSETFROM:-0500
TZOFFSETTO:-0400
TZNAME:EDT
DTSTART:20230312T070000
END:DAYLIGHT
BEGIN:STANDARD
TZOFFSETFROM:-0400
TZOFFSETTO:-0500
TZNAME:EST
DTSTART:20231105T060000
END:STANDARD
BEGIN:DAYLIGHT
TZOFFSETFROM:-0500
TZOFFSETTO:-0400
TZNAME:EDT
DTSTART:20240310T070000
END:DAYLIGHT
BEGIN:STANDARD
TZOFFSETFROM:-0400
TZOFFSETTO:-0500
TZNAME:EST
DTSTART:20241103T060000
END:STANDARD
END:VTIMEZONE
BEGIN:VEVENT
DTSTART;TZID=UTC:20230917T083000
DTEND;TZID=UTC:20230917T083000
DTSTAMP:20260422T211920
CREATED:20230518T191428Z
LAST-MODIFIED:20240416T174528Z
UID:37002-1694939400-1694939400@t2t.org
SUMMARY:2023 Tunnel to Towers Tower Climb Capital Region Area
DESCRIPTION:
URL:https://t2t.org/event/2023-tunnel-to-towers-tower-climb-capital-region-area/
LOCATION:Corning Tower\, 100 S Mall Arterial\, Albany\, NY\, 12210\, United States
CATEGORIES:New York,Tower Climb Event
ATTACH;FMTTYPE=image/jpeg:https://t2t.org/wp-content/uploads/2017/07/2023-Thumbnails-Capital-Region.jpg
ORGANIZER;CN="T2T Albany":MAILTO:Albany@t2t.org
GEO:42.6517397;-73.7618614
X-APPLE-STRUCTURED-LOCATION;VALUE=URI;X-ADDRESS=Corning Tower 100 S Mall Arterial Albany NY 12210 United States;X-APPLE-RADIUS=500;X-TITLE=100 S Mall Arterial:geo:-73.7618614,42.6517397
END:VEVENT
BEGIN:VEVENT
DTSTART;VALUE=DATE:20230604
DTEND;VALUE=DATE:20230605
DTSTAMP:20260422T211920
CREATED:20230221T140037Z
LAST-MODIFIED:20240411T213640Z
UID:35967-1685836800-1685923199@t2t.org
SUMMARY:7th Annual Tower Climb at One World Observatory
DESCRIPTION:On Sunday\, June 4th\, the Tunnel to Towers Foundation will hold its seventh annual Tower Climb at New York’s One World Observatory. We hope you’ll choose to participate in the event\, and support the Foundation’s mission. The depth of emotion you will feel as you make your way up the steps of the building that symbolizes strength and hope\, and the resiliency and invincibility of the American spirit will be beyond words. Looking down at the two reflecting pools that mark the footprints of where the Twin Towers once stood\, from the 102nd floor\, is a sight to behold. The event pays special homage to all 9/11 heroes and specifically\, FDNY Captain Billy Burke. On September 11\, 2001\, while responding to the attacks at the trade center\, Captain Burke stayed behind to save others on the 27th floor of the north tower\, while commanding other firefighters to get out of the building. He was already aware that the south tower had collapsed. He lost his life moments later. Captain Burke’s selflessness is legendary among those in his profession. Without support and generosity from citizens throughout the country\, the Tunnel to Towers Foundation could not carry out our very important endeavors. The event is limited to 1\,000 participants\, so please register today to secure a position in this very meaningful event. If you have any questions\, feel free to reach us at (718) 987-1931 or to learn more Click Here.
URL:https://t2t.org/event/7th-annual-tower-climb-at-one-world-observatory/
LOCATION:One World Observatory at One World Trade Center\, 285 Fulton St\, New York\, NY\, 10006\, United States
CATEGORIES:New York,Tower Climb Event,Tunnel to Towers
ATTACH;FMTTYPE=image/jpeg:https://t2t.org/wp-content/uploads/2023/02/2023-Thumbnails-NYC-Tower-Climb.jpg
GEO:40.7130082;-74.0131689
X-APPLE-STRUCTURED-LOCATION;VALUE=URI;X-ADDRESS=One World Observatory at One World Trade Center 285 Fulton St New York NY 10006 United States;X-APPLE-RADIUS=500;X-TITLE=285 Fulton St:geo:-74.0131689,40.7130082
END:VEVENT
BEGIN:VEVENT
DTSTART;TZID=America/New_York:20230430T080000
DTEND;TZID=America/New_York:20230430T080000
DTSTAMP:20260422T211920
CREATED:20230127T011430Z
LAST-MODIFIED:20240506T114310Z
UID:35714-1682841600-1682841600@t2t.org
SUMMARY:2023 Tunnel to Towers Tower Climb Charlotte
DESCRIPTION:
URL:https://t2t.org/event/2023-tunnel-to-towers-tower-climb-charlotte/
LOCATION:Museum Tower\, 525 South Church Street\, Charlotte\, NC\, 28210\, United States
CATEGORIES:Home Events,North Carolina,Tower Climb Event
ATTACH;FMTTYPE=image/jpeg:https://t2t.org/wp-content/uploads/2022/01/1-2022-Thumbnails-New-Dimensions.jpg
ORGANIZER;CN="T2T Charlotte":MAILTO:Charlotte@t2t.org
END:VEVENT
BEGIN:VEVENT
DTSTART;TZID=America/New_York:20221008T080000
DTEND;TZID=America/New_York:20221008T080000
DTSTAMP:20260422T211920
CREATED:20220519T162117Z
LAST-MODIFIED:20240411T214229Z
UID:31320-1665216000-1665216000@t2t.org
SUMMARY:2022 Tunnel to Towers Tower Climb Tampa
DESCRIPTION:
URL:https://t2t.org/event/2022-tunnel-to-towers-tower-climb-tampa/
LOCATION:One Tampa City Center\, 201 N Franklin St\, Tampa\, FL\, 33602\, United States
CATEGORIES:Florida,Tower Climb Event
ATTACH;FMTTYPE=image/jpeg:https://t2t.org/wp-content/uploads/2022/05/2022-tampa-Climb-Thumbnail.jpg
ORGANIZER;CN="T2T Tampa":MAILTO:Tampa@t2t.org
GEO:27.9468142;-82.4569701
X-APPLE-STRUCTURED-LOCATION;VALUE=URI;X-ADDRESS=One Tampa City Center 201 N Franklin St Tampa FL 33602 United States;X-APPLE-RADIUS=500;X-TITLE=201 N Franklin St:geo:-82.4569701,27.9468142
END:VEVENT
BEGIN:VEVENT
DTSTART;TZID=UTC:20220918T083000
DTEND;TZID=UTC:20220918T083000
DTSTAMP:20260422T211920
CREATED:20210602T214819Z
LAST-MODIFIED:20240506T125139Z
UID:22245-1663489800-1663489800@t2t.org
SUMMARY:2022 Tunnel to Towers Tower Climb Capital Region Area
DESCRIPTION:
URL:https://t2t.org/event/2022tunnel-to-towers-tower-climb-capital-region-area/
LOCATION:Corning Tower\, 100 S Mall Arterial\, Albany\, NY\, 12210\, United States
CATEGORIES:New York,Tower Climb Event
ATTACH;FMTTYPE=image/jpeg:https://t2t.org/wp-content/uploads/2017/07/2022-Captial-Region-Run-Thumbnail.jpg
ORGANIZER;CN="T2T Albany":MAILTO:Albany@t2t.org
GEO:42.6517397;-73.7618614
X-APPLE-STRUCTURED-LOCATION;VALUE=URI;X-ADDRESS=Corning Tower 100 S Mall Arterial Albany NY 12210 United States;X-APPLE-RADIUS=500;X-TITLE=100 S Mall Arterial:geo:-73.7618614,42.6517397
END:VEVENT
BEGIN:VEVENT
DTSTART;VALUE=DATE:20220605
DTEND;VALUE=DATE:20220606
DTSTAMP:20260422T211920
CREATED:20220228T140049Z
LAST-MODIFIED:20240506T121738Z
UID:29747-1654387200-1654473599@t2t.org
SUMMARY:6th Annual Tower Climb at One World Observatory
DESCRIPTION:On Sunday\, June 5th\, the Tunnel to Towers Foundation will hold its sixth annual Tower Climb at New York’s One World Observatory. We hope you’ll choose to participate in the event\, and support the Foundation’s mission. The depth of emotion you will feel as you make your way up the steps of the building that symbolizes strength and hope\, and the resiliency and invincibility of the American spirit will be beyond words. Looking down at the two reflecting pools that mark the footprints of where the Twin Towers once stood\, from the 102nd floor\, is a sight to behold. The event pays special homage to all 9/11 heroes and specifically\, FDNY Captain Billy Burke. On September 11\, 2001\, while responding to the attacks at the trade center\, Captain Burke stayed behind to save others on the 27th floor of the north tower\, while commanding other firefighters to get out of the building. He was already aware that the south tower had collapsed. He lost his life moments later. Captain Burke’s selflessness is legendary among those in his profession. Without support and generosity from citizens throughout the country\, the Tunnel to Towers Foundation could not carry out our very important endeavors. The event is limited to 1\,000 participants\, so please register today to secure a position in this very meaningful event. If you have any questions\, feel free to reach us at (718) 987-1931 or to learn more Click Here.
URL:https://t2t.org/event/6th-annual-tower-climb-at-one-world-observatory/
LOCATION:One World Observatory at One World Trade Center\, 285 Fulton St\, New York\, NY\, 10006\, United States
CATEGORIES:New York,Tower Climb Event,Tunnel to Towers
ATTACH;FMTTYPE=image/jpeg:https://t2t.org/wp-content/uploads/2022/02/2022-NYC-Climb-Thumbnail.jpg
GEO:40.7130082;-74.0131689
X-APPLE-STRUCTURED-LOCATION;VALUE=URI;X-ADDRESS=One World Observatory at One World Trade Center 285 Fulton St New York NY 10006 United States;X-APPLE-RADIUS=500;X-TITLE=285 Fulton St:geo:-74.0131689,40.7130082
END:VEVENT
BEGIN:VEVENT
DTSTART;TZID=America/New_York:20220501T080000
DTEND;TZID=America/New_York:20220501T080000
DTSTAMP:20260422T211920
CREATED:20220125T160045Z
LAST-MODIFIED:20240506T121228Z
UID:29337-1651392000-1651392000@t2t.org
SUMMARY:2022 Tunnel to Towers Tower Climb Charlotte
DESCRIPTION:
URL:https://t2t.org/event/2022-tunnel-to-towers-tower-climb-charlotte/
LOCATION:Museum Tower\, 525 South Church Street\, Charlotte\, NC\, 28210\, United States
CATEGORIES:Home Events,North Carolina,Tower Climb Event
ATTACH;FMTTYPE=image/jpeg:https://t2t.org/wp-content/uploads/2020/01/2022-Charlotte-Climb-Thumbnail.jpg
ORGANIZER;CN="T2T Charlotte":MAILTO:Charlotte@t2t.org
END:VEVENT
BEGIN:VEVENT
DTSTART;TZID=America/New_York:20211023T083000
DTEND;TZID=America/New_York:20211023T083000
DTSTAMP:20260422T211921
CREATED:20210622T170032Z
LAST-MODIFIED:20240506T120042Z
UID:22488-1634977800-1634977800@t2t.org
SUMMARY:2021 Tunnel to Towers Tower Climb Syracuse
DESCRIPTION:
URL:https://t2t.org/event/2021-tunnel-to-towers-tower-climb-syracuse/
LOCATION:AXA Towers\, 100 Madison street\, Syracuse\, NY\, 13202\, United States
CATEGORIES:Home Events,New York,Tower Climb Event
ATTACH;FMTTYPE=image/png:https://t2t.org/wp-content/uploads/2019/01/2020-Syracuse-1.png
ORGANIZER;CN="T2T Syracuse":MAILTO:Syracuse@t2t.org
END:VEVENT
BEGIN:VEVENT
DTSTART;TZID=America/New_York:20211016T080000
DTEND;TZID=America/New_York:20211016T080000
DTSTAMP:20260422T211921
CREATED:20210602T221208Z
LAST-MODIFIED:20240506T123034Z
UID:22258-1634371200-1634371200@t2t.org
SUMMARY:2021 Tunnel to Towers Tower Climb Tampa
DESCRIPTION:
URL:https://t2t.org/event/2021-tunnel-to-towers-tower-climb-tampa/
LOCATION:One Tampa City Center\, 201 N Franklin St\, Tampa\, FL\, 33602\, United States
CATEGORIES:Florida,Tower Climb Event
ATTACH;FMTTYPE=image/png:https://t2t.org/wp-content/uploads/2018/01/2021-Tampa.png
ORGANIZER;CN="T2T Tampa":MAILTO:Tampa@t2t.org
GEO:27.9468142;-82.4569701
X-APPLE-STRUCTURED-LOCATION;VALUE=URI;X-ADDRESS=One Tampa City Center 201 N Franklin St Tampa FL 33602 United States;X-APPLE-RADIUS=500;X-TITLE=201 N Franklin St:geo:-82.4569701,27.9468142
END:VEVENT
BEGIN:VEVENT
DTSTART;VALUE=DATE:20201122
DTEND;VALUE=DATE:20201123
DTSTAMP:20260422T211921
CREATED:20200428T180551Z
LAST-MODIFIED:20240506T123018Z
UID:18535-1606003200-1606089599@t2t.org
SUMMARY:6th Annual Tower Climb at One World Observatory
DESCRIPTION:  \nThe safety of our participants and donors is of the utmost importance to us. Unfortunately\, after many attempts to create a safe environment at One World Observatory\, the 2020 Tunnel to Towers Tower Climb NYC will be canceled this year due to health concerns. \nWhat will happen to my entry fee?All participants will be refunded their entry fee. \nWhen will I receive my refund?We will begin processing returns immediately to the payment method used to register. Please allow 5-7days for processing. \nHow do I join the Never Forget Virtual Challenge?Email us at T2TClimb@t2t.org and you will receive a promo code for complimentary entryto the challenge along with instructions for how to register. \n  \n\n\n \nOn Sunday\, June 2nd\, the Stephen Siller Tunnel to Towers Foundation will hold its fifth annual Tower Climb at New York’s One World Observatory. We hope you’ll choose to participate in the event\, and support the Foundation’s mission. \nThe depth of emotion you will feel as you make your way up the steps of the building that symbolizes strength and hope\, and the resiliency and invincibility of the American spirit will be beyond words. Looking down at the two reflecting pools that mark the footprints of where the Twin Towers once stood\, from the 102nd floor\, is a sight to behold. \nThe event pays special homage to all 9/11 heroes and specifically\, FDNY Captain Billy Burke. On September 11\, 2001\, while responding to the attacks at the trade center\, Captain Burke stayed behind to save others on the 27th floor of the north tower\, while commanding other firefighters to get out of the building. He was already aware that the south tower had collapsed. He lost his life moments later. Captain Burke’s selflessness is legendary among those in his profession. \nWithout support and generosity from citizens throughout the country\, the Stephen Siller Tunnel to Towers Foundation could not carry out our very important endeavors. The event is limited to 1\,000 participants\, so please register today to secure a position in this very meaningful event. \nIf you have any questions\, feel free to reach us at (718) 987-1931 or to learn more Click Here.
URL:https://t2t.org/event/6th-annual-tower-climb-one-world-observatory/
LOCATION:One World Observatory at One World Trade Center\, 285 Fulton St\, New York\, NY\, 10006\, United States
CATEGORIES:New York,Tower Climb Event,Tunnel to Towers
ATTACH;FMTTYPE=image/png:https://t2t.org/wp-content/uploads/2020/04/2020-NYC-Tower-Climb_New-Date.png
GEO:40.7130082;-74.0131689
X-APPLE-STRUCTURED-LOCATION;VALUE=URI;X-ADDRESS=One World Observatory at One World Trade Center 285 Fulton St New York NY 10006 United States;X-APPLE-RADIUS=500;X-TITLE=285 Fulton St:geo:-74.0131689,40.7130082
END:VEVENT
BEGIN:VEVENT
DTSTART;TZID=America/New_York:20200425T080000
DTEND;TZID=America/New_York:20200425T080000
DTSTAMP:20260422T211921
CREATED:20200108T162439Z
LAST-MODIFIED:20240506T125627Z
UID:16894-1587801600-1587801600@t2t.org
SUMMARY:2020 Tunnel to Towers Tower Climb Charlotte
DESCRIPTION:
URL:https://t2t.org/event/2020-tunnel-to-towers-tower-climb-charlotte/
LOCATION:Duke Energy Tower\, 550 S Tryon St.\, Charlotte\, NC\, 28210\, United States
CATEGORIES:Home Events,North Carolina,Tower Climb Event
ATTACH;FMTTYPE=image/png:https://t2t.org/wp-content/uploads/2020/01/Postponed-Thumbnail-Charlotte.png
ORGANIZER;CN="T2T Charlotte":MAILTO:Charlotte@t2t.org
GEO:35.2252005;-80.8473796
X-APPLE-STRUCTURED-LOCATION;VALUE=URI;X-ADDRESS=Duke Energy Tower 550 S Tryon St. Charlotte NC 28210 United States;X-APPLE-RADIUS=500;X-TITLE=550 S Tryon St.:geo:-80.8473796,35.2252005
END:VEVENT
BEGIN:VEVENT
DTSTART;VALUE=DATE:20190602
DTEND;VALUE=DATE:20190603
DTSTAMP:20260422T211921
CREATED:20190213T181601Z
LAST-MODIFIED:20240506T120907Z
UID:14108-1559433600-1559519999@t2t.org
SUMMARY:5th Annual Tower Climb at One World Observatory
DESCRIPTION:On Sunday\, June 2nd\, the Stephen Siller Tunnel to Towers Foundation will hold its fifth annual Tower Climb at New York’s One World Observatory. We hope you’ll choose to participate in the event\, and support the Foundation’s mission. The depth of emotion you will feel as you make your way up the steps of the building that symbolizes strength and hope\, and the resiliency and invincibility of the American spirit will be beyond words. Looking down at the two reflecting pools that mark the footprints of where the Twin Towers once stood\, from the 102nd floor\, is a sight to behold. The event pays special homage to all 9/11 heroes and specifically\, FDNY Captain Billy Burke. On September 11\, 2001\, while responding to the attacks at the trade center\, Captain Burke stayed behind to save others on the 27th floor of the north tower\, while commanding other firefighters to get out of the building. He was already aware that the south tower had collapsed. He lost his life moments later. Captain Burke’s selflessness is legendary among those in his profession. Without support and generosity from citizens throughout the country\, the Stephen Siller Tunnel to Towers Foundation could not carry out our very important endeavors. The event is limited to 1\,000 participants\, so please register today to secure a position in this very meaningful event. If you have any questions\, feel free to reach us at (718) 987-1931 or to learn more Click Here. \n\n 
URL:https://t2t.org/event/5th-annual-tower-climb-one-world-observatory/
LOCATION:One World Observatory at One World Trade Center\, 285 Fulton St\, New York\, NY\, 10006\, United States
CATEGORIES:New York,Tower Climb Event,Tunnel to Towers
ATTACH;FMTTYPE=image/png:https://t2t.org/wp-content/uploads/2019/02/2019-New-York-City-Tower-Climb.png
GEO:40.7130082;-74.0131689
X-APPLE-STRUCTURED-LOCATION;VALUE=URI;X-ADDRESS=One World Observatory at One World Trade Center 285 Fulton St New York NY 10006 United States;X-APPLE-RADIUS=500;X-TITLE=285 Fulton St:geo:-74.0131689,40.7130082
END:VEVENT
BEGIN:VEVENT
DTSTART;VALUE=DATE:20180603
DTEND;VALUE=DATE:20180604
DTSTAMP:20260422T211921
CREATED:20180219T161313Z
LAST-MODIFIED:20240506T122728Z
UID:11095-1527984000-1528070399@t2t.org
SUMMARY:4th Annual Tower Climb at One World Observatory
DESCRIPTION:On Sunday\, June 3rd\, the Stephen Siller Tunnel to Towers Foundation will hold its fourth annual Tower Climb at New York’s One World Observatory. We hope you’ll choose to participate in the event\, and support the Foundation’s mission. \nThe depth of emotion you will feel as you make your way up the steps of the building that symbolizes strength and hope\, and the resiliency and invincibility of the American spirit will be beyond words. Looking down at the two reflecting pools that mark the footprints of where the Twin Towers once stood\, from the 102nd floor\, is a sight to behold. \nThe event pays special homage to FDNY Captain Billy Burke. On September 11\, 2001\, while responding to the attacks at the trade center\, Captain Burke stayed behind to save others on the 27th floor of the north tower\, while commanding other firefighters to get out of the building. He was already aware that the south tower had collapsed. He lost his life moments later. Captain Burke’s selflessness is legendary among those in his profession. \nWithout support and generosity from citizens throughout the country\, the Stephen Siller Tunnel to Towers Foundation could not carry out our very important endeavors. The event is limited to 1\,000 participants\, so please register today to secure a position in this very meaningful event. \nIf you have any questions\, feel free to reach us at (718) 987-1931 or to learn more Click Here.
URL:https://t2t.org/event/4th-annual-tower-climb-one-world-observatory/
LOCATION:One World Observatory at One World Trade Center\, 285 Fulton St\, New York\, NY\, 10006\, United States
CATEGORIES:Tower Climb Event,Tunnel to Towers
ATTACH;FMTTYPE=image/png:https://t2t.org/wp-content/uploads/2018/02/2018-New-York-City-Climb.png
GEO:40.7130082;-74.0131689
X-APPLE-STRUCTURED-LOCATION;VALUE=URI;X-ADDRESS=One World Observatory at One World Trade Center 285 Fulton St New York NY 10006 United States;X-APPLE-RADIUS=500;X-TITLE=285 Fulton St:geo:-74.0131689,40.7130082
END:VEVENT
BEGIN:VEVENT
DTSTART;VALUE=DATE:20170604
DTEND;VALUE=DATE:20170605
DTSTAMP:20260422T211921
CREATED:20170320T195303Z
LAST-MODIFIED:20260115T172514Z
UID:7695-1496534400-1496620799@t2t.org
SUMMARY:3nd Annual Tower Climb at One World Observatory
DESCRIPTION:On Sunday\, June 4th\, the Stephen Siller Tunnel to Towers Foundation will hold its third annual Tower Climb at New York’s One World Observatory. We hope you’ll choose to participate in the event\, and support the Foundation’s mission.\n  \nThe depth of emotion you will feel as you make your way up the steps of the building that symbolizes strength and hope\, and the resiliency and invincibility of the American spirit will be beyond words. Looking down at the two reflecting pools that mark the footprints of where the Twin Towers once stood\, from the 102nd floor\, is a sight to behold.\n  \nThe event pays special homage to FDNY Captain Billy Burke. On September 11\, 2001\, while responding to the attacks at the trade center\, Captain Burke stayed behind to save others on the 27th floor of the north tower\, while commanding other firefighters to get out of the building. He was already aware that the south tower had collapsed. He lost his life moments later. Captain Burke’s selflessness is legendary among those in his profession.\n  \nWithout support and generosity from citizens throughout the country\, the Stephen Siller Tunnel to Towers Foundation could not carry out our very important endeavors. The event is limited to 1\,000 participants\, so please register today to secure a position in this very meaningful event.\n\n 
URL:https://t2t.org/event/3nd-annual-tower-climb-one-world-observatory/
LOCATION:One World Trade Center\, 1 World Trade Center\, NEW YORK\, NY\, 10006\, United States
CATEGORIES:Tower Climb Event,Tunnel to Towers
ATTACH;FMTTYPE=image/png:https://t2t.org/wp-content/uploads/2017/03/NYC-Tower-Climb.png
GEO:40.7127431;-74.0133795
X-APPLE-STRUCTURED-LOCATION;VALUE=URI;X-ADDRESS=One World Trade Center 1 World Trade Center NEW YORK NY 10006 United States;X-APPLE-RADIUS=500;X-TITLE=1 World Trade Center:geo:-74.0133795,40.7127431
END:VEVENT
END:VCALENDAR