BEGIN:VCALENDAR
VERSION:2.0
PRODID:-//Tunnel to Towers Foundation - ECPv6.15.17//NONSGML v1.0//EN
CALSCALE:GREGORIAN
METHOD:PUBLISH
X-ORIGINAL-URL:https://t2t.org
X-WR-CALDESC:Events for Tunnel to Towers Foundation
REFRESH-INTERVAL;VALUE=DURATION:PT1H
X-Robots-Tag:noindex
X-PUBLISHED-TTL:PT1H
BEGIN:VTIMEZONE
TZID:America/New_York
BEGIN:DAYLIGHT
TZOFFSETFROM:-0500
TZOFFSETTO:-0400
TZNAME:EDT
DTSTART:20230312T070000
END:DAYLIGHT
BEGIN:STANDARD
TZOFFSETFROM:-0400
TZOFFSETTO:-0500
TZNAME:EST
DTSTART:20231105T060000
END:STANDARD
BEGIN:DAYLIGHT
TZOFFSETFROM:-0500
TZOFFSETTO:-0400
TZNAME:EDT
DTSTART:20240310T070000
END:DAYLIGHT
BEGIN:STANDARD
TZOFFSETFROM:-0400
TZOFFSETTO:-0500
TZNAME:EST
DTSTART:20241103T060000
END:STANDARD
BEGIN:DAYLIGHT
TZOFFSETFROM:-0500
TZOFFSETTO:-0400
TZNAME:EDT
DTSTART:20250309T070000
END:DAYLIGHT
BEGIN:STANDARD
TZOFFSETFROM:-0400
TZOFFSETTO:-0500
TZNAME:EST
DTSTART:20251102T060000
END:STANDARD
BEGIN:DAYLIGHT
TZOFFSETFROM:-0500
TZOFFSETTO:-0400
TZNAME:EDT
DTSTART:20260308T070000
END:DAYLIGHT
BEGIN:STANDARD
TZOFFSETFROM:-0400
TZOFFSETTO:-0500
TZNAME:EST
DTSTART:20261101T060000
END:STANDARD
END:VTIMEZONE
BEGIN:VTIMEZONE
TZID:UTC
BEGIN:STANDARD
TZOFFSETFROM:+0000
TZOFFSETTO:+0000
TZNAME:UTC
DTSTART:20240101T000000
END:STANDARD
END:VTIMEZONE
BEGIN:VEVENT
DTSTART;TZID=America/New_York:20250802T090000
DTEND;TZID=America/New_York:20250802T090000
DTSTAMP:20260423T141538
CREATED:20250206T162213Z
LAST-MODIFIED:20250206T162213Z
UID:61005-1754125200-1754125200@t2t.org
SUMMARY:2025 Tunnel to Towers 5K Run & Walk Milwaukee
DESCRIPTION:
URL:https://t2t.org/event/2025-tunnel-to-towers-5k-run-walk-milwaukee/
LOCATION:Muskego Veterans Memorial Park\, W182S8175 Racine Avenue\, Muskego\, WI\, 53150\, United States
CATEGORIES:5K Run & Walk Event,Wisconsin
ATTACH;FMTTYPE=image/png:https://t2t.org/wp-content/uploads/2023/03/2025-Milwaukee.png
ORGANIZER;CN="T2T Milwaukee":MAILTO:milwaukeerun@t2t.org
END:VEVENT
BEGIN:VEVENT
DTSTART;TZID=America/New_York:20250727T093000
DTEND;TZID=America/New_York:20250727T093000
DTSTAMP:20260423T141538
CREATED:20250306T174621Z
LAST-MODIFIED:20250306T174621Z
UID:61370-1753608600-1753608600@t2t.org
SUMMARY:2025 Tunnel to Towers 5K Run & Walk Fire Island
DESCRIPTION:
URL:https://t2t.org/event/2025-tunnel-to-towers-5k-run-walk-fire-island/
LOCATION:The SandBar\, 470 Bay Walk\, Ocean Beach\, NY\, 11770\, United States
CATEGORIES:5K Run & Walk Event,New York
ATTACH;FMTTYPE=image/png:https://t2t.org/wp-content/uploads/2025/03/2025-Fire-Island.png
ORGANIZER;CN="Fire Island Run - Chelsea Maningo":MAILTO:FireIslandRun@t2t.org
END:VEVENT
BEGIN:VEVENT
DTSTART;TZID=America/New_York:20250705T090000
DTEND;TZID=America/New_York:20250705T090000
DTSTAMP:20260423T141538
CREATED:20250306T175748Z
LAST-MODIFIED:20250306T175748Z
UID:61298-1751706000-1751706000@t2t.org
SUMMARY:2025 Tunnel to Towers 5K Run & Walk North Conway
DESCRIPTION:
URL:https://t2t.org/event/2025-tunnel-to-towers-5k-run-walk-north-conway/
LOCATION:Schouler Park\, Main Street\, North Conway\, NH\, United States
CATEGORIES:5K Run & Walk Event,New Hampshire
ATTACH;FMTTYPE=image/png:https://t2t.org/wp-content/uploads/2025/03/2025-North-Conway.png
ORGANIZER;CN="T2T North Conway":MAILTO:ChiNewEngland@t2t.org
END:VEVENT
BEGIN:VEVENT
DTSTART;TZID=America/New_York:20250704T080000
DTEND;TZID=America/New_York:20250704T080000
DTSTAMP:20260423T141538
CREATED:20250206T162041Z
LAST-MODIFIED:20250219T170941Z
UID:61002-1751616000-1751616000@t2t.org
SUMMARY:2025 Tunnel to Towers 5K Run & Walk Donnellson
DESCRIPTION:
URL:https://t2t.org/event/2025-tunnel-to-towers-5k-run-walk-donnellson/
LOCATION:Donnellson Fire Department\, 616 N. Main Street\, Donnellson\, IA\, 52625\, United States
CATEGORIES:5K Run & Walk Event,Iowa
ATTACH;FMTTYPE=image/png:https://t2t.org/wp-content/uploads/2025/02/2025-Donnellson-Thumbnail.png
ORGANIZER;CN="T2T Donnellson":MAILTO:Donnellson@t2t.org
END:VEVENT
BEGIN:VEVENT
DTSTART;TZID=America/New_York:20250622T083000
DTEND;TZID=America/New_York:20250622T083000
DTSTAMP:20260423T141538
CREATED:20250306T174534Z
LAST-MODIFIED:20250306T174534Z
UID:61289-1750581000-1750581000@t2t.org
SUMMARY:2025 Tunnel to Towers 5K Run & Walk Bethel
DESCRIPTION:
URL:https://t2t.org/event/2025-tunnel-to-towers-5k-run-walk-bethel/
LOCATION:Bethel High School Football Field\, 200 Whittlesey Dr\, Bethel\, CT\, 06801\, United States
CATEGORIES:5K Run & Walk Event,Connecticut
ATTACH;FMTTYPE=image/png:https://t2t.org/wp-content/uploads/2023/11/2025-Bethel.png
ORGANIZER;CN="T2T Bethel":MAILTO:Bethel@t2t.org
END:VEVENT
BEGIN:VEVENT
DTSTART;TZID=America/New_York:20250607T183000
DTEND;TZID=America/New_York:20250607T183000
DTSTAMP:20260423T141538
CREATED:20250306T175009Z
LAST-MODIFIED:20250306T175009Z
UID:61349-1749321000-1749321000@t2t.org
SUMMARY:2025 Tunnel to Towers 5K Run & Walk Middle Tennessee
DESCRIPTION:
URL:https://t2t.org/event/2025-tunnel-to-towers-5k-run-walk-middle-tennessee/
LOCATION:Warren County High School\, 199 Pioneer Lane\, McMinnville\, Tennessee\, 37110\, United States
CATEGORIES:5K Run & Walk Event,Tennessee
ATTACH;FMTTYPE=image/png:https://t2t.org/wp-content/uploads/2025/03/2025-Middle-TN.png
ORGANIZER;CN="T2T Middle Tennessee":MAILTO:MidTennessee@t2t.org
END:VEVENT
BEGIN:VEVENT
DTSTART;TZID=America/New_York:20250607T090000
DTEND;TZID=America/New_York:20250607T090000
DTSTAMP:20260423T141538
CREATED:20250306T174551Z
LAST-MODIFIED:20250306T174551Z
UID:61291-1749286800-1749286800@t2t.org
SUMMARY:2025 Tunnel to Towers 5K Run & Walk Boyertown
DESCRIPTION:
URL:https://t2t.org/event/2025-tunnel-to-towers-5k-run-walk-boyertown/
LOCATION:Boyertown Area Community Park\, Boyertown Area Community Park\, Boyertown\, PA\, 19512\, United States
CATEGORIES:5K Run & Walk Event,Pennsylvania
ATTACH;FMTTYPE=image/png:https://t2t.org/wp-content/uploads/2024/03/2025-Boyertown.png
ORGANIZER;CN="T2T Boyertown":MAILTO:BoyertownRun@t2t.org
END:VEVENT
BEGIN:VEVENT
DTSTART;TZID=America/New_York:20250531T090000
DTEND;TZID=America/New_York:20250531T090000
DTSTAMP:20260423T141538
CREATED:20250306T174932Z
LAST-MODIFIED:20250306T174932Z
UID:61342-1748682000-1748682000@t2t.org
SUMMARY:2025 Tunnel to Towers 5K Run & Walk Madison
DESCRIPTION:
URL:https://t2t.org/event/2025-tunnel-to-towers-5k-run-walk-madison/
LOCATION:DeForest Veteran’s Memorial Park\, 209 N. Main Street\, DeForest\, WI\, 53532\, United States
CATEGORIES:5K Run & Walk Event,Wisconsin
ATTACH;FMTTYPE=image/png:https://t2t.org/wp-content/uploads/2025/03/2025-Madison.png
ORGANIZER;CN="Madison Run - Rachel Gasper":MAILTO:MadisonRun@t2t.org
END:VEVENT
BEGIN:VEVENT
DTSTART;TZID=America/New_York:20250518T090000
DTEND;TZID=America/New_York:20250518T090000
DTSTAMP:20260423T141538
CREATED:20250206T162051Z
LAST-MODIFIED:20250206T162051Z
UID:61007-1747558800-1747558800@t2t.org
SUMMARY:2025 Tunnel to Towers 5K Run & Walk Westerville
DESCRIPTION:
URL:https://t2t.org/event/2025-tunnel-to-towers-5k-run-walk-westerville/
LOCATION:Sports Complex\, 325 North Cleveland Ave\, Westerville\, OH\, 43082\, United States
CATEGORIES:5K Run & Walk Event,Ohio
ATTACH;FMTTYPE=image/png:https://t2t.org/wp-content/uploads/2023/03/2025-Westerville.png
ORGANIZER;CN="T2T Westerville":MAILTO:Westerville@t2t.org
END:VEVENT
BEGIN:VEVENT
DTSTART;TZID=America/New_York:20250517T090000
DTEND;TZID=America/New_York:20250517T090000
DTSTAMP:20260423T141538
CREATED:20250306T180154Z
LAST-MODIFIED:20250306T180154Z
UID:61304-1747472400-1747472400@t2t.org
SUMMARY:2025 Tunnel to Towers 5K Run & Walk Twin Cities
DESCRIPTION:
URL:https://t2t.org/event/2025-tunnel-to-towers-5k-run-walk-twin-cities/
LOCATION:Dakota County Fairgrounds\, 4008 220th St. W\, Farmington\, 55024\, United States
CATEGORIES:5K Run & Walk Event,Minnesota
ATTACH;FMTTYPE=image/png:https://t2t.org/wp-content/uploads/2025/03/2025-Twin-Cities.png
ORGANIZER;CN="T2T Twin Cities":MAILTO:TwinCities@t2t.org
END:VEVENT
BEGIN:VEVENT
DTSTART;TZID=America/New_York:20250517T083000
DTEND;TZID=America/New_York:20250517T083000
DTSTAMP:20260423T141538
CREATED:20250206T162155Z
LAST-MODIFIED:20250206T162155Z
UID:61018-1747470600-1747470600@t2t.org
SUMMARY:2025 Tunnel to Towers 5K Run & Walk Jackson\, MI
DESCRIPTION:
URL:https://t2t.org/event/2025-tunnel-to-towers-5k-run-walk-jackson-mi/
LOCATION:Cascades Falls County Park\, 1401 S Brown St\, Jackson\, MI\, 49203\, United States
CATEGORIES:5K Run & Walk Event,Michigan
ATTACH;FMTTYPE=image/png:https://t2t.org/wp-content/uploads/2023/03/2025-Jackson.png
ORGANIZER;CN="T2T Jackson":MAILTO:Jackson@t2t.org
GEO:42.2319518;-84.4328842
X-APPLE-STRUCTURED-LOCATION;VALUE=URI;X-ADDRESS=Cascades Falls County Park 1401 S Brown St Jackson MI 49203 United States;X-APPLE-RADIUS=500;X-TITLE=1401 S Brown St:geo:-84.4328842,42.2319518
END:VEVENT
BEGIN:VEVENT
DTSTART;TZID=UTC:20250510T100000
DTEND;TZID=UTC:20250510T100000
DTSTAMP:20260423T141538
CREATED:20250109T171914Z
LAST-MODIFIED:20250109T171914Z
UID:60759-1746871200-1746871200@t2t.org
SUMMARY:2025 Tunnel to Towers 5K Run & Walk Ripley
DESCRIPTION:
URL:https://t2t.org/event/2025-tunnel-to-towers-5k-run-walk-ripley/
LOCATION:Ripley Court House Gazebo\, 100 North Court Street\, Ripley\, WV\, 25271\, United States
CATEGORIES:5K Run & Walk Event,West Virginia
ATTACH;FMTTYPE=image/png:https://t2t.org/wp-content/uploads/2025/01/2025-Ripley.png
ORGANIZER;CN="T2T Ripley":MAILTO:Ripley@t2t.org
END:VEVENT
BEGIN:VEVENT
DTSTART;TZID=America/New_York:20250504T090000
DTEND;TZID=America/New_York:20250504T090000
DTSTAMP:20260423T141538
CREATED:20250109T171921Z
LAST-MODIFIED:20250109T181333Z
UID:60766-1746349200-1746349200@t2t.org
SUMMARY:2025 Tunnel to Towers 5K Run & Walk Indianapolis
DESCRIPTION:
URL:https://t2t.org/event/2025-tunnel-to-towers-5k-run-walk-indianapolis/
LOCATION:White River State Park\, 650 W. Washington St.\, Indianapolis\, IN\, 46204\, United States
CATEGORIES:5K Run & Walk Event,Indiana
ATTACH;FMTTYPE=image/png:https://t2t.org/wp-content/uploads/2022/02/2025-Indianapolis.png
ORGANIZER;CN="Tommy Mazza":MAILTO:thomas.mazza@t2t.org
END:VEVENT
BEGIN:VEVENT
DTSTART;TZID=America/New_York:20250427T093000
DTEND;TZID=America/New_York:20250427T093000
DTSTAMP:20260423T141538
CREATED:20250109T171916Z
LAST-MODIFIED:20250109T171916Z
UID:60760-1745746200-1745746200@t2t.org
SUMMARY:2025 Tunnel to Towers 5K Run & Walk Nelsonville
DESCRIPTION:
URL:https://t2t.org/event/2025-tunnel-to-towers-5k-run-walk-nelsonville/
LOCATION:Nelsonville Historic Public Square\, Public Square\, Nelsonville\, OH\, 45764
CATEGORIES:5K Run & Walk Event,Ohio
ATTACH;FMTTYPE=image/png:https://t2t.org/wp-content/uploads/2022/02/2025-Nelsonville.png
ORGANIZER;CN="t2t nelsonville":MAILTO:nelsonville@t2t.org
END:VEVENT
BEGIN:VEVENT
DTSTART;TZID=America/New_York:20250427T090000
DTEND;TZID=America/New_York:20250427T090000
DTSTAMP:20260423T141538
CREATED:20250306T174340Z
LAST-MODIFIED:20250306T174340Z
UID:61375-1745744400-1745744400@t2t.org
SUMMARY:2025 Tunnel to Towers Tower Climb Towson
DESCRIPTION:
URL:https://t2t.org/event/2025-tunnel-to-towers-tower-climb-towson/
LOCATION:Johnny Unitas Stadium/Towson University\, 7537 Auburn Dr.\, Towson\, MD\, 21204\, United States
CATEGORIES:Maryland,Tower Climb Event
ATTACH;FMTTYPE=image/png:https://t2t.org/wp-content/uploads/2025/03/2025-Towson.png
ORGANIZER;CN="Towson Climb - Jill Prevatt":MAILTO:LuthervilleClimb@t2t.org
END:VEVENT
BEGIN:VEVENT
DTSTART;TZID=America/New_York:20250427T090000
DTEND;TZID=America/New_York:20250427T090000
DTSTAMP:20260423T141538
CREATED:20250130T150942Z
LAST-MODIFIED:20250130T185813Z
UID:60919-1745744400-1745744400@t2t.org
SUMMARY:2025 Tunnel to Towers Tower Climb Charlotte
DESCRIPTION:
URL:https://t2t.org/event/2025-tunnel-to-towers-tower-climb-charlotte/
LOCATION:Bank of America Stadium\, 800 South Mint St.\, Charlotte\, 28202\, United States
CATEGORIES:Home Events,North Carolina,Tower Climb Event
ATTACH;FMTTYPE=image/png:https://t2t.org/wp-content/uploads/2025/01/2025-Charlotte-Climb-1.png
ORGANIZER;CN="T2T Charlotte":MAILTO:Charlotte@t2t.org
END:VEVENT
BEGIN:VEVENT
DTSTART;TZID=America/New_York:20250427T073000
DTEND;TZID=America/New_York:20250427T073000
DTSTAMP:20260423T141538
CREATED:20250206T162222Z
LAST-MODIFIED:20250206T162222Z
UID:61006-1745739000-1745739000@t2t.org
SUMMARY:2025 Tunnel to Towers 5K Run & Walk Prince William
DESCRIPTION:
URL:https://t2t.org/event/2025-tunnel-to-towers-5k-run-walk-prince-william/
LOCATION:R. Richard Pfitzner Stadium\, 7 County Complex Court\, Woodbridge\, VA\, 22192\, United States
CATEGORIES:5K Run & Walk Event,Virginia
ATTACH;FMTTYPE=image/png:https://t2t.org/wp-content/uploads/2023/03/2025-Prince-William.png
ORGANIZER;CN="T2T Prince William":MAILTO:princewilliam@t2t.org
END:VEVENT
BEGIN:VEVENT
DTSTART;TZID=America/New_York:20250426T080000
DTEND;TZID=America/New_York:20250426T080000
DTSTAMP:20260423T141539
CREATED:20250109T171918Z
LAST-MODIFIED:20250109T171918Z
UID:60761-1745654400-1745654400@t2t.org
SUMMARY:2025 Tunnel to Towers 5K Run & Walk Palm Coast
DESCRIPTION:
URL:https://t2t.org/event/2025-tunnel-to-towers-5k-run-walk-palm-coast/
LOCATION:Central Park at Town Center\, Central Ave and Park Street\, Palm Coast\, FL\, 32137\, United States
CATEGORIES:5K Run & Walk Event,Florida
ATTACH;FMTTYPE=image/png:https://t2t.org/wp-content/uploads/2022/02/2025-Palm-Coast.png
ORGANIZER;CN="T2T Palm Coast":MAILTO:PalmCoast@t2t.org
END:VEVENT
BEGIN:VEVENT
DTSTART;TZID=America/New_York:20250412T090000
DTEND;TZID=America/New_York:20250412T170000
DTSTAMP:20260423T141539
CREATED:20250206T162116Z
LAST-MODIFIED:20250206T162116Z
UID:61008-1744448400-1744477200@t2t.org
SUMMARY:2025 Tunnel to Towers 5K Run & Walk Riverside County
DESCRIPTION:
URL:https://t2t.org/event/2025-tunnel-to-towers-5k-run-walk-riverside-county-ca/
LOCATION:Ben Clark Training Center\, 16902 Bundy Ave\, Riverside\, 92518\, United States
CATEGORIES:5K Run & Walk Event,California
ATTACH;FMTTYPE=image/png:https://t2t.org/wp-content/uploads/2023/03/2025-Riverside-County.png
END:VEVENT
BEGIN:VEVENT
DTSTART;TZID=America/New_York:20250412T080000
DTEND;TZID=America/New_York:20250412T080000
DTSTAMP:20260423T141539
CREATED:20250206T162139Z
LAST-MODIFIED:20250206T162139Z
UID:61003-1744444800-1744444800@t2t.org
SUMMARY:2025 Tunnel to Towers 5K Run & Walk Greenville
DESCRIPTION:
URL:https://t2t.org/event/2025-tunnel-to-towers-5k-run-walk-greenville/
LOCATION:Sirrine Stadium\, 100 Cleveland Street\, Greenville\, SC\, 29601\, United States
CATEGORIES:5K Run & Walk Event,South Carolina
ATTACH;FMTTYPE=image/png:https://t2t.org/wp-content/uploads/2022/01/2025-Greenville.png
ORGANIZER;CN="T2T Greenville":MAILTO:Greenville@t2t.org
END:VEVENT
BEGIN:VEVENT
DTSTART;TZID=America/New_York:20241117T083000
DTEND;TZID=America/New_York:20241117T083000
DTSTAMP:20260423T141539
CREATED:20240328T164624Z
LAST-MODIFIED:20240508T194814Z
UID:55864-1731832200-1731832200@t2t.org
SUMMARY:2024 Tunnel to Towers 5K Run & Walk Bluffton
DESCRIPTION:
URL:https://t2t.org/event/2024-tunnel-to-towers-5k-run-walk-bluffton/
LOCATION:Rose Hill Plantation\, 1 Equestrian Way\, Bluffton\, SC\, 29910\, United States
CATEGORIES:5K Run & Walk Event,South Carolina
ATTACH;FMTTYPE=image/jpeg:https://t2t.org/wp-content/uploads/2024/03/2024-Bluffton.png.jpg
ORGANIZER;CN="T2T Bluffton":MAILTO:bluffton@t2t.org
END:VEVENT
BEGIN:VEVENT
DTSTART;TZID=America/New_York:20241116T090000
DTEND;TZID=America/New_York:20241116T090000
DTSTAMP:20260423T141539
CREATED:20240530T155049Z
LAST-MODIFIED:20240530T162611Z
UID:57348-1731747600-1731747600@t2t.org
SUMMARY:2024 Tunnel to Towers 5K Run & Walk Meridian
DESCRIPTION:
URL:https://t2t.org/event/2024-tunnel-to-towers-5k-run-walk-meridian/
LOCATION:City Hall Lawn\, 1860 24th Avenue\, Meridian\, MS\, 39301\, United States
CATEGORIES:5K Run & Walk Event,Mississippi
ATTACH;FMTTYPE=image/jpeg:https://t2t.org/wp-content/uploads/2024/05/2024-Online-Graphic-Meridian-MS.jpeg
ORGANIZER;CN="Central T2T":MAILTO:CentralNY@t2t.org
END:VEVENT
BEGIN:VEVENT
DTSTART;TZID=America/New_York:20241116T080000
DTEND;TZID=America/New_York:20241116T080000
DTSTAMP:20260423T141539
CREATED:20240801T192325Z
LAST-MODIFIED:20240822T155348Z
UID:58610-1731744000-1731744000@t2t.org
SUMMARY:2024 Tunnel to Towers 5K Run & Walk Delaware Beaches
DESCRIPTION:
URL:https://t2t.org/event/2024-tunnel-to-towers-5k-run-walk-delaware-beaches/
LOCATION:Cape Henlopen State Park\, 15099 Cape Henlopen Dr\, Lewes\, DE\, 19958\, United States
CATEGORIES:5K Run & Walk Event,Delaware
ATTACH;FMTTYPE=image/png:https://t2t.org/wp-content/uploads/2024/08/2024-Delaware-Beaches-1.png
ORGANIZER;CN="T2T Delmarva":MAILTO:delmarva@t2t.org
END:VEVENT
BEGIN:VEVENT
DTSTART;TZID=America/New_York:20241110T090000
DTEND;TZID=America/New_York:20241110T090000
DTSTAMP:20260423T141539
CREATED:20240530T154751Z
LAST-MODIFIED:20240530T154949Z
UID:57346-1731229200-1731229200@t2t.org
SUMMARY:2024 Tunnel to Towers 5K Run & Walk Acadiana
DESCRIPTION:
URL:https://t2t.org/event/2024-tunnel-to-towers-5k-run-walk-acadiana/
LOCATION:Moncus Park-Lafayette Lawn\, 2913 Johnson Street\, Lafayette\, LA\, 70503\, United States
CATEGORIES:5K Run & Walk Event,Louisiana
ATTACH;FMTTYPE=image/jpeg:https://t2t.org/wp-content/uploads/2024/05/2024-Online-Graphic-Acadiana-LA.jpg
ORGANIZER;CN="T2T Lafayette":MAILTO:lafayette@t2t.org
END:VEVENT
BEGIN:VEVENT
DTSTART;TZID=America/New_York:20241109T090000
DTEND;TZID=America/New_York:20241109T170000
DTSTAMP:20260423T141539
CREATED:20240912T185245Z
LAST-MODIFIED:20240916T141645Z
UID:59159-1731142800-1731171600@t2t.org
SUMMARY:2024 Tunnel to Towers 5K Run & Walk The Villages
DESCRIPTION:
URL:https://t2t.org/event/2024-tunnel-to-towers-5k-run-walk-the-villages/
LOCATION:The Villages Polo Club\, 703 North Buena Vista Boulevard\, The Villages\, FL\, 32163\, United States
CATEGORIES:5K Run & Walk Event,Florida
ATTACH;FMTTYPE=image/png:https://t2t.org/wp-content/uploads/2024/09/2024-The-Villages.png
ORGANIZER;CN="t2t Villages":MAILTO:villages@t2t.org
END:VEVENT
BEGIN:VEVENT
DTSTART;TZID=America/New_York:20241109T090000
DTEND;TZID=America/New_York:20241109T090000
DTSTAMP:20260423T141539
CREATED:20240418T182411Z
LAST-MODIFIED:20240418T182411Z
UID:56379-1731142800-1731142800@t2t.org
SUMMARY:2024 Tunnel to Towers 5K Run & Walk Preston
DESCRIPTION:
URL:https://t2t.org/event/2024-tunnel-to-towers-5k-run-walk-preston/
LOCATION:Centerpoint Schoolhouse\, 3420 Co Road 124\, Preston\, GA\, 31824\, United States
CATEGORIES:5K Run & Walk Event,Georgia
ATTACH;FMTTYPE=image/png:https://t2t.org/wp-content/uploads/2024/04/2024-Preston.png
ORGANIZER;CN="T2T Preston":MAILTO:prestonrun@t2t.org
END:VEVENT
BEGIN:VEVENT
DTSTART;TZID=America/New_York:20241109T083000
DTEND;TZID=America/New_York:20241109T083000
DTSTAMP:20260423T141539
CREATED:20240509T155020Z
LAST-MODIFIED:20240509T155020Z
UID:56926-1731141000-1731141000@t2t.org
SUMMARY:2024 Tunnel to Towers 5k Run & Walk Brooksville
DESCRIPTION:
URL:https://t2t.org/event/2024-tunnel-to-towers-5k-run-walk-brooksville/
LOCATION:Hernando Park Fort Dade Ave\, 205 E Fort Dade Ave\, Brooksville\, 34601\, United States
CATEGORIES:5K Run & Walk Event,Florida
ATTACH;FMTTYPE=image/png:https://t2t.org/wp-content/uploads/2024/05/2024-Brooksville.png
END:VEVENT
BEGIN:VEVENT
DTSTART;TZID=America/New_York:20241102T090000
DTEND;TZID=America/New_York:20241102T170000
DTSTAMP:20260423T141539
CREATED:20240822T155436Z
LAST-MODIFIED:20240822T155436Z
UID:58813-1730538000-1730566800@t2t.org
SUMMARY:2024 Tunnel to Towers 5K Run & Walk Sacramento
DESCRIPTION:
URL:https://t2t.org/event/2024-tunnel-to-towers-5k-run-walk-sacramento/
LOCATION:William Land Park\, 3800 Land Park Drive\, Sacramento\, CA\, 95822\, United States
CATEGORIES:5K Run & Walk Event,California
ATTACH;FMTTYPE=image/png:https://t2t.org/wp-content/uploads/2024/08/2024-Sacramento-1.png
ORGANIZER;CN="T2T Sacramento":MAILTO:Sacramento@t2t.org
END:VEVENT
BEGIN:VEVENT
DTSTART;TZID=America/New_York:20241102T083000
DTEND;TZID=America/New_York:20241102T083000
DTSTAMP:20260423T141539
CREATED:20240711T143907Z
LAST-MODIFIED:20240711T143907Z
UID:58333-1730536200-1730536200@t2t.org
SUMMARY:2024 Tunnel to Towers 5K Run & Walk Big Pine Key
DESCRIPTION:
URL:https://t2t.org/event/2024-tunnel-to-towers-5k-run-walk-big-pine-key/
LOCATION:Big Pine Park\, 31009 Atlantis Drive\, Big Pine Key\, FL\, 33043\, United States
CATEGORIES:5K Run & Walk Event,Florida
ATTACH;FMTTYPE=image/png:https://t2t.org/wp-content/uploads/2024/07/2024-Big-Pine-Key.png
ORGANIZER;CN="T2T Big Pine Key":MAILTO:bigpinekeyrun@t2t.org
END:VEVENT
BEGIN:VEVENT
DTSTART;TZID=America/New_York:20241019T083000
DTEND;TZID=America/New_York:20241019T083000
DTSTAMP:20260423T141539
CREATED:20240530T161803Z
LAST-MODIFIED:20240530T161803Z
UID:57363-1729326600-1729326600@t2t.org
SUMMARY:2024 Tunnel to Towers 5K Run & Walk The Triangle
DESCRIPTION:
URL:https://t2t.org/event/2024-tunnel-to-towers-5k-run-walk-the-triangle/
LOCATION:American Legion Post\, 225 Holding Ave\, Wake Forest\, NC\, 27587\, United States
CATEGORIES:5K Run & Walk Event,North Carolina
ATTACH;FMTTYPE=image/jpeg:https://t2t.org/wp-content/uploads/2024/05/2024-Online-Graphic-Triangle-NC.jpg
ORGANIZER;CN="T2T The Triangle":MAILTO:Triangle@t2t.org
END:VEVENT
END:VCALENDAR