BEGIN:VCALENDAR
VERSION:2.0
PRODID:-//Tunnel to Towers Foundation - ECPv6.15.17//NONSGML v1.0//EN
CALSCALE:GREGORIAN
METHOD:PUBLISH
X-WR-CALNAME:Tunnel to Towers Foundation
X-ORIGINAL-URL:https://t2t.org
X-WR-CALDESC:Events for Tunnel to Towers Foundation
REFRESH-INTERVAL;VALUE=DURATION:PT1H
X-Robots-Tag:noindex
X-PUBLISHED-TTL:PT1H
BEGIN:VTIMEZONE
TZID:UTC
BEGIN:STANDARD
TZOFFSETFROM:+0000
TZOFFSETTO:+0000
TZNAME:UTC
DTSTART:20250101T000000
END:STANDARD
END:VTIMEZONE
BEGIN:VEVENT
DTSTART;TZID=UTC:20260904T180000
DTEND;TZID=UTC:20260904T180000
DTSTAMP:20260421T183030
CREATED:20260416T165702Z
LAST-MODIFIED:20260416T165702Z
UID:67610-1788544800-1788544800@t2t.org
SUMMARY:2026 Tunnel to Towers 5K Run & Walk Columbia
DESCRIPTION:
URL:https://t2t.org/event/2026-tunnel-to-towers-5k-run-walk-columbia/
LOCATION:Columbia Convention Center’s 9/11 Memorial Site\, 1100 Lincoln St\, Columbia\, SC\, 29201\, United States
CATEGORIES:5K Run & Walk Event,South Carolina
ATTACH;FMTTYPE=image/jpeg:https://t2t.org/wp-content/uploads/2026/04/2026_Columbia_Thumbnail.jpg
ORGANIZER;CN="T2T Columbia":MAILTO:columbia@t2t.org
GEO:33.9972733;-81.038029
X-APPLE-STRUCTURED-LOCATION;VALUE=URI;X-ADDRESS=Columbia Convention Center’s 9/11 Memorial Site 1100 Lincoln St Columbia SC 29201 United States;X-APPLE-RADIUS=500;X-TITLE=1100 Lincoln St:geo:-81.038029,33.9972733
END:VEVENT
END:VCALENDAR