BEGIN:VCALENDAR
VERSION:2.0
PRODID:-//Tunnel to Towers Foundation - ECPv6.15.17//NONSGML v1.0//EN
CALSCALE:GREGORIAN
METHOD:PUBLISH
X-WR-CALNAME:Tunnel to Towers Foundation
X-ORIGINAL-URL:https://t2t.org
X-WR-CALDESC:Events for Tunnel to Towers Foundation
REFRESH-INTERVAL;VALUE=DURATION:PT1H
X-Robots-Tag:noindex
X-PUBLISHED-TTL:PT1H
BEGIN:VTIMEZONE
TZID:America/New_York
BEGIN:DAYLIGHT
TZOFFSETFROM:-0500
TZOFFSETTO:-0400
TZNAME:EDT
DTSTART:20240310T070000
END:DAYLIGHT
BEGIN:STANDARD
TZOFFSETFROM:-0400
TZOFFSETTO:-0500
TZNAME:EST
DTSTART:20241103T060000
END:STANDARD
BEGIN:DAYLIGHT
TZOFFSETFROM:-0500
TZOFFSETTO:-0400
TZNAME:EDT
DTSTART:20250309T070000
END:DAYLIGHT
BEGIN:STANDARD
TZOFFSETFROM:-0400
TZOFFSETTO:-0500
TZNAME:EST
DTSTART:20251102T060000
END:STANDARD
BEGIN:DAYLIGHT
TZOFFSETFROM:-0500
TZOFFSETTO:-0400
TZNAME:EDT
DTSTART:20260308T070000
END:DAYLIGHT
BEGIN:STANDARD
TZOFFSETFROM:-0400
TZOFFSETTO:-0500
TZNAME:EST
DTSTART:20261101T060000
END:STANDARD
END:VTIMEZONE
BEGIN:VEVENT
DTSTART;TZID=America/New_York:20251109T083000
DTEND;TZID=America/New_York:20251109T083000
DTSTAMP:20260421T142755
CREATED:20250306T174543Z
LAST-MODIFIED:20250306T174543Z
UID:61290-1762677000-1762677000@t2t.org
SUMMARY:2025 Tunnel to Towers 5K Run & Walk Bluffton
DESCRIPTION:
URL:https://t2t.org/event/2025-tunnel-to-towers-5k-run-walk-bluffton/
LOCATION:Rose Hill Plantation\, 1 Equestrian Way\, Bluffton\, SC\, 29910\, United States
CATEGORIES:5K Run & Walk Event,South Carolina
ATTACH;FMTTYPE=image/png:https://t2t.org/wp-content/uploads/2024/03/2025-Bluffton.png
ORGANIZER;CN="T2T Bluffton":MAILTO:bluffton@t2t.org
END:VEVENT
BEGIN:VEVENT
DTSTART;TZID=America/New_York:20251109T090000
DTEND;TZID=America/New_York:20251109T090000
DTSTAMP:20260421T142755
CREATED:20250821T151244Z
LAST-MODIFIED:20250821T151244Z
UID:63635-1762678800-1762678800@t2t.org
SUMMARY:2025 Tunnel to Towers 5K Run & Walk Los Angeles
DESCRIPTION:
URL:https://t2t.org/event/2025-tunnel-to-towers-5k-run-walk-los-angeles/
LOCATION:Woodley Park\, 6350 Woodley Ave\, Section 1\, Van Nuys\, CA\, 91436\, United States
CATEGORIES:5K Run & Walk Event,California
ATTACH;FMTTYPE=image/png:https://t2t.org/wp-content/uploads/2025/08/LA-ThumbnailFix.png
END:VEVENT
END:VCALENDAR