BEGIN:VCALENDAR
VERSION:2.0
PRODID:-//Tunnel to Towers Foundation - ECPv6.15.17//NONSGML v1.0//EN
CALSCALE:GREGORIAN
METHOD:PUBLISH
X-ORIGINAL-URL:https://t2t.org
X-WR-CALDESC:Events for Tunnel to Towers Foundation
REFRESH-INTERVAL;VALUE=DURATION:PT1H
X-Robots-Tag:noindex
X-PUBLISHED-TTL:PT1H
BEGIN:VTIMEZONE
TZID:UTC
BEGIN:STANDARD
TZOFFSETFROM:+0000
TZOFFSETTO:+0000
TZNAME:UTC
DTSTART:20240101T000000
END:STANDARD
END:VTIMEZONE
BEGIN:VTIMEZONE
TZID:America/New_York
BEGIN:DAYLIGHT
TZOFFSETFROM:-0500
TZOFFSETTO:-0400
TZNAME:EDT
DTSTART:20240310T070000
END:DAYLIGHT
BEGIN:STANDARD
TZOFFSETFROM:-0400
TZOFFSETTO:-0500
TZNAME:EST
DTSTART:20241103T060000
END:STANDARD
BEGIN:DAYLIGHT
TZOFFSETFROM:-0500
TZOFFSETTO:-0400
TZNAME:EDT
DTSTART:20250309T070000
END:DAYLIGHT
BEGIN:STANDARD
TZOFFSETFROM:-0400
TZOFFSETTO:-0500
TZNAME:EST
DTSTART:20251102T060000
END:STANDARD
BEGIN:DAYLIGHT
TZOFFSETFROM:-0500
TZOFFSETTO:-0400
TZNAME:EDT
DTSTART:20260308T070000
END:DAYLIGHT
BEGIN:STANDARD
TZOFFSETFROM:-0400
TZOFFSETTO:-0500
TZNAME:EST
DTSTART:20261101T060000
END:STANDARD
END:VTIMEZONE
BEGIN:VEVENT
DTSTART;TZID=UTC:20251018T080000
DTEND;TZID=UTC:20251018T170000
DTSTAMP:20260421T163733
CREATED:20250529T171355Z
LAST-MODIFIED:20250530T140730Z
UID:62393-1760774400-1760806800@t2t.org
SUMMARY:2025 Tunnel to Towers 5k Run & Walk Baton Rouge
DESCRIPTION:
URL:https://t2t.org/event/2025-tunnel-to-towers-5k-run-walk-baton-rouge/
LOCATION:Baton Rouge\, Robert A. Bogan Fire Museum\, Baton Rouge\, LA\, 70801\, United States
CATEGORIES:5K Run & Walk Event,Tunnel to Towers National Run, Walk & Climb Series
ATTACH;FMTTYPE=image/jpeg:https://t2t.org/wp-content/uploads/2025/05/Baton-Rouge-Thumbnails.jpg
END:VEVENT
BEGIN:VEVENT
DTSTART;TZID=America/New_York:20251018T083000
DTEND;TZID=America/New_York:20251018T083000
DTSTAMP:20260421T163733
CREATED:20250403T142722Z
LAST-MODIFIED:20250403T142722Z
UID:61578-1760776200-1760776200@t2t.org
SUMMARY:2025 Tunnel to Towers 5K Run & Walk Bridgeport
DESCRIPTION:
URL:https://t2t.org/event/2025-tunnel-to-towers-5k-run-walk-bridgeport/
LOCATION:Port 5 National Association of Naval Veterans\, 69 Brewster Street\, Bridgeport\, CT\, 06605\, United States
CATEGORIES:5K Run & Walk Event,Connecticut
ATTACH;FMTTYPE=image/png:https://t2t.org/wp-content/uploads/2025/04/2025-Bridgeport.png
ORGANIZER;CN="Bridgeport":MAILTO:bridgeportrun@t2t.org
END:VEVENT
BEGIN:VEVENT
DTSTART;TZID=America/New_York:20251018T090000
DTEND;TZID=America/New_York:20251018T090000
DTSTAMP:20260421T163733
CREATED:20250626T133009Z
LAST-MODIFIED:20250626T133009Z
UID:62887-1760778000-1760778000@t2t.org
SUMMARY:2025 Tunnel to Towers 5K Run & Walk Trinity Pasco
DESCRIPTION:
URL:https://t2t.org/event/2025-tunnel-to-towers-5k-run-walk-trinity-pasco/
LOCATION:Starkey Ranch DIstrict Park\, 11880 Lake Blanche Drive\, Odessa\, FL\, 33556\, United States
CATEGORIES:5K Run & Walk Event,Florida
ATTACH;FMTTYPE=image/jpeg:https://t2t.org/wp-content/uploads/2025/06/Trinity-Pasco-Thumbnail.jpg
ORGANIZER;CN="T2T Trinity Pasco":MAILTO:trinitypasco@t2t.org
END:VEVENT
END:VCALENDAR