BEGIN:VCALENDAR
VERSION:2.0
PRODID:-//Tunnel to Towers Foundation - ECPv6.15.17//NONSGML v1.0//EN
CALSCALE:GREGORIAN
METHOD:PUBLISH
X-WR-CALNAME:Tunnel to Towers Foundation
X-ORIGINAL-URL:https://t2t.org
X-WR-CALDESC:Events for Tunnel to Towers Foundation
REFRESH-INTERVAL;VALUE=DURATION:PT1H
X-Robots-Tag:noindex
X-PUBLISHED-TTL:PT1H
BEGIN:VTIMEZONE
TZID:America/New_York
BEGIN:DAYLIGHT
TZOFFSETFROM:-0500
TZOFFSETTO:-0400
TZNAME:EDT
DTSTART:20240310T070000
END:DAYLIGHT
BEGIN:STANDARD
TZOFFSETFROM:-0400
TZOFFSETTO:-0500
TZNAME:EST
DTSTART:20241103T060000
END:STANDARD
BEGIN:DAYLIGHT
TZOFFSETFROM:-0500
TZOFFSETTO:-0400
TZNAME:EDT
DTSTART:20250309T070000
END:DAYLIGHT
BEGIN:STANDARD
TZOFFSETFROM:-0400
TZOFFSETTO:-0500
TZNAME:EST
DTSTART:20251102T060000
END:STANDARD
BEGIN:DAYLIGHT
TZOFFSETFROM:-0500
TZOFFSETTO:-0400
TZNAME:EDT
DTSTART:20260308T070000
END:DAYLIGHT
BEGIN:STANDARD
TZOFFSETFROM:-0400
TZOFFSETTO:-0500
TZNAME:EST
DTSTART:20261101T060000
END:STANDARD
END:VTIMEZONE
BEGIN:VTIMEZONE
TZID:UTC
BEGIN:STANDARD
TZOFFSETFROM:+0000
TZOFFSETTO:+0000
TZNAME:UTC
DTSTART:20240101T000000
END:STANDARD
END:VTIMEZONE
BEGIN:VEVENT
DTSTART;TZID=America/New_York:20250921T083000
DTEND;TZID=America/New_York:20250921T083000
DTSTAMP:20260421T183204
CREATED:20250306T174841Z
LAST-MODIFIED:20250306T174841Z
UID:61335-1758443400-1758443400@t2t.org
SUMMARY:2025 Tunnel to Towers 5k Run & Walk Huntington Beach
DESCRIPTION:
URL:https://t2t.org/event/2025-tunnel-to-towers-5k-run-walk-huntington-beach/
LOCATION:City Beach\, 21501 CA-1\, Huntington Beach\, CA\, 92648\, United States
CATEGORIES:5K Run & Walk Event,California
ATTACH;FMTTYPE=image/png:https://t2t.org/wp-content/uploads/2025/03/2025-Huntington-Beach.png
ORGANIZER;CN="Huntington Beach Run - Lily Wentz":MAILTO:HuntingtonBeachRun@t2t.org
END:VEVENT
BEGIN:VEVENT
DTSTART;TZID=America/New_York:20250921T083000
DTEND;TZID=America/New_York:20250921T083000
DTSTAMP:20260421T183204
CREATED:20250626T132622Z
LAST-MODIFIED:20250626T132622Z
UID:62879-1758443400-1758443400@t2t.org
SUMMARY:2025 Tunnel to Towers 5K Run & Walk Myrtle Beach
DESCRIPTION:
URL:https://t2t.org/event/2025-tunnel-to-towers-5k-run-walk-myrtle-beach/
LOCATION:Grand Park – The Market Common\, Farrow Parkway & Nevers Street\, Myrtle Beach\, NC\, 29577\, United States
CATEGORIES:5K Run & Walk Event,South Carolina
ATTACH;FMTTYPE=image/jpeg:https://t2t.org/wp-content/uploads/2025/06/Myrtle-Beach-Thumbnail.jpg
ORGANIZER;CN="T2T Myrtle Beach":MAILTO:MyrtleBeach@t2t.org
END:VEVENT
BEGIN:VEVENT
DTSTART;TZID=UTC:20250921T100000
DTEND;TZID=UTC:20250921T100000
DTSTAMP:20260421T183204
CREATED:20250626T132531Z
LAST-MODIFIED:20250626T132531Z
UID:62877-1758448800-1758448800@t2t.org
SUMMARY:2025 Tunnel to Towers 5K Run & Walk Lake George
DESCRIPTION:
URL:https://t2t.org/event/2025-tunnel-to-towers-5k-run-walk-lake-george/
LOCATION:17 W. Brook Road\, 17 W. Brook Road\, Lake George\, NY\, 12845\, United States
CATEGORIES:5K Run & Walk Event,New York
ATTACH;FMTTYPE=image/jpeg:https://t2t.org/wp-content/uploads/2025/06/Lake-George-Thumbnail.jpg
ORGANIZER;CN="T2T Lake George":MAILTO:lakegeorgerun@t2t.org
END:VEVENT
END:VCALENDAR