BEGIN:VCALENDAR
VERSION:2.0
PRODID:-//Tunnel to Towers Foundation - ECPv6.15.17//NONSGML v1.0//EN
CALSCALE:GREGORIAN
METHOD:PUBLISH
X-ORIGINAL-URL:https://t2t.org
X-WR-CALDESC:Events for Tunnel to Towers Foundation
REFRESH-INTERVAL;VALUE=DURATION:PT1H
X-Robots-Tag:noindex
X-PUBLISHED-TTL:PT1H
BEGIN:VTIMEZONE
TZID:America/New_York
BEGIN:DAYLIGHT
TZOFFSETFROM:-0500
TZOFFSETTO:-0400
TZNAME:EDT
DTSTART:20240310T070000
END:DAYLIGHT
BEGIN:STANDARD
TZOFFSETFROM:-0400
TZOFFSETTO:-0500
TZNAME:EST
DTSTART:20241103T060000
END:STANDARD
BEGIN:DAYLIGHT
TZOFFSETFROM:-0500
TZOFFSETTO:-0400
TZNAME:EDT
DTSTART:20250309T070000
END:DAYLIGHT
BEGIN:STANDARD
TZOFFSETFROM:-0400
TZOFFSETTO:-0500
TZNAME:EST
DTSTART:20251102T060000
END:STANDARD
BEGIN:DAYLIGHT
TZOFFSETFROM:-0500
TZOFFSETTO:-0400
TZNAME:EDT
DTSTART:20260308T070000
END:DAYLIGHT
BEGIN:STANDARD
TZOFFSETFROM:-0400
TZOFFSETTO:-0500
TZNAME:EST
DTSTART:20261101T060000
END:STANDARD
END:VTIMEZONE
BEGIN:VTIMEZONE
TZID:UTC
BEGIN:STANDARD
TZOFFSETFROM:+0000
TZOFFSETTO:+0000
TZNAME:UTC
DTSTART:20240101T000000
END:STANDARD
END:VTIMEZONE
BEGIN:VEVENT
DTSTART;TZID=America/New_York:20250906T070000
DTEND;TZID=America/New_York:20250906T070000
DTSTAMP:20260421T183235
CREATED:20250306T175804Z
LAST-MODIFIED:20250306T175804Z
UID:61299-1757142000-1757142000@t2t.org
SUMMARY:2025 Tunnel to Towers 5K Run & Walk Orlando
DESCRIPTION:
URL:https://t2t.org/event/2025-tunnel-to-towers-5k-run-walk-orlando/
LOCATION:Cranes Roost Park\, 274 Cranes Roost Blvd.\, Altamonte Springs \, FL\, 32701\, United States
CATEGORIES:5K Run & Walk Event,Florida
ATTACH;FMTTYPE=image/png:https://t2t.org/wp-content/uploads/2025/03/2025-Orlando.png
ORGANIZER;CN="T2T Orlando":MAILTO:Orlando@t2t.org
GEO:28.6660475;-81.3835923
X-APPLE-STRUCTURED-LOCATION;VALUE=URI;X-ADDRESS=Cranes Roost Park 274 Cranes Roost Blvd. Altamonte Springs  FL 32701 United States;X-APPLE-RADIUS=500;X-TITLE=274 Cranes Roost Blvd.:geo:-81.3835923,28.6660475
END:VEVENT
BEGIN:VEVENT
DTSTART;TZID=UTC:20250906T071500
DTEND;TZID=UTC:20250906T073000
DTSTAMP:20260421T183235
CREATED:20250529T170629Z
LAST-MODIFIED:20250530T140750Z
UID:62391-1757142900-1757143800@t2t.org
SUMMARY:2025 Tunnel to Towers 5K Run & Walk Vero Beach
DESCRIPTION:
URL:https://t2t.org/event/2025-tunnel-to-towers-5k-run-walk-vero-beach/
LOCATION:Riverside Park\, 3001 Riverside Park Dr.\, Vero Beach\, FL\, 32963\, United States
CATEGORIES:5K Run & Walk Event,Florida
ATTACH;FMTTYPE=image/jpeg:https://t2t.org/wp-content/uploads/2025/05/Vero-Beach-Thumbnails.jpg
ORGANIZER;CN="T2T Vero Beach":MAILTO:VeroBeach@t2t.org
GEO:27.649836;-80.3668989
X-APPLE-STRUCTURED-LOCATION;VALUE=URI;X-ADDRESS=Riverside Park 3001 Riverside Park Dr. Vero Beach FL 32963 United States;X-APPLE-RADIUS=500;X-TITLE=3001 Riverside Park Dr.:geo:-80.3668989,27.649836
END:VEVENT
BEGIN:VEVENT
DTSTART;TZID=UTC:20250906T073000
DTEND;TZID=UTC:20250906T073000
DTSTAMP:20260421T183235
CREATED:20250403T142926Z
LAST-MODIFIED:20250403T142926Z
UID:61588-1757143800-1757143800@t2t.org
SUMMARY:2025 Tunnel to Towers 5K Run & Walk Cypress
DESCRIPTION:
URL:https://t2t.org/event/2025-tunnel-to-towers-5k-run-walk-cypress/
LOCATION:John Paul Landing Park\, Environmental Education Center\, 9950 Katy Hockley Rd\, Cypress\, TX\, 77433\, United States
CATEGORIES:5K Run & Walk Event,Texas
ATTACH;FMTTYPE=image/png:https://t2t.org/wp-content/uploads/2025/04/2025-Cypress.png
ORGANIZER;CN="T2T Cypress":MAILTO:Cypress@t2t.org
END:VEVENT
BEGIN:VEVENT
DTSTART;TZID=America/New_York:20250906T073000
DTEND;TZID=America/New_York:20250906T073000
DTSTAMP:20260421T183235
CREATED:20250403T143151Z
LAST-MODIFIED:20250403T143151Z
UID:61577-1757143800-1757143800@t2t.org
SUMMARY:2025 Tunnel to Towers 5K Run & Walk Lynchburg
DESCRIPTION:
URL:https://t2t.org/event/2025-tunnel-to-towers-5k-run-walk-lynchburg/
LOCATION:Lynchburg TN Town Square\, 196 Main Street\, Lynchburg\, TN\, 37352\, United States
CATEGORIES:5K Run & Walk Event,Tennessee
ATTACH;FMTTYPE=image/png:https://t2t.org/wp-content/uploads/2025/04/2025-Lynchnurg.png
ORGANIZER;CN="T2T Lynchburg":MAILTO:Lynchburg@t2t.org
END:VEVENT
BEGIN:VEVENT
DTSTART;TZID=America/New_York:20250906T074500
DTEND;TZID=America/New_York:20250906T074500
DTSTAMP:20260421T183235
CREATED:20250508T144346Z
LAST-MODIFIED:20250508T144346Z
UID:61882-1757144700-1757144700@t2t.org
SUMMARY:2025 Tunnel to Towers 5K Run & Walk Fort Myers
DESCRIPTION:
URL:https://t2t.org/event/2025-tunnel-to-towers-5k-run-walk-fort-myers/
LOCATION:Florida Southwestern State College\, Fort Myers\, FL\, 33919\, United States
CATEGORIES:5K Run & Walk Event,Florida,Tunnel to Towers National Run, Walk & Climb Series
ATTACH;FMTTYPE=image/png:https://t2t.org/wp-content/uploads/2025/05/2025-Ft-Myers.png
ORGANIZER;CN="T2T Fort Myers":MAILTO:FortMyers@t2t.org
END:VEVENT
BEGIN:VEVENT
DTSTART;TZID=UTC:20250906T083000
DTEND;TZID=UTC:20250906T083000
DTSTAMP:20260421T183235
CREATED:20250306T174607Z
LAST-MODIFIED:20250306T174607Z
UID:61292-1757147400-1757147400@t2t.org
SUMMARY:2025 Tunnel to Towers 5k Run & Walk Buffalo
DESCRIPTION:
URL:https://t2t.org/event/2025-tunnel-to-towers-5k-run-walk-buffalo/
LOCATION:Bellevue Fire Hall\, 511 Como Park Bvld\, Cheektowaga\, NY\, 14227\, United States
CATEGORIES:5K Run & Walk Event,New York
ATTACH;FMTTYPE=image/png:https://t2t.org/wp-content/uploads/2025/03/2025-Buffalo.png
ORGANIZER;CN="T2T Buffalo":MAILTO:BuffaloNY@t2t.org
GEO:42.892192;-78.740826
X-APPLE-STRUCTURED-LOCATION;VALUE=URI;X-ADDRESS=Bellevue Fire Hall 511 Como Park Bvld Cheektowaga NY 14227 United States;X-APPLE-RADIUS=500;X-TITLE=511 Como Park Bvld:geo:-78.740826,42.892192
END:VEVENT
BEGIN:VEVENT
DTSTART;TZID=America/New_York:20250906T083000
DTEND;TZID=America/New_York:20250906T083000
DTSTAMP:20260421T183235
CREATED:20250403T142458Z
LAST-MODIFIED:20250403T142458Z
UID:61553-1757147400-1757147400@t2t.org
SUMMARY:2025 Tunnel to Towers 5K Run & Walk Alpena
DESCRIPTION:
URL:https://t2t.org/event/2025-tunnel-to-towers-5k-run-walk-alpena/
LOCATION:Alpena Comba Readiness Training Center (CRTC)\, 5884 A St.\, Alpena\, 49707\, United States
CATEGORIES:5K Run & Walk Event,Michigan
ATTACH;FMTTYPE=image/png:https://t2t.org/wp-content/uploads/2025/04/2025-Alpena.png
ORGANIZER;CN="T2T Alpena":MAILTO:Alpena@t2t.org
END:VEVENT
BEGIN:VEVENT
DTSTART;TZID=UTC:20250906T084500
DTEND;TZID=UTC:20250906T084500
DTSTAMP:20260421T183235
CREATED:20250529T165119Z
LAST-MODIFIED:20250530T141123Z
UID:62381-1757148300-1757148300@t2t.org
SUMMARY:2025 Tunnel to Towers 5K Run & Walk Greater Augusta
DESCRIPTION:
URL:https://t2t.org/event/2025-tunnel-to-towers-5k-run-walk-greater-augusta/
LOCATION:Augusta University – Summerville Campus\, 2500 Walton Way\, Augusta\, GA\, 30904\, United States
CATEGORIES:5K Run & Walk Event,Georgia
ATTACH;FMTTYPE=image/jpeg:https://t2t.org/wp-content/uploads/2025/05/Roswell-Thumbnails-1.jpg
ORGANIZER;CN="T2T Greater Augusta":MAILTO:Augusta@t2t.org
GEO:33.476154;-82.0240038
X-APPLE-STRUCTURED-LOCATION;VALUE=URI;X-ADDRESS=Augusta University – Summerville Campus 2500 Walton Way Augusta GA 30904 United States;X-APPLE-RADIUS=500;X-TITLE=2500 Walton Way:geo:-82.0240038,33.476154
END:VEVENT
BEGIN:VEVENT
DTSTART;TZID=America/New_York:20250906T090000
DTEND;TZID=America/New_York:20250906T090000
DTSTAMP:20260421T183235
CREATED:20250306T174322Z
LAST-MODIFIED:20250306T174322Z
UID:61303-1757149200-1757149200@t2t.org
SUMMARY:2025 Tunnel to Towers 5K Run & Walk Sheboygan
DESCRIPTION:
URL:https://t2t.org/event/2025-tunnel-to-towers-5k-run-walk-sheboygan/
LOCATION:Town of Sheboygan Fire Department\, 3911 county road Y\, sheboygan\, WI\, 53083\, United States
CATEGORIES:5K Run & Walk Event,Wisconsin
ATTACH;FMTTYPE=image/png:https://t2t.org/wp-content/uploads/2025/03/2025-Sheboygan.png
ORGANIZER;CN="T2T Sheboygan":MAILTO:Sheboygan@t2t.org
END:VEVENT
BEGIN:VEVENT
DTSTART;TZID=America/New_York:20250906T090000
DTEND;TZID=America/New_York:20250906T090000
DTSTAMP:20260421T183235
CREATED:20250306T175002Z
LAST-MODIFIED:20250306T175002Z
UID:61296-1757149200-1757149200@t2t.org
SUMMARY:2025 Tunnel to Towers 5K Run & Walk Metro Detroit
DESCRIPTION:
URL:https://t2t.org/event/2025-tunnel-to-towers-5k-run-walk-metro-detroit/
LOCATION:Lake St. Clair Metropark\, 31300 Metro Parkway\, Harrison Township\, MI\, 48045
CATEGORIES:5K Run & Walk Event,Michigan
ATTACH;FMTTYPE=image/png:https://t2t.org/wp-content/uploads/2025/03/2025-Metro-Detroit.png
ORGANIZER;CN="T2T Metro Detroit":MAILTO:MetroDetroit@t2t.org
END:VEVENT
BEGIN:VEVENT
DTSTART;TZID=America/New_York:20250906T090000
DTEND;TZID=America/New_York:20250906T090000
DTSTAMP:20260421T183235
CREATED:20250508T143954Z
LAST-MODIFIED:20250508T143954Z
UID:61885-1757149200-1757149200@t2t.org
SUMMARY:2025 Tunnel to Towers 5K Run & Walk McDonough
DESCRIPTION:
URL:https://t2t.org/event/2025-tunnel-to-towers-5k-run-walk-mcdonough/
LOCATION:McDonough Police Department\, 50 Lawrenceville Street\, McDonough\,\, 30253
CATEGORIES:5K Run & Walk Event,Georgia,Tunnel to Towers National Run, Walk & Climb Series
ATTACH;FMTTYPE=image/png:https://t2t.org/wp-content/uploads/2025/05/2025-McDonough.png
ORGANIZER;CN="T2T McDonough":MAILTO:McDonough@t2t.org
END:VEVENT
BEGIN:VEVENT
DTSTART;TZID=America/New_York:20250906T093000
DTEND;TZID=America/New_York:20250906T093000
DTSTAMP:20260421T183235
CREATED:20250403T143118Z
LAST-MODIFIED:20250403T143118Z
UID:61575-1757151000-1757151000@t2t.org
SUMMARY:2025 Tunnel to Towers 5K Run & Walk Loudon
DESCRIPTION:
URL:https://t2t.org/event/2025-tunnel-to-towers-5k-run-walk-loudon/
LOCATION:Loudon City Fire Department\, 100 Cedar Grove Street\, Loudon\, TN\, 37774\, United States
CATEGORIES:5K Run & Walk Event,Tennessee
ATTACH;FMTTYPE=image/png:https://t2t.org/wp-content/uploads/2025/04/2025-Loudon.png
ORGANIZER;CN="T2T Loudon":MAILTO:Loudon@t2t.org
END:VEVENT
END:VCALENDAR