BEGIN:VCALENDAR
VERSION:2.0
PRODID:-//Tunnel to Towers Foundation - ECPv6.15.17//NONSGML v1.0//EN
CALSCALE:GREGORIAN
METHOD:PUBLISH
X-WR-CALNAME:Tunnel to Towers Foundation
X-ORIGINAL-URL:https://t2t.org
X-WR-CALDESC:Events for Tunnel to Towers Foundation
REFRESH-INTERVAL;VALUE=DURATION:PT1H
X-Robots-Tag:noindex
X-PUBLISHED-TTL:PT1H
BEGIN:VTIMEZONE
TZID:America/New_York
BEGIN:DAYLIGHT
TZOFFSETFROM:-0500
TZOFFSETTO:-0400
TZNAME:EDT
DTSTART:20230312T070000
END:DAYLIGHT
BEGIN:STANDARD
TZOFFSETFROM:-0400
TZOFFSETTO:-0500
TZNAME:EST
DTSTART:20231105T060000
END:STANDARD
BEGIN:DAYLIGHT
TZOFFSETFROM:-0500
TZOFFSETTO:-0400
TZNAME:EDT
DTSTART:20240310T070000
END:DAYLIGHT
BEGIN:STANDARD
TZOFFSETFROM:-0400
TZOFFSETTO:-0500
TZNAME:EST
DTSTART:20241103T060000
END:STANDARD
BEGIN:DAYLIGHT
TZOFFSETFROM:-0500
TZOFFSETTO:-0400
TZNAME:EDT
DTSTART:20250309T070000
END:DAYLIGHT
BEGIN:STANDARD
TZOFFSETFROM:-0400
TZOFFSETTO:-0500
TZNAME:EST
DTSTART:20251102T060000
END:STANDARD
END:VTIMEZONE
BEGIN:VEVENT
DTSTART;TZID=America/New_York:20241109T083000
DTEND;TZID=America/New_York:20241109T083000
DTSTAMP:20260423T002936
CREATED:20240509T155020Z
LAST-MODIFIED:20240509T155020Z
UID:56926-1731141000-1731141000@t2t.org
SUMMARY:2024 Tunnel to Towers 5k Run & Walk Brooksville
DESCRIPTION:
URL:https://t2t.org/event/2024-tunnel-to-towers-5k-run-walk-brooksville/
LOCATION:Hernando Park Fort Dade Ave\, 205 E Fort Dade Ave\, Brooksville\, 34601\, United States
CATEGORIES:5K Run & Walk Event,Florida
ATTACH;FMTTYPE=image/png:https://t2t.org/wp-content/uploads/2024/05/2024-Brooksville.png
END:VEVENT
BEGIN:VEVENT
DTSTART;TZID=America/New_York:20241109T090000
DTEND;TZID=America/New_York:20241109T090000
DTSTAMP:20260423T002936
CREATED:20240418T182411Z
LAST-MODIFIED:20240418T182411Z
UID:56379-1731142800-1731142800@t2t.org
SUMMARY:2024 Tunnel to Towers 5K Run & Walk Preston
DESCRIPTION:
URL:https://t2t.org/event/2024-tunnel-to-towers-5k-run-walk-preston/
LOCATION:Centerpoint Schoolhouse\, 3420 Co Road 124\, Preston\, GA\, 31824\, United States
CATEGORIES:5K Run & Walk Event,Georgia
ATTACH;FMTTYPE=image/png:https://t2t.org/wp-content/uploads/2024/04/2024-Preston.png
ORGANIZER;CN="T2T Preston":MAILTO:prestonrun@t2t.org
END:VEVENT
BEGIN:VEVENT
DTSTART;TZID=America/New_York:20241109T090000
DTEND;TZID=America/New_York:20241109T170000
DTSTAMP:20260423T002936
CREATED:20240912T185245Z
LAST-MODIFIED:20240916T141645Z
UID:59159-1731142800-1731171600@t2t.org
SUMMARY:2024 Tunnel to Towers 5K Run & Walk The Villages
DESCRIPTION:
URL:https://t2t.org/event/2024-tunnel-to-towers-5k-run-walk-the-villages/
LOCATION:The Villages Polo Club\, 703 North Buena Vista Boulevard\, The Villages\, FL\, 32163\, United States
CATEGORIES:5K Run & Walk Event,Florida
ATTACH;FMTTYPE=image/png:https://t2t.org/wp-content/uploads/2024/09/2024-The-Villages.png
ORGANIZER;CN="t2t Villages":MAILTO:villages@t2t.org
END:VEVENT
END:VCALENDAR