BEGIN:VCALENDAR
VERSION:2.0
PRODID:-//Tunnel to Towers Foundation - ECPv6.15.17//NONSGML v1.0//EN
CALSCALE:GREGORIAN
METHOD:PUBLISH
X-WR-CALNAME:Tunnel to Towers Foundation
X-ORIGINAL-URL:https://t2t.org
X-WR-CALDESC:Events for Tunnel to Towers Foundation
REFRESH-INTERVAL;VALUE=DURATION:PT1H
X-Robots-Tag:noindex
X-PUBLISHED-TTL:PT1H
BEGIN:VTIMEZONE
TZID:America/New_York
BEGIN:DAYLIGHT
TZOFFSETFROM:-0500
TZOFFSETTO:-0400
TZNAME:EDT
DTSTART:20240310T070000
END:DAYLIGHT
BEGIN:STANDARD
TZOFFSETFROM:-0400
TZOFFSETTO:-0500
TZNAME:EST
DTSTART:20241103T060000
END:STANDARD
BEGIN:DAYLIGHT
TZOFFSETFROM:-0500
TZOFFSETTO:-0400
TZNAME:EDT
DTSTART:20250309T070000
END:DAYLIGHT
BEGIN:STANDARD
TZOFFSETFROM:-0400
TZOFFSETTO:-0500
TZNAME:EST
DTSTART:20251102T060000
END:STANDARD
BEGIN:DAYLIGHT
TZOFFSETFROM:-0500
TZOFFSETTO:-0400
TZNAME:EDT
DTSTART:20260308T070000
END:DAYLIGHT
BEGIN:STANDARD
TZOFFSETFROM:-0400
TZOFFSETTO:-0500
TZNAME:EST
DTSTART:20261101T060000
END:STANDARD
END:VTIMEZONE
BEGIN:VEVENT
DTSTART;TZID=America/New_York:20250412T080000
DTEND;TZID=America/New_York:20250412T080000
DTSTAMP:20260422T130813
CREATED:20250206T162139Z
LAST-MODIFIED:20250206T162139Z
UID:61003-1744444800-1744444800@t2t.org
SUMMARY:2025 Tunnel to Towers 5K Run & Walk Greenville
DESCRIPTION:
URL:https://t2t.org/event/2025-tunnel-to-towers-5k-run-walk-greenville/
LOCATION:Sirrine Stadium\, 100 Cleveland Street\, Greenville\, SC\, 29601\, United States
CATEGORIES:5K Run & Walk Event,South Carolina
ATTACH;FMTTYPE=image/png:https://t2t.org/wp-content/uploads/2022/01/2025-Greenville.png
ORGANIZER;CN="T2T Greenville":MAILTO:Greenville@t2t.org
END:VEVENT
BEGIN:VEVENT
DTSTART;TZID=America/New_York:20250412T090000
DTEND;TZID=America/New_York:20250412T170000
DTSTAMP:20260422T130813
CREATED:20250206T162116Z
LAST-MODIFIED:20250206T162116Z
UID:61008-1744448400-1744477200@t2t.org
SUMMARY:2025 Tunnel to Towers 5K Run & Walk Riverside County
DESCRIPTION:
URL:https://t2t.org/event/2025-tunnel-to-towers-5k-run-walk-riverside-county-ca/
LOCATION:Ben Clark Training Center\, 16902 Bundy Ave\, Riverside\, 92518\, United States
CATEGORIES:5K Run & Walk Event,California
ATTACH;FMTTYPE=image/png:https://t2t.org/wp-content/uploads/2023/03/2025-Riverside-County.png
END:VEVENT
BEGIN:VEVENT
DTSTART;TZID=America/New_York:20250426T080000
DTEND;TZID=America/New_York:20250426T080000
DTSTAMP:20260422T130813
CREATED:20250109T171918Z
LAST-MODIFIED:20250109T171918Z
UID:60761-1745654400-1745654400@t2t.org
SUMMARY:2025 Tunnel to Towers 5K Run & Walk Palm Coast
DESCRIPTION:
URL:https://t2t.org/event/2025-tunnel-to-towers-5k-run-walk-palm-coast/
LOCATION:Central Park at Town Center\, Central Ave and Park Street\, Palm Coast\, FL\, 32137\, United States
CATEGORIES:5K Run & Walk Event,Florida
ATTACH;FMTTYPE=image/png:https://t2t.org/wp-content/uploads/2022/02/2025-Palm-Coast.png
ORGANIZER;CN="T2T Palm Coast":MAILTO:PalmCoast@t2t.org
END:VEVENT
BEGIN:VEVENT
DTSTART;TZID=America/New_York:20250427T073000
DTEND;TZID=America/New_York:20250427T073000
DTSTAMP:20260422T130813
CREATED:20250206T162222Z
LAST-MODIFIED:20250206T162222Z
UID:61006-1745739000-1745739000@t2t.org
SUMMARY:2025 Tunnel to Towers 5K Run & Walk Prince William
DESCRIPTION:
URL:https://t2t.org/event/2025-tunnel-to-towers-5k-run-walk-prince-william/
LOCATION:R. Richard Pfitzner Stadium\, 7 County Complex Court\, Woodbridge\, VA\, 22192\, United States
CATEGORIES:5K Run & Walk Event,Virginia
ATTACH;FMTTYPE=image/png:https://t2t.org/wp-content/uploads/2023/03/2025-Prince-William.png
ORGANIZER;CN="T2T Prince William":MAILTO:princewilliam@t2t.org
END:VEVENT
BEGIN:VEVENT
DTSTART;TZID=America/New_York:20250427T093000
DTEND;TZID=America/New_York:20250427T093000
DTSTAMP:20260422T130813
CREATED:20250109T171916Z
LAST-MODIFIED:20250109T171916Z
UID:60760-1745746200-1745746200@t2t.org
SUMMARY:2025 Tunnel to Towers 5K Run & Walk Nelsonville
DESCRIPTION:
URL:https://t2t.org/event/2025-tunnel-to-towers-5k-run-walk-nelsonville/
LOCATION:Nelsonville Historic Public Square\, Public Square\, Nelsonville\, OH\, 45764
CATEGORIES:5K Run & Walk Event,Ohio
ATTACH;FMTTYPE=image/png:https://t2t.org/wp-content/uploads/2022/02/2025-Nelsonville.png
ORGANIZER;CN="t2t nelsonville":MAILTO:nelsonville@t2t.org
END:VEVENT
END:VCALENDAR