BEGIN:VCALENDAR
VERSION:2.0
PRODID:-//Tunnel to Towers Foundation - ECPv6.15.17//NONSGML v1.0//EN
CALSCALE:GREGORIAN
METHOD:PUBLISH
X-WR-CALNAME:Tunnel to Towers Foundation
X-ORIGINAL-URL:https://t2t.org
X-WR-CALDESC:Events for Tunnel to Towers Foundation
REFRESH-INTERVAL;VALUE=DURATION:PT1H
X-Robots-Tag:noindex
X-PUBLISHED-TTL:PT1H
BEGIN:VTIMEZONE
TZID:America/New_York
BEGIN:DAYLIGHT
TZOFFSETFROM:-0500
TZOFFSETTO:-0400
TZNAME:EDT
DTSTART:20220313T070000
END:DAYLIGHT
BEGIN:STANDARD
TZOFFSETFROM:-0400
TZOFFSETTO:-0500
TZNAME:EST
DTSTART:20221106T060000
END:STANDARD
BEGIN:DAYLIGHT
TZOFFSETFROM:-0500
TZOFFSETTO:-0400
TZNAME:EDT
DTSTART:20230312T070000
END:DAYLIGHT
BEGIN:STANDARD
TZOFFSETFROM:-0400
TZOFFSETTO:-0500
TZNAME:EST
DTSTART:20231105T060000
END:STANDARD
BEGIN:DAYLIGHT
TZOFFSETFROM:-0500
TZOFFSETTO:-0400
TZNAME:EDT
DTSTART:20240310T070000
END:DAYLIGHT
BEGIN:STANDARD
TZOFFSETFROM:-0400
TZOFFSETTO:-0500
TZNAME:EST
DTSTART:20241103T060000
END:STANDARD
END:VTIMEZONE
BEGIN:VEVENT
DTSTART;TZID=America/New_York:20231104T090000
DTEND;TZID=America/New_York:20231104T170000
DTSTAMP:20260423T193906
CREATED:20230904T234134Z
LAST-MODIFIED:20240328T122256Z
UID:50847-1699088400-1699117200@t2t.org
SUMMARY:2023 Tunnel to Towers 5K Run & Walk Sacramento
DESCRIPTION:NOVEMBER 4 @ 9:00 AM
URL:https://t2t.org/event/2023-tunnel-to-towers-5k-run-walk-sacramento/
LOCATION:William Land Park\, 3800 Land Park Drive\, Sacramento\, CA\, 95822\, United States
CATEGORIES:5K Run & Walk Event,California
ATTACH;FMTTYPE=image/webp:https://t2t.org/wp-content/uploads/2023/09/2023-Thumbnails-Sacramento.webp
ORGANIZER;CN="T2T Sacramento":MAILTO:Sacramento@t2t.org
END:VEVENT
BEGIN:VEVENT
DTSTART;TZID=America/New_York:20231104T091100
DTEND;TZID=America/New_York:20231104T170000
DTSTAMP:20260423T193906
CREATED:20230904T233559Z
LAST-MODIFIED:20240411T211344Z
UID:50844-1699089060-1699117200@t2t.org
SUMMARY:2023 Tunnel to Towers 5K Run & Walk The Villages
DESCRIPTION:NOVEMBER 4 @ 9:11 AM
URL:https://t2t.org/event/2023-tunnel-to-towers-5k-run-walk-the-villages/
LOCATION:The Villages Polo Club\, 703 North Buena Vista Boulevard\, The Villages\, FL\, 32163\, United States
CATEGORIES:5K Run & Walk Event,Florida
ATTACH;FMTTYPE=image/webp:https://t2t.org/wp-content/uploads/2023/09/2023-Thumbnails-Villages.webp
ORGANIZER;CN="t2t Villages":MAILTO:villages@t2t.org
END:VEVENT
BEGIN:VEVENT
DTSTART;TZID=America/New_York:20231105T070000
DTEND;TZID=America/New_York:20231105T235900
DTSTAMP:20260423T193906
CREATED:20230904T233011Z
LAST-MODIFIED:20240411T211534Z
UID:50840-1699167600-1699228740@t2t.org
SUMMARY:2023 Tunnel to Towers 5K Run & Walk Acadiana
DESCRIPTION:NOVEMBER 5 @ 7:00 AM
URL:https://t2t.org/event/2023-tunnel-to-towers-5k-run-walk-acadiana/
LOCATION:Moncus Park-Lafayette Lawn\, 2913 Johnson Street\, Lafayette\, LA\, 70503\, United States
CATEGORIES:5K Run & Walk Event,Louisiana
ATTACH;FMTTYPE=image/webp:https://t2t.org/wp-content/uploads/2023/09/2023-Thumbnails-Acadiana.webp
ORGANIZER;CN="T2T Acadiana":MAILTO:Acadiana@t2t.org
END:VEVENT
BEGIN:VEVENT
DTSTART;TZID=America/New_York:20231112T000000
DTEND;TZID=America/New_York:20231112T235900
DTSTAMP:20260423T193906
CREATED:20230904T220153Z
LAST-MODIFIED:20240328T121934Z
UID:50752-1699747200-1699833540@t2t.org
SUMMARY:2023 Tunnel to Towers 5K Run & Walk Bluffton
DESCRIPTION:NOVEMBER 12 @ 9:00 AM
URL:https://t2t.org/event/2023-tunnel-to-towers-5k-run-walk-bluffton/
LOCATION:Rose Hill Plantation\, 1 Equestrian Way\, Bluffton\, SC\, 29910\, United States
CATEGORIES:5K Run & Walk Event,South Carolina
ATTACH;FMTTYPE=image/webp:https://t2t.org/wp-content/uploads/2023/09/2023-Thumbnails-Bluffton.webp
ORGANIZER;CN="T2T Bluffton":MAILTO:bluffton@t2t.org
END:VEVENT
BEGIN:VEVENT
DTSTART;TZID=America/New_York:20231118T000000
DTEND;TZID=America/New_York:20231118T235900
DTSTAMP:20260423T193906
CREATED:20230904T193909Z
LAST-MODIFIED:20240328T121346Z
UID:50724-1700265600-1700351940@t2t.org
SUMMARY:2023 Tunnel to Towers 5k Run & Walk Brooksville
DESCRIPTION:NOVEMBER 18 @ 8:15 AM
URL:https://t2t.org/event/2023-tunnel-to-towers-5k-run-walk-brooksville/
LOCATION:Tom Varn Park\, 301 Darby Lane\, Brooksville\, FL\, 34601\, United States
CATEGORIES:5K Run & Walk Event,Florida
ATTACH;FMTTYPE=image/webp:https://t2t.org/wp-content/uploads/2023/09/2023-Thumbnails-Brooksville.webp
END:VEVENT
BEGIN:VEVENT
DTSTART;TZID=America/New_York:20231118T000000
DTEND;TZID=America/New_York:20231118T235900
DTSTAMP:20260423T193906
CREATED:20230904T201255Z
LAST-MODIFIED:20240328T121425Z
UID:50729-1700265600-1700351940@t2t.org
SUMMARY:2023 Tunnel to Towers 5K Run & Walk Delmarva
DESCRIPTION:NOVEMBER 18 @ 8:00 AM
URL:https://t2t.org/event/2023-tunnel-to-towers-5k-run-walk-delmarva/
LOCATION:Cape Henlopen State Park\, 15099 Cape Henlopen Dr\, Lewes\, DE\, 19958\, United States
CATEGORIES:5K Run & Walk Event,Delaware
ATTACH;FMTTYPE=image/webp:https://t2t.org/wp-content/uploads/2023/09/2023-Thumbnails-Delmarva.webp
ORGANIZER;CN="T2T Delmarva":MAILTO:delmarva@t2t.org
END:VEVENT
END:VCALENDAR