BEGIN:VCALENDAR
VERSION:2.0
PRODID:-//Tunnel to Towers Foundation - ECPv6.15.17//NONSGML v1.0//EN
CALSCALE:GREGORIAN
METHOD:PUBLISH
X-WR-CALNAME:Tunnel to Towers Foundation
X-ORIGINAL-URL:https://t2t.org
X-WR-CALDESC:Events for Tunnel to Towers Foundation
REFRESH-INTERVAL;VALUE=DURATION:PT1H
X-Robots-Tag:noindex
X-PUBLISHED-TTL:PT1H
BEGIN:VTIMEZONE
TZID:America/New_York
BEGIN:DAYLIGHT
TZOFFSETFROM:-0500
TZOFFSETTO:-0400
TZNAME:EDT
DTSTART:20220313T070000
END:DAYLIGHT
BEGIN:STANDARD
TZOFFSETFROM:-0400
TZOFFSETTO:-0500
TZNAME:EST
DTSTART:20221106T060000
END:STANDARD
BEGIN:DAYLIGHT
TZOFFSETFROM:-0500
TZOFFSETTO:-0400
TZNAME:EDT
DTSTART:20230312T070000
END:DAYLIGHT
BEGIN:STANDARD
TZOFFSETFROM:-0400
TZOFFSETTO:-0500
TZNAME:EST
DTSTART:20231105T060000
END:STANDARD
BEGIN:DAYLIGHT
TZOFFSETFROM:-0500
TZOFFSETTO:-0400
TZNAME:EDT
DTSTART:20240310T070000
END:DAYLIGHT
BEGIN:STANDARD
TZOFFSETFROM:-0400
TZOFFSETTO:-0500
TZNAME:EST
DTSTART:20241103T060000
END:STANDARD
END:VTIMEZONE
BEGIN:VEVENT
DTSTART;TZID=America/New_York:20231007T083000
DTEND;TZID=America/New_York:20231007T170000
DTSTAMP:20260423T212305
CREATED:20230906T010641Z
LAST-MODIFIED:20240411T213111Z
UID:51159-1696667400-1696698000@t2t.org
SUMMARY:2023 Tunnel to Towers 5K Run & Walk The Triangle
DESCRIPTION:OCTOBER 7 @ 8:30 AM
URL:https://t2t.org/event/2023-tunnel-to-towers-5k-run-walk-the-triangle/
LOCATION:American Legion Post\, 225 Holding Ave\, Wake Forest\, NC\, 27587\, United States
CATEGORIES:5K Run & Walk Event,North Carolina
ATTACH;FMTTYPE=image/jpeg:https://t2t.org/wp-content/uploads/2023/09/2023-Thumbnails-Triangle.jpg
ORGANIZER;CN="T2T The Triangle":MAILTO:Triangle@t2t.org
END:VEVENT
BEGIN:VEVENT
DTSTART;TZID=America/New_York:20231014T080000
DTEND;TZID=America/New_York:20231014T170000
DTSTAMP:20260423T212305
CREATED:20230906T012247Z
LAST-MODIFIED:20240411T213509Z
UID:51166-1697270400-1697302800@t2t.org
SUMMARY:2023 Tunnel to Towers 5K Run & Walk Fort Worth
DESCRIPTION:OCTOBER 14 @ 8:00 AM
URL:https://t2t.org/event/2023-tunnel-to-towers-5k-run-walk-fort-worth/
LOCATION:Shops at Clearfork – Greenspace\, 5000 Marathon Ave\, Fort Worth\, TX\, 76109\, United States
CATEGORIES:5K Run & Walk Event,Texas
ATTACH;FMTTYPE=image/jpeg:https://t2t.org/wp-content/uploads/2023/09/2023-Thumbnails-Fort-Worth.jpg
ORGANIZER;CN="T2T Fort Worth":MAILTO:FortWorth@t2t.org
END:VEVENT
BEGIN:VEVENT
DTSTART;TZID=America/New_York:20231014T090000
DTEND;TZID=America/New_York:20231014T090000
DTSTAMP:20260423T212305
CREATED:20230518T190812Z
LAST-MODIFIED:20240411T213421Z
UID:36999-1697274000-1697274000@t2t.org
SUMMARY:2023 Tunnel to Towers 5K Run & Walk Siouxland
DESCRIPTION:
URL:https://t2t.org/event/2023-tunnel-to-towers-5k-run-walk-siouxland/
LOCATION:Siouxland Fredom Park\, 1801 Veterans Drive\, South Sioux City\, IA\, 68776\, United States
CATEGORIES:5K Run & Walk Event,Iowa
ATTACH;FMTTYPE=image/jpeg:https://t2t.org/wp-content/uploads/2022/05/2023-Thumbnails-Siouxland-1.jpg
ORGANIZER;CN="T2T Sioux City":MAILTO:siouxcity@t2t.org
END:VEVENT
BEGIN:VEVENT
DTSTART;TZID=America/New_York:20231021T100000
DTEND;TZID=America/New_York:20231021T100000
DTSTAMP:20260423T212305
CREATED:20230406T190049Z
LAST-MODIFIED:20240411T212214Z
UID:36494-1697882400-1697882400@t2t.org
SUMMARY:2023 Tunnel to Towers 5K Run & Walk Hendersonville
DESCRIPTION:
URL:https://t2t.org/event/2023-tunnel-to-towers-5k-run-walk-hendersonville/
LOCATION:Sanders Ferry Park\, 513 Sanders Ferry Rd.\, Hendersonville\, TN\, 37075\, United States
CATEGORIES:5K Run & Walk Event,Tennessee
ATTACH;FMTTYPE=image/jpeg:https://t2t.org/wp-content/uploads/2022/04/2023-Thumbnails-Hendersonville.jpg
ORGANIZER;CN="T2T Hendersonville":MAILTO:Hendersonville@t2t.org
END:VEVENT
BEGIN:VEVENT
DTSTART;TZID=America/New_York:20231028T080000
DTEND;TZID=America/New_York:20231028T080000
DTSTAMP:20260423T212305
CREATED:20230518T184407Z
LAST-MODIFIED:20240411T213731Z
UID:36991-1698480000-1698480000@t2t.org
SUMMARY:2023 Tunnel to Towers 5K Run & Walk Southwest Houston
DESCRIPTION:
URL:https://t2t.org/event/2023-tunnel-to-towers-5k-run-walk-southwest-houston/
LOCATION:George Ranch Historical Park\, 10215 FM 762 Rd\, Richmond\, TX\, 77469\, United States
CATEGORIES:5K Run & Walk Event,Texas
ATTACH;FMTTYPE=image/jpeg:https://t2t.org/wp-content/uploads/2021/05/2023-Thumbnails-Southwest-Houston.jpg
ORGANIZER;CN="T2T Southwest Houston":MAILTO:southwesthouston@t2t.org
END:VEVENT
BEGIN:VEVENT
DTSTART;TZID=America/New_York:20231028T080000
DTEND;TZID=America/New_York:20231028T170000
DTSTAMP:20260423T212305
CREATED:20230904T234449Z
LAST-MODIFIED:20240411T213148Z
UID:50850-1698480000-1698512400@t2t.org
SUMMARY:2023 Tunnel to Towers 5K Run & Walk Trinity Pasco
DESCRIPTION:OCTOBER 28 @ 8:30 AM
URL:https://t2t.org/event/2023-tunnel-to-towers-5k-run-walk-trinity-pasco/
LOCATION:Starkey Ranch DIstrict Park\, 11880 Lake Blanche Drive\, Odessa\, FL\, 33556\, United States
CATEGORIES:5K Run & Walk Event,Florida
ATTACH;FMTTYPE=image/webp:https://t2t.org/wp-content/uploads/2023/09/2023-Thumbnails-Trinity.webp
ORGANIZER;CN="T2T Trinity Pasco":MAILTO:trinitypasco@t2t.org
END:VEVENT
BEGIN:VEVENT
DTSTART;TZID=America/New_York:20231028T080000
DTEND;TZID=America/New_York:20231028T170000
DTSTAMP:20260423T212305
CREATED:20230904T234714Z
LAST-MODIFIED:20240411T212236Z
UID:50853-1698480000-1698512400@t2t.org
SUMMARY:2023 Tunnel to Towers 5K Run & Walk Jackson MS
DESCRIPTION:OCTOBER 28 @ 8:00 AM
URL:https://t2t.org/event/2023-tunnel-to-towers-5k-run-walk-jackson-ms/
LOCATION:The District at Eastover\, 1250 Eastover Drive\, Jackson\, MS\, 39211\, United States
CATEGORIES:5K Run & Walk Event,Mississippi
ATTACH;FMTTYPE=image/webp:https://t2t.org/wp-content/uploads/2023/09/2023-Thumbnails-Jackson-MS.webp
ORGANIZER;CN="T2T Jackson MS":MAILTO:jacksonms@t2t.org
END:VEVENT
END:VCALENDAR