BEGIN:VCALENDAR
VERSION:2.0
PRODID:-//Tunnel to Towers Foundation - ECPv6.15.17//NONSGML v1.0//EN
CALSCALE:GREGORIAN
METHOD:PUBLISH
X-WR-CALNAME:Tunnel to Towers Foundation
X-ORIGINAL-URL:https://t2t.org
X-WR-CALDESC:Events for Tunnel to Towers Foundation
REFRESH-INTERVAL;VALUE=DURATION:PT1H
X-Robots-Tag:noindex
X-PUBLISHED-TTL:PT1H
BEGIN:VTIMEZONE
TZID:America/New_York
BEGIN:DAYLIGHT
TZOFFSETFROM:-0500
TZOFFSETTO:-0400
TZNAME:EDT
DTSTART:20220313T070000
END:DAYLIGHT
BEGIN:STANDARD
TZOFFSETFROM:-0400
TZOFFSETTO:-0500
TZNAME:EST
DTSTART:20221106T060000
END:STANDARD
BEGIN:DAYLIGHT
TZOFFSETFROM:-0500
TZOFFSETTO:-0400
TZNAME:EDT
DTSTART:20230312T070000
END:DAYLIGHT
BEGIN:STANDARD
TZOFFSETFROM:-0400
TZOFFSETTO:-0500
TZNAME:EST
DTSTART:20231105T060000
END:STANDARD
BEGIN:DAYLIGHT
TZOFFSETFROM:-0500
TZOFFSETTO:-0400
TZNAME:EDT
DTSTART:20240310T070000
END:DAYLIGHT
BEGIN:STANDARD
TZOFFSETFROM:-0400
TZOFFSETTO:-0500
TZNAME:EST
DTSTART:20241103T060000
END:STANDARD
END:VTIMEZONE
BEGIN:VTIMEZONE
TZID:UTC
BEGIN:STANDARD
TZOFFSETFROM:+0000
TZOFFSETTO:+0000
TZNAME:UTC
DTSTART:20220101T000000
END:STANDARD
END:VTIMEZONE
BEGIN:VEVENT
DTSTART;TZID=America/New_York:20230902T080000
DTEND;TZID=America/New_York:20230902T080000
DTSTAMP:20260423T225731
CREATED:20230427T171918Z
LAST-MODIFIED:20240416T175810Z
UID:36740-1693641600-1693641600@t2t.org
SUMMARY:2023 Tunnel to Towers 5K Run & Walk Newman
DESCRIPTION:
URL:https://t2t.org/event/2023-tunnel-to-towers-5k-run-walk-newman/
LOCATION:Newman Police Department\, 1200 Main Street\, Newman\, CA\, 95360\, United States
CATEGORIES:5K Run & Walk Event,California
ATTACH;FMTTYPE=image/jpeg:https://t2t.org/wp-content/uploads/2023/04/2023-Thumbnails-Newman.jpg
ORGANIZER;CN="T2T newman":MAILTO:Newman@t2t.org
END:VEVENT
BEGIN:VEVENT
DTSTART;TZID=UTC:20230908T180000
DTEND;TZID=UTC:20230908T180000
DTSTAMP:20260423T225731
CREATED:20230406T190020Z
LAST-MODIFIED:20240411T212114Z
UID:36477-1694196000-1694196000@t2t.org
SUMMARY:2023 Tunnel to Towers 5K Run & Walk Columbia
DESCRIPTION:
URL:https://t2t.org/event/2023-tunnel-to-towers-5k-run-walk-columbia/
LOCATION:Columbia Convention Center’s 9/11 Memorial Site\, 1100 Lincoln St\, Columbia\, SC\, 29201\, United States
CATEGORIES:5K Run & Walk Event,South Carolina
ATTACH;FMTTYPE=image/jpeg:https://t2t.org/wp-content/uploads/2022/05/2023-Thumbnails-Columbia.jpg
ORGANIZER;CN="T2T Columbia":MAILTO:columbia@t2t.org
GEO:33.9972733;-81.038029
X-APPLE-STRUCTURED-LOCATION;VALUE=URI;X-ADDRESS=Columbia Convention Center’s 9/11 Memorial Site 1100 Lincoln St Columbia SC 29201 United States;X-APPLE-RADIUS=500;X-TITLE=1100 Lincoln St:geo:-81.038029,33.9972733
END:VEVENT
BEGIN:VEVENT
DTSTART;TZID=America/New_York:20230909T070000
DTEND;TZID=America/New_York:20230909T070000
DTSTAMP:20260423T225731
CREATED:20230316T205444Z
LAST-MODIFIED:20240424T150823Z
UID:36189-1694242800-1694242800@t2t.org
SUMMARY:2023 Tunnel to Towers 5K Run & Walk Orlando
DESCRIPTION:
URL:https://t2t.org/event/2023-tunnel-to-towers-5k-run-walk-orlando/
LOCATION:Cranes Roost Park\, 274 Cranes Roost Blvd.\, Altamonte Springs \, FL\, 32701\, United States
CATEGORIES:5K Run & Walk Event,Florida
ATTACH;FMTTYPE=image/jpeg:https://t2t.org/wp-content/uploads/2023/03/2023-Thumbnails-Orlando.jpg
ORGANIZER;CN="T2T Orlando":MAILTO:Orlando@t2t.org
GEO:28.6660475;-81.3835923
X-APPLE-STRUCTURED-LOCATION;VALUE=URI;X-ADDRESS=Cranes Roost Park 274 Cranes Roost Blvd. Altamonte Springs  FL 32701 United States;X-APPLE-RADIUS=500;X-TITLE=274 Cranes Roost Blvd.:geo:-81.3835923,28.6660475
END:VEVENT
BEGIN:VEVENT
DTSTART;TZID=America/New_York:20230909T070000
DTEND;TZID=America/New_York:20230909T070000
DTSTAMP:20260423T225731
CREATED:20230906T002726Z
LAST-MODIFIED:20240411T213343Z
UID:51111-1694242800-1694242800@t2t.org
SUMMARY:2023 Tunnel to Towers 5k Run & Walk Fort Lauderdale
DESCRIPTION:
URL:https://t2t.org/event/2023-tunnel-to-towers-5k-run-walk-ankeny/
LOCATION:Sunrise Civic Center\, 10610 W Oakland Park Blvd\, Sunrise\, FL\, 33351\, United States
CATEGORIES:5K Run & Walk Event,Florida
ATTACH;FMTTYPE=image/jpeg:https://t2t.org/wp-content/uploads/2023/09/2023-Thumbnails-Ft-Myers-1-1-1.jpg
ORGANIZER;CN="T2T Fort Lauderdale":MAILTO:FtLauderdale@t2t.org
END:VEVENT
BEGIN:VEVENT
DTSTART;TZID=UTC:20230909T071500
DTEND;TZID=UTC:20230909T071500
DTSTAMP:20260423T225731
CREATED:20230518T185435Z
LAST-MODIFIED:20240411T214004Z
UID:36997-1694243700-1694243700@t2t.org
SUMMARY:2023 Tunnel to Towers 5K Run & Walk Vero Beach
DESCRIPTION:
URL:https://t2t.org/event/2023-tunnel-to-towers-5k-run-walk-vero-beach/
LOCATION:Riverside Park\, 3001 Riverside Park Dr.\, Vero Beach\, FL\, 32963\, United States
CATEGORIES:5K Run & Walk Event,Florida
ATTACH;FMTTYPE=image/jpeg:https://t2t.org/wp-content/uploads/2022/01/2023-Thumbnails-Vero-Beach.jpg
ORGANIZER;CN="T2T Vero Beach":MAILTO:VeroBeach@t2t.org
GEO:27.649836;-80.3668989
X-APPLE-STRUCTURED-LOCATION;VALUE=URI;X-ADDRESS=Riverside Park 3001 Riverside Park Dr. Vero Beach FL 32963 United States;X-APPLE-RADIUS=500;X-TITLE=3001 Riverside Park Dr.:geo:-80.3668989,27.649836
END:VEVENT
BEGIN:VEVENT
DTSTART;TZID=America/New_York:20230909T073000
DTEND;TZID=America/New_York:20230909T170000
DTSTAMP:20260423T225731
CREATED:20230906T004105Z
LAST-MODIFIED:20240424T152000Z
UID:51147-1694244600-1694278800@t2t.org
SUMMARY:2023 Tunnel to Towers 5K Run & Walk Lynchburg
DESCRIPTION:SEPTEMBER 9 @ 7:30 AM
URL:https://t2t.org/event/2023-tunnel-to-towers-5k-run-walk-lynchburg/
LOCATION:Lynchburg TN Town Square\, 196 Main Street\, Lynchburg\, TN\, 37352\, United States
CATEGORIES:5K Run & Walk Event,Tennessee
ATTACH;FMTTYPE=image/jpeg:https://t2t.org/wp-content/uploads/2023/09/2023-Thumbnails-Lynchburg.jpg
ORGANIZER;CN="T2T Lynchburg":MAILTO:Lynchburg@t2t.org
END:VEVENT
BEGIN:VEVENT
DTSTART;TZID=America/New_York:20230909T074500
DTEND;TZID=America/New_York:20230909T170000
DTSTAMP:20260423T225731
CREATED:20230906T004351Z
LAST-MODIFIED:20240411T212545Z
UID:51150-1694245500-1694278800@t2t.org
SUMMARY:2023 Tunnel to Towers 5K Run & Walk Fort Myers
DESCRIPTION:SEPTEMBER 9 @ 7:45 AM
URL:https://t2t.org/event/2023-tunnel-to-towers-5k-run-walk-fort-myers/
LOCATION:Florida Southwestern State College\, Fort Myers\, FL\, 33919\, United States
CATEGORIES:5K Run & Walk Event,Florida
ATTACH;FMTTYPE=image/jpeg:https://t2t.org/wp-content/uploads/2023/09/2023-Thumbnails-Ft-Myers-1.jpg
ORGANIZER;CN="T2T Fort Myers":MAILTO:FortMyers@t2t.org
END:VEVENT
BEGIN:VEVENT
DTSTART;TZID=America/New_York:20230909T080000
DTEND;TZID=America/New_York:20230909T080000
DTSTAMP:20260423T225731
CREATED:20230406T190012Z
LAST-MODIFIED:20240424T151249Z
UID:36486-1694246400-1694246400@t2t.org
SUMMARY:2023 Tunnel to Towers 5K Run & Walk Pittsburgh
DESCRIPTION:
URL:https://t2t.org/event/2023-tunnel-to-towers-5k-run-walk-pittsburgh/
LOCATION:Canonsburg Memorial Stadium\, 1 N Jefferson Ave\, Canonsburg\, PA\, 15317\, United States
CATEGORIES:5K Run & Walk Event,Pennsylvania
ATTACH;FMTTYPE=image/jpeg:https://t2t.org/wp-content/uploads/2021/05/2023-Thumbnails-Pittsburgh.jpg
ORGANIZER;CN="T2T Pittsburgh":MAILTO:Pittsburgh@t2t.org
END:VEVENT
BEGIN:VEVENT
DTSTART;TZID=America/New_York:20230909T080000
DTEND;TZID=America/New_York:20230909T080000
DTSTAMP:20260423T225731
CREATED:20230406T190020Z
LAST-MODIFIED:20240506T115436Z
UID:36480-1694246400-1694246400@t2t.org
SUMMARY:2023 Tunnel to Towers 5K Run & Walk Chama
DESCRIPTION:
URL:https://t2t.org/event/2023-tunnel-to-towers-5k-run-walk-chama/
LOCATION:Elevate Chama\, 555 US Hwy 84/64\, Chama\, NM\, 87520
CATEGORIES:5K Run & Walk Event,New Mexico
ATTACH;FMTTYPE=image/jpeg:https://t2t.org/wp-content/uploads/2023/04/2023-Thumbnails-Chama.jpg
ORGANIZER;CN="T2T Chama":MAILTO:Chama@t2t.org
END:VEVENT
BEGIN:VEVENT
DTSTART;TZID=America/New_York:20230909T080000
DTEND;TZID=America/New_York:20230909T170000
DTSTAMP:20260423T225731
CREATED:20230906T004929Z
LAST-MODIFIED:20240506T114802Z
UID:51153-1694246400-1694278800@t2t.org
SUMMARY:2023 Tunnel to Towers 5K Run & Walk Swansboro
DESCRIPTION:SEPTEMBER 9 @ 8:00 AM
URL:https://t2t.org/event/2023-tunnel-to-towers-5k-run-walk-swansboro/
LOCATION:Swansboro Municipal Park\, 830 Main St. Ext.\, swansboro\, NC\, 28584
CATEGORIES:5K Run & Walk Event,North Carolina
ATTACH;FMTTYPE=image/jpeg:https://t2t.org/wp-content/uploads/2023/09/2023-Thumbnails-Swansboro.jpg
ORGANIZER;CN="T2T Swansboro":MAILTO:Swansboro@t2t.org
END:VEVENT
BEGIN:VEVENT
DTSTART;TZID=America/New_York:20230909T080000
DTEND;TZID=America/New_York:20230909T170000
DTSTAMP:20260423T225731
CREATED:20230906T005446Z
LAST-MODIFIED:20240411T212410Z
UID:51156-1694246400-1694278800@t2t.org
SUMMARY:2023 Tunnel to Towers 5K Run & Walk St. Augustine
DESCRIPTION:SEPTEMBER 9 @ 8:15 AM
URL:https://t2t.org/event/2023-tunnel-to-towers-5k-run-walk-st-augustine/
LOCATION:One World Golf Place\, 500 S Legacy Trl\, Saint Augustine\, FL\, 32092\, United States
CATEGORIES:5K Run & Walk Event,Florida
ATTACH;FMTTYPE=image/jpeg:https://t2t.org/wp-content/uploads/2023/09/2023-Thumbnails-St.-Augustine.jpg
ORGANIZER;CN="T2T St Augustine":MAILTO:StAugustine@t2t.org
GEO:29.9902604;-81.468321
X-APPLE-STRUCTURED-LOCATION;VALUE=URI;X-ADDRESS=One World Golf Place 500 S Legacy Trl Saint Augustine FL 32092 United States;X-APPLE-RADIUS=500;X-TITLE=500 S Legacy Trl:geo:-81.468321,29.9902604
END:VEVENT
BEGIN:VEVENT
DTSTART;TZID=UTC:20230909T081500
DTEND;TZID=UTC:20230909T081500
DTSTAMP:20260423T225731
CREATED:20230427T171100Z
LAST-MODIFIED:20240411T213547Z
UID:36734-1694247300-1694247300@t2t.org
SUMMARY:2023 Tunnel to Towers 5K Run & Walk Cypress
DESCRIPTION:
URL:https://t2t.org/event/2023-tunnel-to-towers-5k-run-walk-cypress/
LOCATION:John Paul Landing Park\, Environmental Education Center\, 9950 Katy Hockley Rd\, Cypress\, TX\, 77433\, United States
CATEGORIES:5K Run & Walk Event,Texas
ATTACH;FMTTYPE=image/jpeg:https://t2t.org/wp-content/uploads/2022/05/2023-Thumbnails-Cypress-1.jpg
ORGANIZER;CN="T2T Cypress":MAILTO:Cypress@t2t.org
END:VEVENT
BEGIN:VEVENT
DTSTART;TZID=America/New_York:20230909T083000
DTEND;TZID=America/New_York:20230909T083000
DTSTAMP:20260423T225731
CREATED:20230316T200419Z
LAST-MODIFIED:20240506T115534Z
UID:36169-1694248200-1694248200@t2t.org
SUMMARY:2023 Tunnel to Towers 5K Run & Walk Metro Detroit
DESCRIPTION:
URL:https://t2t.org/event/2023-tunnel-to-towers-5k-run-walk-metro-detroit/
LOCATION:Lake St. Clair Metropark\, 31300 Metro Parkway\, Harrison Township\, MI\, 48045
CATEGORIES:5K Run & Walk Event,Michigan
ATTACH;FMTTYPE=image/jpeg:https://t2t.org/wp-content/uploads/2023/03/2023-Thumbnails-Metro-Detroit.jpg
ORGANIZER;CN="T2T Metro Detroit":MAILTO:MetroDetroit@t2t.org
END:VEVENT
BEGIN:VEVENT
DTSTART;TZID=UTC:20230909T084600
DTEND;TZID=UTC:20230909T084600
DTSTAMP:20260423T225732
CREATED:20230406T190004Z
LAST-MODIFIED:20240506T114348Z
UID:36482-1694249160-1694249160@t2t.org
SUMMARY:2023 Tunnel to Towers 5K Run & Walk Greater Augusta
DESCRIPTION:
URL:https://t2t.org/event/2023-tunnel-to-towers-5k-run-walk-greater-augusta/
LOCATION:Augusta University – Summerville Campus\, 2500 Walton Way\, Augusta\, GA\, 30904\, United States
CATEGORIES:5K Run & Walk Event,Georgia
ATTACH;FMTTYPE=image/jpeg:https://t2t.org/wp-content/uploads/2022/04/2023-Thumbnails-Greater-Aug.jpg
ORGANIZER;CN="T2T Greater Augusta":MAILTO:Augusta@t2t.org
GEO:33.476154;-82.0240038
X-APPLE-STRUCTURED-LOCATION;VALUE=URI;X-ADDRESS=Augusta University – Summerville Campus 2500 Walton Way Augusta GA 30904 United States;X-APPLE-RADIUS=500;X-TITLE=2500 Walton Way:geo:-82.0240038,33.476154
END:VEVENT
BEGIN:VEVENT
DTSTART;TZID=America/New_York:20230909T090000
DTEND;TZID=America/New_York:20230909T090000
DTSTAMP:20260423T225732
CREATED:20230427T171616Z
LAST-MODIFIED:20240506T114844Z
UID:36738-1694250000-1694250000@t2t.org
SUMMARY:2023 Tunnel to Towers 5K Run & Walk Boston
DESCRIPTION:
URL:https://t2t.org/event/2023-tunnel-to-towers-5k-run-walk-boston/
LOCATION:Castle Island\, 2010 William J Day Blvd\, Boston\, MA\, 02127\, United States
CATEGORIES:5K Run & Walk Event,Massachusetts
ATTACH;FMTTYPE=image/jpeg:https://t2t.org/wp-content/uploads/2021/07/2023-Thumbnails-Boston.jpg
ORGANIZER;CN="T2T Boston":MAILTO:boston@t2t.org
END:VEVENT
BEGIN:VEVENT
DTSTART;TZID=America/New_York:20230909T090000
DTEND;TZID=America/New_York:20230909T090000
DTSTAMP:20260423T225732
CREATED:20230518T183905Z
LAST-MODIFIED:20240506T115213Z
UID:36988-1694250000-1694250000@t2t.org
SUMMARY:2023 Tunnel to Towers 5K Run & Walk McDonough
DESCRIPTION:
URL:https://t2t.org/event/2023-tunnel-to-towers-5k-run-walk-mcdonough/
LOCATION:McDonough Police Department\, 50 Lawrenceville Street\, McDonough\,\, 30253
CATEGORIES:5K Run & Walk Event,Georgia
ATTACH;FMTTYPE=image/jpeg:https://t2t.org/wp-content/uploads/2021/05/2023-Thumbnails-McDonough.jpg
ORGANIZER;CN="T2T McDonough":MAILTO:McDonough@t2t.org
END:VEVENT
BEGIN:VEVENT
DTSTART;TZID=UTC:20230909T090000
DTEND;TZID=UTC:20230909T090000
DTSTAMP:20260423T225732
CREATED:20230518T185208Z
LAST-MODIFIED:20240506T114556Z
UID:36995-1694250000-1694250000@t2t.org
SUMMARY:2023 Tunnel to Towers 5K Run & Walk North Idaho
DESCRIPTION:
URL:https://t2t.org/event/2023-tunnel-to-towers-5k-run-walk-north-idaho/
LOCATION:McEuen Park Pavilion\, 420 E Front Ave\, Coeur D'Alene\, ID\, 83814
CATEGORIES:5K Run & Walk Event,Idaho
ATTACH;FMTTYPE=image/jpeg:https://t2t.org/wp-content/uploads/2021/06/2023-Thumbnails-North-Idaho.jpg
ORGANIZER;CN="T2T North Idaho":MAILTO:Northidaho@t2t.org
END:VEVENT
BEGIN:VEVENT
DTSTART;TZID=America/New_York:20230909T091500
DTEND;TZID=America/New_York:20230909T091500
DTSTAMP:20260423T225732
CREATED:20230406T190008Z
LAST-MODIFIED:20240424T151739Z
UID:36488-1694250900-1694250900@t2t.org
SUMMARY:2023 Tunnel to Towers 5K Run & Walk Alpena
DESCRIPTION:
URL:https://t2t.org/event/2023-tunnel-to-towers-5k-run-walk-alpena-2/
LOCATION:Alpena Band Shell\, 208 North 1st Ave\, Alpena\, MI\, 49707\, United States
CATEGORIES:5K Run & Walk Event,Michigan
ATTACH;FMTTYPE=image/jpeg:https://t2t.org/wp-content/uploads/2017/07/2023-Thumbnails-Alpena.jpg
ORGANIZER;CN="T2T Alpena":MAILTO:Alpena@t2t.org
GEO:45.0619595;-83.4310959
X-APPLE-STRUCTURED-LOCATION;VALUE=URI;X-ADDRESS=Alpena Band Shell 208 North 1st Ave Alpena MI 49707 United States;X-APPLE-RADIUS=500;X-TITLE=208 North 1st Ave:geo:-83.4310959,45.0619595
END:VEVENT
BEGIN:VEVENT
DTSTART;TZID=America/New_York:20230909T093000
DTEND;TZID=America/New_York:20230909T093000
DTSTAMP:20260423T225732
CREATED:20230316T204343Z
LAST-MODIFIED:20240506T115711Z
UID:36185-1694251800-1694251800@t2t.org
SUMMARY:2023 Tunnel to Towers 5K Run & Walk Loudon
DESCRIPTION:
URL:https://t2t.org/event/2023-tunnel-to-towers-5k-run-walk-loudon/
LOCATION:Loudon City Fire Department\, 100 Cedar Grove Street\, Loudon\, TN\, 37774\, United States
CATEGORIES:5K Run & Walk Event,Tennessee
ATTACH;FMTTYPE=image/jpeg:https://t2t.org/wp-content/uploads/2021/05/2023-Thumbnails-Loudon.jpg
ORGANIZER;CN="T2T Loudon":MAILTO:Loudon@t2t.org
END:VEVENT
BEGIN:VEVENT
DTSTART;TZID=America/New_York:20230910T073000
DTEND;TZID=America/New_York:20230910T073000
DTSTAMP:20260423T225732
CREATED:20230223T210008Z
LAST-MODIFIED:20240416T180408Z
UID:36006-1694331000-1694331000@t2t.org
SUMMARY:2023 Tunnel to Towers 5K Run & Walk Tempe
DESCRIPTION:
URL:https://t2t.org/event/2023-tunnel-to-towers-5k-run-walk-tempe/
LOCATION:Tempe Beach Park\, 80 W. Rio Salado PKWY\, tempe\, AZ\, 85281\, United States
CATEGORIES:5K Run & Walk Event,Arizona
ATTACH;FMTTYPE=image/jpeg:https://t2t.org/wp-content/uploads/2019/02/2023-Thumbnails-Tempe.jpg
ORGANIZER;CN="T2T Tempe":MAILTO:Tempe@t2t.org
END:VEVENT
BEGIN:VEVENT
DTSTART;TZID=America/New_York:20230910T080000
DTEND;TZID=America/New_York:20230910T080000
DTSTAMP:20260423T225732
CREATED:20230223T213317Z
LAST-MODIFIED:20240416T180445Z
UID:36010-1694332800-1694332800@t2t.org
SUMMARY:2023 Tunnel to Towers 5K Run & Walk Medina
DESCRIPTION:
URL:https://t2t.org/event/2023-tunnel-to-towers-5k-run-walk-medina/
LOCATION:Medina Historic Public Square\, Broadway St.\, Medina\, OH\, 44256\, United States
CATEGORIES:5K Run & Walk Event,Ohio
ATTACH;FMTTYPE=image/jpeg:https://t2t.org/wp-content/uploads/2020/02/2023-Thumbnails-Medina.jpg
ORGANIZER;CN="T2T Medina":MAILTO:Medina@t2t.org
END:VEVENT
BEGIN:VEVENT
DTSTART;TZID=America/New_York:20230910T080000
DTEND;TZID=America/New_York:20230910T080000
DTSTAMP:20260423T225732
CREATED:20230908T122703Z
LAST-MODIFIED:20240424T150536Z
UID:51675-1694332800-1694332800@t2t.org
SUMMARY:2023 Tunnel to Towers 5K Run & Walk Ankeny
DESCRIPTION:
URL:https://t2t.org/event/2023-tunnel-to-towers-5k-run-walk-ankeny-2/
LOCATION:Ankeny Fire Department\, 120 NW Ash Drive\, Ankeny\, IA\, 50023\, United States
CATEGORIES:5K Run & Walk Event,Iowa
ATTACH;FMTTYPE=image/jpeg:https://t2t.org/wp-content/uploads/2023/09/2023-Thumbnails-Ankeny.jpg
ORGANIZER;CN="T2T Ankeny":MAILTO:DesMoines@t2t.org
END:VEVENT
BEGIN:VEVENT
DTSTART;TZID=America/New_York:20230916T080000
DTEND;TZID=America/New_York:20230916T080000
DTSTAMP:20260423T225732
CREATED:20230406T190028Z
LAST-MODIFIED:20240416T180307Z
UID:36492-1694851200-1694851200@t2t.org
SUMMARY:2023 Tunnel to Towers 5K Run & Walk Northern Kentucky
DESCRIPTION:
URL:https://t2t.org/event/2023-tunnel-to-towers-5k-run-walk-northern-kentucky/
LOCATION:Lou Hartfiel Park\, 800 Buttermilk Pike\, Crescent Springs\, KY\, 41017\, United States
CATEGORIES:5K Run & Walk Event,Kentucky
ATTACH;FMTTYPE=image/jpeg:https://t2t.org/wp-content/uploads/2017/07/2023-Thumbnails-NKentucky.jpg
ORGANIZER;CN="T2T Northern Kentucky":MAILTO:NorthernKentucky@t2t.org
GEO:39.056532;-84.584699
X-APPLE-STRUCTURED-LOCATION;VALUE=URI;X-ADDRESS=Lou Hartfiel Park 800 Buttermilk Pike Crescent Springs KY 41017 United States;X-APPLE-RADIUS=500;X-TITLE=800 Buttermilk Pike:geo:-84.584699,39.056532
END:VEVENT
BEGIN:VEVENT
DTSTART;TZID=UTC:20230916T084000
DTEND;TZID=UTC:20230916T084000
DTSTAMP:20260423T225732
CREATED:20230316T200944Z
LAST-MODIFIED:20240424T151038Z
UID:36173-1694853600-1694853600@t2t.org
SUMMARY:2023 Tunnel to Towers 5k Run & Walk Buffalo
DESCRIPTION:
URL:https://t2t.org/event/2023-tunnel-to-towers-5k-run-walk-buffalo/
LOCATION:Bellevue Fire Hall\, 511 Como Park Bvld\, Cheektowaga\, NY\, 14227\, United States
CATEGORIES:5K Run & Walk Event,New York
ATTACH;FMTTYPE=image/jpeg:https://t2t.org/wp-content/uploads/2023/03/2023-Thumbnails-Buffalo.jpg
ORGANIZER;CN="T2T Buffalo":MAILTO:BuffaloNY@t2t.org
GEO:42.892192;-78.740826
X-APPLE-STRUCTURED-LOCATION;VALUE=URI;X-ADDRESS=Bellevue Fire Hall 511 Como Park Bvld Cheektowaga NY 14227 United States;X-APPLE-RADIUS=500;X-TITLE=511 Como Park Bvld:geo:-78.740826,42.892192
END:VEVENT
BEGIN:VEVENT
DTSTART;TZID=America/New_York:20230916T084600
DTEND;TZID=America/New_York:20230916T084600
DTSTAMP:20260423T225732
CREATED:20230905T224324Z
LAST-MODIFIED:20240424T150259Z
UID:51092-1694853960-1694853960@t2t.org
SUMMARY:2023 Tunnel to Towers 5k Run & Walk Asheville
DESCRIPTION:
URL:https://t2t.org/event/2023-tunnel-to-towers-5k-run-walk-asheville/
LOCATION:Pack’s Tavern\, 20 S. Spruce St.\, Asheville\, 28801
CATEGORIES:5K Run & Walk Event,North Carolina
ATTACH;FMTTYPE=image/webp:https://t2t.org/wp-content/uploads/2023/09/2023-Thumbnails-Asheville.webp
ORGANIZER;CN="T2T Asheville":MAILTO:Asheville@t2t.org
END:VEVENT
BEGIN:VEVENT
DTSTART;TZID=UTC:20230916T090000
DTEND;TZID=UTC:20230916T090000
DTSTAMP:20260423T225732
CREATED:20230518T191837Z
LAST-MODIFIED:20240506T115351Z
UID:37004-1694854800-1694854800@t2t.org
SUMMARY:2023 Tunnel to Towers 5k Run & Walk Salt Lake City
DESCRIPTION:
URL:https://t2t.org/event/2023-tunnel-to-towers-5k-run-walk-salt-lake-city/
LOCATION:7910 S Bingham Junction Blvd.\, 7910 S Bingham Junction Blvd\, Midvale\, UT\, 84047\, United States
CATEGORIES:5K Run & Walk Event,Utah
ATTACH;FMTTYPE=image/jpeg:https://t2t.org/wp-content/uploads/2021/06/2023-Thumbnails-SLC.jpg
ORGANIZER;CN="T2T Salt Lake City":MAILTO:saltlakecity@t2t.org
END:VEVENT
BEGIN:VEVENT
DTSTART;TZID=America/New_York:20230916T090000
DTEND;TZID=America/New_York:20230916T090000
DTSTAMP:20260423T225732
CREATED:20230518T192452Z
LAST-MODIFIED:20240506T114959Z
UID:37010-1694854800-1694854800@t2t.org
SUMMARY:2023 Tunnel to Towers 5K Run & Walk Sheboygan
DESCRIPTION:
URL:https://t2t.org/event/2023-tunnel-to-towers-5k-run-walk-sheboygan/
LOCATION:Town of Sheboygan Fire Department\, 3911 county road Y\, sheboygan\, WI\, 53083\, United States
CATEGORIES:5K Run & Walk Event,Wisconsin
ATTACH;FMTTYPE=image/jpeg:https://t2t.org/wp-content/uploads/2022/02/2023-Thumbnails-Sheboygan.jpg
ORGANIZER;CN="T2T Sheboygan":MAILTO:Sheboygan@t2t.org
END:VEVENT
BEGIN:VEVENT
DTSTART;TZID=America/New_York:20230916T090000
DTEND;TZID=America/New_York:20230916T090000
DTSTAMP:20260423T225732
CREATED:20230905T225918Z
LAST-MODIFIED:20230907T175040Z
UID:51097-1694854800-1694854800@t2t.org
SUMMARY:2023 Tunnel to Towers Tower Climb Stafford County
DESCRIPTION:
URL:https://t2t.org/event/2023-tunnel-to-towers-tower-climb-stafford-county/
LOCATION:Virginia Credit Union Stadium\, 42 Jackie Robinson Way\, Fredricksburg\, VA\, 22401\, United States
CATEGORIES:5K Run & Walk Event,Virginia
ATTACH;FMTTYPE=image/webp:https://t2t.org/wp-content/uploads/2023/09/2023-Thumbnails-Stafford-2.webp
ORGANIZER;CN="T2T Stafford County":MAILTO:StaffordCounty@t2t.org
END:VEVENT
BEGIN:VEVENT
DTSTART;TZID=America/New_York:20230917T080000
DTEND;TZID=America/New_York:20230917T080000
DTSTAMP:20260423T225732
CREATED:20230907T174753Z
LAST-MODIFIED:20240411T213055Z
UID:51553-1694937600-1694937600@t2t.org
SUMMARY:2023 Tunnel to Towers 5K Run & Walk Myrtle Beach
DESCRIPTION:
URL:https://t2t.org/event/2023-tunnel-to-towers-5k-run-walk-myrtle-beach/
LOCATION:Grand Park – The Market Common\, Farrow Parkway & Nevers Street\, Myrtle Beach\, NC\, 29577\, United States
CATEGORIES:5K Run & Walk Event,South Carolina
ATTACH;FMTTYPE=image/jpeg:https://t2t.org/wp-content/uploads/2023/09/2023-Thumbnails-Myrtle-Beach-1.jpg
ORGANIZER;CN="T2T Myrtle Beach":MAILTO:MyrtleBeach@t2t.org
END:VEVENT
BEGIN:VEVENT
DTSTART;TZID=UTC:20230923T190000
DTEND;TZID=UTC:20230923T213000
DTSTAMP:20260423T225732
CREATED:20230113T194904Z
LAST-MODIFIED:20240328T122037Z
UID:35480-1695495600-1695504600@t2t.org
SUMMARY:2023 Tunnel to Towers Annual Appreciation Dinner
DESCRIPTION:Join the Tunnel to Towers Foundation at the Elevated Acre in NYC for the annual Appreciation Dinner to fuel up on pasta before the 5K Run & Walk NYC. The pasta dinner features live entertainment\, music\, dancing\, and plenty of dessert and pasta for all guests. Experience the camaraderie and excitement with fellow registrants\, friends and family that is unique to the Tunnel to Towers 5k Run & Walk NYC. The Elevated Acre is located at 55 Water St\, New York\, NY 10004 Tickets are $25 for adults Free admission for children 14 and under Doors open at 6:45 PM The pasta dinner runs from 7:00 – 9:30 PM Food and beverages are included in the ticket price. All sales are final and no refunds will be issued. The Appreciation Dinner is outdoors and will proceed rain or shine. \n\n 
URL:https://t2t.org/event/2023-tunnel-to-towers-annual-appreciation-dinner/
LOCATION:The Elevated Acre  55 Water St  New York\, NY 10004\, 55 Water St\, New York\, NY\, 10004\, United States
CATEGORIES:5K Run & Walk Event,New York,Tunnel to Towers
GEO:40.7033226;-74.0088962
X-APPLE-STRUCTURED-LOCATION;VALUE=URI;X-ADDRESS=The Elevated Acre  55 Water St  New York NY 10004 55 Water St New York NY 10004 United States;X-APPLE-RADIUS=500;X-TITLE=55 Water St:geo:-74.0088962,40.7033226
END:VEVENT
END:VCALENDAR