BEGIN:VCALENDAR
VERSION:2.0
PRODID:-//Tunnel to Towers Foundation - ECPv6.15.17//NONSGML v1.0//EN
CALSCALE:GREGORIAN
METHOD:PUBLISH
X-ORIGINAL-URL:https://t2t.org
X-WR-CALDESC:Events for Tunnel to Towers Foundation
REFRESH-INTERVAL;VALUE=DURATION:PT1H
X-Robots-Tag:noindex
X-PUBLISHED-TTL:PT1H
BEGIN:VTIMEZONE
TZID:UTC
BEGIN:STANDARD
TZOFFSETFROM:+0000
TZOFFSETTO:+0000
TZNAME:UTC
DTSTART:20220101T000000
END:STANDARD
END:VTIMEZONE
BEGIN:VTIMEZONE
TZID:America/New_York
BEGIN:DAYLIGHT
TZOFFSETFROM:-0500
TZOFFSETTO:-0400
TZNAME:EDT
DTSTART:20220313T070000
END:DAYLIGHT
BEGIN:STANDARD
TZOFFSETFROM:-0400
TZOFFSETTO:-0500
TZNAME:EST
DTSTART:20221106T060000
END:STANDARD
BEGIN:DAYLIGHT
TZOFFSETFROM:-0500
TZOFFSETTO:-0400
TZNAME:EDT
DTSTART:20230312T070000
END:DAYLIGHT
BEGIN:STANDARD
TZOFFSETFROM:-0400
TZOFFSETTO:-0500
TZNAME:EST
DTSTART:20231105T060000
END:STANDARD
BEGIN:DAYLIGHT
TZOFFSETFROM:-0500
TZOFFSETTO:-0400
TZNAME:EDT
DTSTART:20240310T070000
END:DAYLIGHT
BEGIN:STANDARD
TZOFFSETFROM:-0400
TZOFFSETTO:-0500
TZNAME:EST
DTSTART:20241103T060000
END:STANDARD
END:VTIMEZONE
BEGIN:VEVENT
DTSTART;TZID=UTC:20230401T080000
DTEND;TZID=UTC:20230401T080000
DTSTAMP:20260424T071627
CREATED:20230127T012546Z
LAST-MODIFIED:20240411T214030Z
UID:35725-1680336000-1680336000@t2t.org
SUMMARY:2023 Tunnel to Towers 5K Run & Walk Ripley
DESCRIPTION:
URL:https://t2t.org/event/2023-tunnel-to-towers-5k-run-walk-ripley/
LOCATION:Ripley Court House Gazebo\, 100 North Court Street\, Ripley\, WV\, 25271\, United States
CATEGORIES:5K Run & Walk Event,West Virginia
ATTACH;FMTTYPE=image/jpeg:https://t2t.org/wp-content/uploads/2022/01/1-2022-Thumbnails-New-Dimensions5.jpg
ORGANIZER;CN="T2T Ripley":MAILTO:Ripley@t2t.org
END:VEVENT
BEGIN:VEVENT
DTSTART;TZID=America/New_York:20230408T080000
DTEND;TZID=America/New_York:20230408T080000
DTSTAMP:20260424T071627
CREATED:20230127T011859Z
LAST-MODIFIED:20240411T213034Z
UID:35716-1680940800-1680940800@t2t.org
SUMMARY:2023 Tunnel to Towers 5K Run & Walk Greenville
DESCRIPTION:
URL:https://t2t.org/event/2023-tunnel-to-towers-5k-run-walk-greenville/
LOCATION:First Baptist Greenville\, 847 Cleveland Street\, Greenville\, 29601
CATEGORIES:5K Run & Walk Event,South Carolina
ATTACH;FMTTYPE=image/jpeg:https://t2t.org/wp-content/uploads/2022/01/1-2022-Thumbnails-New-Dimensions2.jpg
ORGANIZER;CN="T2T Greenville":MAILTO:Greenville@t2t.org
END:VEVENT
BEGIN:VEVENT
DTSTART;TZID=UTC:20230415T080000
DTEND;TZID=UTC:20230415T080000
DTSTAMP:20260424T071627
CREATED:20230127T012713Z
LAST-MODIFIED:20240411T212055Z
UID:35727-1681545600-1681545600@t2t.org
SUMMARY:2023 Tunnel to Towers 5K Run & Walk San Angelo
DESCRIPTION:
URL:https://t2t.org/event/2023-tunnel-to-towers-5k-run-walk-san-angelo/
LOCATION:Tiered Plaza\, 18 East Avenue A\, San Angelo\, TX\, 76903\, United States
CATEGORIES:5K Run & Walk Event,Texas
ATTACH;FMTTYPE=image/jpeg:https://t2t.org/wp-content/uploads/2022/02/1-2022-Thumbnails-New-Dimensions6.jpg
ORGANIZER;CN="T2T San Angelo":MAILTO:SanAngelo@t2t.org
END:VEVENT
BEGIN:VEVENT
DTSTART;TZID=America/New_York:20230430T073000
DTEND;TZID=America/New_York:20230430T073000
DTSTAMP:20260424T071627
CREATED:20230127T012357Z
LAST-MODIFIED:20240506T121412Z
UID:35723-1682839800-1682839800@t2t.org
SUMMARY:2023 Tunnel to Towers 5K Run & Walk Prince William
DESCRIPTION:
URL:https://t2t.org/event/2023-tunnel-to-towers-5k-run-walk-prince-william/
LOCATION:R. Richard Pfitzner Stadium\, 7 County Complex Court\, Woodbridge\, VA\, 22192\, United States
CATEGORIES:5K Run & Walk Event,Virginia
ATTACH;FMTTYPE=image/jpeg:https://t2t.org/wp-content/uploads/2022/02/1-2022-Thumbnails-New-Dimensions4.jpg
ORGANIZER;CN="T2T Prince William":MAILTO:princewilliam@t2t.org
END:VEVENT
BEGIN:VEVENT
DTSTART;TZID=America/New_York:20230430T090000
DTEND;TZID=America/New_York:20230430T090000
DTSTAMP:20260424T071627
CREATED:20230127T012122Z
LAST-MODIFIED:20240411T212446Z
UID:35719-1682845200-1682845200@t2t.org
SUMMARY:2023 Tunnel to Towers 5K Run & Walk Nelsonville
DESCRIPTION:
URL:https://t2t.org/event/2023tunnel-to-towers-5k-run-walk-nelsonville/
LOCATION:Nelsonville Historic Public Square\, Public Square\, Nelsonville\, OH\, 45764
CATEGORIES:5K Run & Walk Event,Ohio
ATTACH;FMTTYPE=image/jpeg:https://t2t.org/wp-content/uploads/2022/01/1-2022-Thumbnails-New-Dimensions3.jpg
ORGANIZER;CN="t2t nelsonville":MAILTO:nelsonville@t2t.org
END:VEVENT
END:VCALENDAR