BEGIN:VCALENDAR
VERSION:2.0
PRODID:-//Tunnel to Towers Foundation - ECPv6.15.17//NONSGML v1.0//EN
CALSCALE:GREGORIAN
METHOD:PUBLISH
X-ORIGINAL-URL:https://t2t.org
X-WR-CALDESC:Events for Tunnel to Towers Foundation
REFRESH-INTERVAL;VALUE=DURATION:PT1H
X-Robots-Tag:noindex
X-PUBLISHED-TTL:PT1H
BEGIN:VTIMEZONE
TZID:UTC
BEGIN:STANDARD
TZOFFSETFROM:+0000
TZOFFSETTO:+0000
TZNAME:UTC
DTSTART:20230101T000000
END:STANDARD
END:VTIMEZONE
BEGIN:VEVENT
DTSTART;TZID=UTC:20240907T080000
DTEND;TZID=UTC:20240907T080000
DTSTAMP:20260425T114256
CREATED:20240418T155719Z
LAST-MODIFIED:20240418T155719Z
UID:56336-1725696000-1725696000@t2t.org
SUMMARY:2024 Tunnel to Towers 5K Run & Walk Cypress
DESCRIPTION:
URL:https://t2t.org/event/2024-tunnel-to-towers-5k-run-walk-cypress/
LOCATION:John Paul Landing Park\, Environmental Education Center\, 9950 Katy Hockley Rd\, Cypress\, TX\, 77433\, United States
CATEGORIES:5K Run & Walk Event,Texas
ATTACH;FMTTYPE=image/png:https://t2t.org/wp-content/uploads/2024/04/2024-Cypress.png
ORGANIZER;CN="T2T Cypress":MAILTO:Cypress@t2t.org
END:VEVENT
END:VCALENDAR