BEGIN:VCALENDAR
VERSION:2.0
PRODID:-//Tunnel to Towers Foundation - ECPv6.15.17//NONSGML v1.0//EN
CALSCALE:GREGORIAN
METHOD:PUBLISH
X-WR-CALNAME:Tunnel to Towers Foundation
X-ORIGINAL-URL:https://t2t.org
X-WR-CALDESC:Events for Tunnel to Towers Foundation
REFRESH-INTERVAL;VALUE=DURATION:PT1H
X-Robots-Tag:noindex
X-PUBLISHED-TTL:PT1H
BEGIN:VTIMEZONE
TZID:America/New_York
BEGIN:DAYLIGHT
TZOFFSETFROM:-0500
TZOFFSETTO:-0400
TZNAME:EDT
DTSTART:20180311T070000
END:DAYLIGHT
BEGIN:STANDARD
TZOFFSETFROM:-0400
TZOFFSETTO:-0500
TZNAME:EST
DTSTART:20181104T060000
END:STANDARD
BEGIN:DAYLIGHT
TZOFFSETFROM:-0500
TZOFFSETTO:-0400
TZNAME:EDT
DTSTART:20190310T070000
END:DAYLIGHT
BEGIN:STANDARD
TZOFFSETFROM:-0400
TZOFFSETTO:-0500
TZNAME:EST
DTSTART:20191103T060000
END:STANDARD
BEGIN:DAYLIGHT
TZOFFSETFROM:-0500
TZOFFSETTO:-0400
TZNAME:EDT
DTSTART:20200308T070000
END:DAYLIGHT
BEGIN:STANDARD
TZOFFSETFROM:-0400
TZOFFSETTO:-0500
TZNAME:EST
DTSTART:20201101T060000
END:STANDARD
BEGIN:DAYLIGHT
TZOFFSETFROM:-0500
TZOFFSETTO:-0400
TZNAME:EDT
DTSTART:20210314T070000
END:DAYLIGHT
BEGIN:STANDARD
TZOFFSETFROM:-0400
TZOFFSETTO:-0500
TZNAME:EST
DTSTART:20211107T060000
END:STANDARD
BEGIN:DAYLIGHT
TZOFFSETFROM:-0500
TZOFFSETTO:-0400
TZNAME:EDT
DTSTART:20220313T070000
END:DAYLIGHT
BEGIN:STANDARD
TZOFFSETFROM:-0400
TZOFFSETTO:-0500
TZNAME:EST
DTSTART:20221106T060000
END:STANDARD
BEGIN:DAYLIGHT
TZOFFSETFROM:-0500
TZOFFSETTO:-0400
TZNAME:EDT
DTSTART:20230312T070000
END:DAYLIGHT
BEGIN:STANDARD
TZOFFSETFROM:-0400
TZOFFSETTO:-0500
TZNAME:EST
DTSTART:20231105T060000
END:STANDARD
BEGIN:DAYLIGHT
TZOFFSETFROM:-0500
TZOFFSETTO:-0400
TZNAME:EDT
DTSTART:20240310T070000
END:DAYLIGHT
BEGIN:STANDARD
TZOFFSETFROM:-0400
TZOFFSETTO:-0500
TZNAME:EST
DTSTART:20241103T060000
END:STANDARD
BEGIN:DAYLIGHT
TZOFFSETFROM:-0500
TZOFFSETTO:-0400
TZNAME:EDT
DTSTART:20250309T070000
END:DAYLIGHT
BEGIN:STANDARD
TZOFFSETFROM:-0400
TZOFFSETTO:-0500
TZNAME:EST
DTSTART:20251102T060000
END:STANDARD
BEGIN:DAYLIGHT
TZOFFSETFROM:-0500
TZOFFSETTO:-0400
TZNAME:EDT
DTSTART:20260308T070000
END:DAYLIGHT
BEGIN:STANDARD
TZOFFSETFROM:-0400
TZOFFSETTO:-0500
TZNAME:EST
DTSTART:20261101T060000
END:STANDARD
END:VTIMEZONE
BEGIN:VTIMEZONE
TZID:UTC
BEGIN:STANDARD
TZOFFSETFROM:+0000
TZOFFSETTO:+0000
TZNAME:UTC
DTSTART:20210101T000000
END:STANDARD
END:VTIMEZONE
BEGIN:VEVENT
DTSTART;TZID=America/New_York:20251101T090000
DTEND;TZID=America/New_York:20251101T100000
DTSTAMP:20260423T095155
CREATED:20250529T165405Z
LAST-MODIFIED:20250530T140616Z
UID:62337-1761987600-1761991200@t2t.org
SUMMARY:2025 Tunnel to Towers 5K Run & Walk Hendersonville
DESCRIPTION:
URL:https://t2t.org/event/2025-tunnel-to-towers-5k-run-walk-hendersonville/
LOCATION:Sanders Ferry Park\, 513 Sanders Ferry Rd.\, Hendersonville\, TN\, 37075\, United States
CATEGORIES:5K Run & Walk Event,Tennessee
ATTACH;FMTTYPE=image/jpeg:https://t2t.org/wp-content/uploads/2025/05/Hendersonville-Thumbnails.jpg
ORGANIZER;CN="T2T Hendersonville":MAILTO:Hendersonville@t2t.org
END:VEVENT
BEGIN:VEVENT
DTSTART;TZID=America/New_York:20250906T093000
DTEND;TZID=America/New_York:20250906T093000
DTSTAMP:20260423T095155
CREATED:20250403T143118Z
LAST-MODIFIED:20250403T143118Z
UID:61575-1757151000-1757151000@t2t.org
SUMMARY:2025 Tunnel to Towers 5K Run & Walk Loudon
DESCRIPTION:
URL:https://t2t.org/event/2025-tunnel-to-towers-5k-run-walk-loudon/
LOCATION:Loudon City Fire Department\, 100 Cedar Grove Street\, Loudon\, TN\, 37774\, United States
CATEGORIES:5K Run & Walk Event,Tennessee
ATTACH;FMTTYPE=image/png:https://t2t.org/wp-content/uploads/2025/04/2025-Loudon.png
ORGANIZER;CN="T2T Loudon":MAILTO:Loudon@t2t.org
END:VEVENT
BEGIN:VEVENT
DTSTART;TZID=America/New_York:20250906T073000
DTEND;TZID=America/New_York:20250906T073000
DTSTAMP:20260423T095155
CREATED:20250403T143151Z
LAST-MODIFIED:20250403T143151Z
UID:61577-1757143800-1757143800@t2t.org
SUMMARY:2025 Tunnel to Towers 5K Run & Walk Lynchburg
DESCRIPTION:
URL:https://t2t.org/event/2025-tunnel-to-towers-5k-run-walk-lynchburg/
LOCATION:Lynchburg TN Town Square\, 196 Main Street\, Lynchburg\, TN\, 37352\, United States
CATEGORIES:5K Run & Walk Event,Tennessee
ATTACH;FMTTYPE=image/png:https://t2t.org/wp-content/uploads/2025/04/2025-Lynchnurg.png
ORGANIZER;CN="T2T Lynchburg":MAILTO:Lynchburg@t2t.org
END:VEVENT
BEGIN:VEVENT
DTSTART;TZID=America/New_York:20250607T183000
DTEND;TZID=America/New_York:20250607T183000
DTSTAMP:20260423T095155
CREATED:20250306T175009Z
LAST-MODIFIED:20250306T175009Z
UID:61349-1749321000-1749321000@t2t.org
SUMMARY:2025 Tunnel to Towers 5K Run & Walk Middle Tennessee
DESCRIPTION:
URL:https://t2t.org/event/2025-tunnel-to-towers-5k-run-walk-middle-tennessee/
LOCATION:Warren County High School\, 199 Pioneer Lane\, McMinnville\, Tennessee\, 37110\, United States
CATEGORIES:5K Run & Walk Event,Tennessee
ATTACH;FMTTYPE=image/png:https://t2t.org/wp-content/uploads/2025/03/2025-Middle-TN.png
ORGANIZER;CN="T2T Middle Tennessee":MAILTO:MidTennessee@t2t.org
END:VEVENT
BEGIN:VEVENT
DTSTART;VALUE=DATE:20250602
DTEND;VALUE=DATE:20250603
DTSTAMP:20260423T095155
CREATED:20250110T231753Z
LAST-MODIFIED:20250528T203353Z
UID:60809-1748822400-1748908799@t2t.org
SUMMARY:The Inaugural Tunnel To Towers Celebrity Golf Classic 2025
DESCRIPTION:FOR TICKETS & SPONSORSHIPS \n  \n Download Form \n  \nMONDAY | June 2\, 2025\nRegistration: 10:00 AM\nBreakfast: 11:00 AM\nCall To Carts: 11:45 AM\nShotgun Start: 12:00 PM\nBuffet & Ceremony: 5:00 PM \n  \n  \n \n\n\nOn Sept. 11\, 2001\, FDNY firefighter Stephen Siller strapped his gear to his back and raced on foot through the Hugh L. Carey Tunnel to the World Trade Center Site after he received word of an attack. There\, he gave up his life while saving others. To commemorate Stephen’s sacrifice\, and the sacrifice of so many others\, the Tunnel to Towers Foundation began the National Golf Series which benefits the Foundation’s programs and efforts supporting first responders and service members. \nFind out more about our National Golf Series \nLearn More
URL:https://t2t.org/event/the-inaugural-tunnel-to-towers-celebrity-golf-classic-2025/
LOCATION:BRENTWOOD COUNTRY CLUB\, 5123 COUNTRY CLUB DRIVE\, BRENTWOOD\, TN\, 37027\, United States
CATEGORIES:Tennessee,Tunnel to Towers National Golf Series
ATTACH;FMTTYPE=image/jpeg:https://t2t.org/wp-content/uploads/2025/01/Golf-Brentwood-2025.jpg
END:VEVENT
BEGIN:VEVENT
DTSTART;TZID=America/New_York:20241012T100000
DTEND;TZID=America/New_York:20241012T100000
DTSTAMP:20260423T095155
CREATED:20240509T155020Z
LAST-MODIFIED:20240509T155020Z
UID:56929-1728727200-1728727200@t2t.org
SUMMARY:2024 Tunnel to Towers 5K Run & Walk Hendersonville
DESCRIPTION:
URL:https://t2t.org/event/2024-tunnel-to-towers-5k-run-walk-hendersonville/
LOCATION:Sanders Ferry Park\, 513 Sanders Ferry Rd.\, Hendersonville\, TN\, 37075\, United States
CATEGORIES:5K Run & Walk Event,Tennessee
ATTACH;FMTTYPE=image/png:https://t2t.org/wp-content/uploads/2024/05/2024-Hendersonville.png
ORGANIZER;CN="T2T Hendersonville":MAILTO:Hendersonville@t2t.org
END:VEVENT
BEGIN:VEVENT
DTSTART;TZID=America/New_York:20241012T080000
DTEND;TZID=America/New_York:20241012T080000
DTSTAMP:20260423T095155
CREATED:20240620T141004Z
LAST-MODIFIED:20241011T210709Z
UID:57933-1728720000-1728720000@t2t.org
SUMMARY:2024 Tunnel to Towers 5K Run & Walk Outer Banks
DESCRIPTION:
URL:https://t2t.org/event/2024-tunnel-to-towers-5k-run-walk-outer-banks/
LOCATION:Wright Brothers National Memorial\, 1000 N. Croatan Hwy.\, Kill Devil Hills\, NC\, 27948\, United States
CATEGORIES:5K Run & Walk Event,Tennessee
ATTACH;FMTTYPE=image/png:https://t2t.org/wp-content/uploads/2024/06/2024-Outer-Banks.png
ORGANIZER;CN="T2T Outer Banks":MAILTO:Outerbanksrun@t2t.org
END:VEVENT
BEGIN:VEVENT
DTSTART;TZID=America/New_York:20240907T093000
DTEND;TZID=America/New_York:20240907T093000
DTSTAMP:20260423T095155
CREATED:20240509T155019Z
LAST-MODIFIED:20240509T155019Z
UID:56930-1725701400-1725701400@t2t.org
SUMMARY:2024 Tunnel to Towers 5K Run & Walk Loudon
DESCRIPTION:
URL:https://t2t.org/event/2024-tunnel-to-towers-5k-run-walk-loudon/
LOCATION:Loudon City Fire Department\, 100 Cedar Grove Street\, Loudon\, TN\, 37774\, United States
CATEGORIES:5K Run & Walk Event,Tennessee
ATTACH;FMTTYPE=image/png:https://t2t.org/wp-content/uploads/2024/05/2024-Loudon.png
ORGANIZER;CN="T2T Loudon":MAILTO:Loudon@t2t.org
END:VEVENT
BEGIN:VEVENT
DTSTART;TZID=America/New_York:20240907T073000
DTEND;TZID=America/New_York:20240907T073000
DTSTAMP:20260423T095155
CREATED:20240418T161053Z
LAST-MODIFIED:20240418T161053Z
UID:56342-1725694200-1725694200@t2t.org
SUMMARY:2024 Tunnel to Towers 5K Run & Walk Lynchburg
DESCRIPTION:
URL:https://t2t.org/event/2024-tunnel-to-towers-5k-run-walk-lynchburg/
LOCATION:Lynchburg TN Town Square\, 196 Main Street\, Lynchburg\, TN\, 37352\, United States
CATEGORIES:5K Run & Walk Event,Tennessee
ATTACH;FMTTYPE=image/png:https://t2t.org/wp-content/uploads/2024/04/2024-Lynchburg.png
ORGANIZER;CN="T2T Lynchburg":MAILTO:Lynchburg@t2t.org
END:VEVENT
BEGIN:VEVENT
DTSTART;TZID=America/New_York:20240601T183000
DTEND;TZID=America/New_York:20240601T183000
DTSTAMP:20260423T095155
CREATED:20240215T165012Z
LAST-MODIFIED:20240215T165012Z
UID:55293-1717266600-1717266600@t2t.org
SUMMARY:2024 Tunnel to Towers 5K Run & Walk Middle Tennessee
DESCRIPTION:
URL:https://t2t.org/event/2024-tunnel-to-towers-5k-run-walk-middle-tennessee/
LOCATION:Warren County High School\, 199 Pioneer Lane\, McMinnville\, Tennessee\, 37110\, United States
CATEGORIES:5K Run & Walk Event,Tennessee
ATTACH;FMTTYPE=image/png:https://t2t.org/wp-content/uploads/2023/11/2024-Middle-TN.png
ORGANIZER;CN="T2T Middle Tennessee":MAILTO:MidTennessee@t2t.org
END:VEVENT
BEGIN:VEVENT
DTSTART;TZID=America/New_York:20231021T100000
DTEND;TZID=America/New_York:20231021T100000
DTSTAMP:20260423T095155
CREATED:20230406T190049Z
LAST-MODIFIED:20240411T212214Z
UID:36494-1697882400-1697882400@t2t.org
SUMMARY:2023 Tunnel to Towers 5K Run & Walk Hendersonville
DESCRIPTION:
URL:https://t2t.org/event/2023-tunnel-to-towers-5k-run-walk-hendersonville/
LOCATION:Sanders Ferry Park\, 513 Sanders Ferry Rd.\, Hendersonville\, TN\, 37075\, United States
CATEGORIES:5K Run & Walk Event,Tennessee
ATTACH;FMTTYPE=image/jpeg:https://t2t.org/wp-content/uploads/2022/04/2023-Thumbnails-Hendersonville.jpg
ORGANIZER;CN="T2T Hendersonville":MAILTO:Hendersonville@t2t.org
END:VEVENT
BEGIN:VEVENT
DTSTART;TZID=America/New_York:20230909T093000
DTEND;TZID=America/New_York:20230909T093000
DTSTAMP:20260423T095155
CREATED:20230316T204343Z
LAST-MODIFIED:20240506T115711Z
UID:36185-1694251800-1694251800@t2t.org
SUMMARY:2023 Tunnel to Towers 5K Run & Walk Loudon
DESCRIPTION:
URL:https://t2t.org/event/2023-tunnel-to-towers-5k-run-walk-loudon/
LOCATION:Loudon City Fire Department\, 100 Cedar Grove Street\, Loudon\, TN\, 37774\, United States
CATEGORIES:5K Run & Walk Event,Tennessee
ATTACH;FMTTYPE=image/jpeg:https://t2t.org/wp-content/uploads/2021/05/2023-Thumbnails-Loudon.jpg
ORGANIZER;CN="T2T Loudon":MAILTO:Loudon@t2t.org
END:VEVENT
BEGIN:VEVENT
DTSTART;TZID=America/New_York:20230909T073000
DTEND;TZID=America/New_York:20230909T170000
DTSTAMP:20260423T095155
CREATED:20230906T004105Z
LAST-MODIFIED:20240424T152000Z
UID:51147-1694244600-1694278800@t2t.org
SUMMARY:2023 Tunnel to Towers 5K Run & Walk Lynchburg
DESCRIPTION:SEPTEMBER 9 @ 7:30 AM
URL:https://t2t.org/event/2023-tunnel-to-towers-5k-run-walk-lynchburg/
LOCATION:Lynchburg TN Town Square\, 196 Main Street\, Lynchburg\, TN\, 37352\, United States
CATEGORIES:5K Run & Walk Event,Tennessee
ATTACH;FMTTYPE=image/jpeg:https://t2t.org/wp-content/uploads/2023/09/2023-Thumbnails-Lynchburg.jpg
ORGANIZER;CN="T2T Lynchburg":MAILTO:Lynchburg@t2t.org
END:VEVENT
BEGIN:VEVENT
DTSTART;TZID=America/New_York:20230603T183000
DTEND;TZID=America/New_York:20230603T183000
DTSTAMP:20260423T095155
CREATED:20230223T212124Z
LAST-MODIFIED:20240506T124923Z
UID:36008-1685817000-1685817000@t2t.org
SUMMARY:2023 Tunnel to Towers 5K Run & Walk Middle Tennessee
DESCRIPTION:
URL:https://t2t.org/event/2023-tunnel-to-towers-5k-run-walk-middle-tennessee/
LOCATION:Warren County High School\, 199 Pioneer Lane\, McMinnville\, Tennessee\, 37110\, United States
CATEGORIES:5K Run & Walk Event,Tennessee
ATTACH;FMTTYPE=image/jpeg:https://t2t.org/wp-content/uploads/2022/01/2023-Thumbnails-Mid-tennessee.jpg
ORGANIZER;CN="T2T Middle Tennessee":MAILTO:MidTennessee@t2t.org
END:VEVENT
BEGIN:VEVENT
DTSTART;TZID=America/New_York:20230325T160000
DTEND;TZID=America/New_York:20230325T190000
DTSTAMP:20260423T095155
CREATED:20230307T134712Z
LAST-MODIFIED:20240506T130138Z
UID:36065-1679760000-1679770800@t2t.org
SUMMARY:9/11 NEVER FORGET Mobile Exhibit Visits Nashville\, TN
DESCRIPTION:The Tunnel to Towers Foundation’s 9/11 NEVER FORGET Mobile Exhibit is a tribute to all those who lost their lives on September 11\, 2001\, including\, the 343 members of the FDNY and other first responders who made the ultimate sacrifice. The high-tech\, 83-foot tractor-trailer\, which transforms into a 1\,100-square-foot exhibit\, is a tool to further educate citizens throughout the country about the events of that tragic day. The memorial provides interactive education; including artifacts such as steel beams from the towers\, documentary videos\, and recordings of first responder radio transmissions. Interactive guided tours are carried out by FDNY firefighters who provide firsthand accounts of the day and its aftermath. The 9/11 NEVER FORGET Mobile Exhibit\, which has traveled to nearly 50 states and Canada\, has informed over 600\,000 people to date. The Tunnel to Towers Foundation is committed to ensuring America keeps its vow to NEVER FORGET. Learn More \n\n 
URL:https://t2t.org/event/9-11-never-forget-mobile-exhibit-visits-nashville-tn/2023-03-25/
LOCATION:Walk of Fame Park\, 121 4th Ave S\, Nashville\, TN\, 37203
CATEGORIES:9/11 NEVER FORGET Mobile Exhibit,Tennessee
ATTACH;FMTTYPE=image/png:https://t2t.org/wp-content/uploads/2023/03/Nashville-TN.png
ORGANIZER;CN="9/11 NEVER FORGET Mobile Exhibit":MAILTO:exhibit@t2t.org
END:VEVENT
BEGIN:VEVENT
DTSTART;TZID=America/New_York:20221015T080000
DTEND;TZID=America/New_York:20221015T080000
DTSTAMP:20260423T095155
CREATED:20220428T193901Z
LAST-MODIFIED:20240506T120849Z
UID:30951-1665820800-1665820800@t2t.org
SUMMARY:2022 Tunnel to Towers 5K Run & Walk Hendersonville
DESCRIPTION:
URL:https://t2t.org/event/2022-tunnel-to-towers-5k-run-walk-hendersonville/
LOCATION:Sanders Ferry Park\, 513 Sanders Ferry Rd.\, Hendersonville\, TN\, 37075\, United States
CATEGORIES:5K Run & Walk Event,Tennessee
ATTACH;FMTTYPE=image/jpeg:https://t2t.org/wp-content/uploads/2021/05/2022-Hendersonville-Run-Thumbnail.jpg
ORGANIZER;CN="T2T Hendersonville":MAILTO:Hendersonville@t2t.org
END:VEVENT
BEGIN:VEVENT
DTSTART;TZID=America/New_York:20220910T100000
DTEND;TZID=America/New_York:20220910T100000
DTSTAMP:20260423T095155
CREATED:20220408T153813Z
LAST-MODIFIED:20240506T125150Z
UID:30587-1662804000-1662804000@t2t.org
SUMMARY:2022 Tunnel to Towers 5K Run & Walk Loudon
DESCRIPTION:
URL:https://t2t.org/event/2022-tunnel-to-towers-5k-run-walk-loudon/
LOCATION:Loudon City Fire Department\, 100 Cedar Grove Street\, Loudon\, TN\, 37774\, United States
CATEGORIES:5K Run & Walk Event,Tennessee
ATTACH;FMTTYPE=image/jpeg:https://t2t.org/wp-content/uploads/2021/05/2022-Loudon-Run-Thumbnail.jpg
ORGANIZER;CN="T2T Loudon":MAILTO:Loudon@t2t.org
END:VEVENT
BEGIN:VEVENT
DTSTART;TZID=UTC:20220910T073000
DTEND;TZID=UTC:20220910T073000
DTSTAMP:20260423T095155
CREATED:20220630T194817Z
LAST-MODIFIED:20220705T141427Z
UID:32063-1662795000-1662795000@t2t.org
SUMMARY:2022 Tunnel to Towers 5K Run & Walk Lynchburg
DESCRIPTION:
URL:https://t2t.org/event/2022-tunnel-to-towers-5k-run-walk-lynchburg/
LOCATION:Lynchburg TN Town Square\, 196 Main Street\, Lynchburg\, TN\, 37352\, United States
CATEGORIES:5K Run & Walk Event,Tennessee
ATTACH;FMTTYPE=image/jpeg:https://t2t.org/wp-content/uploads/2022/06/2022-Lynchburg-Run-Thumbnail.jpg
ORGANIZER;CN="T2T Lynchburg":MAILTO:Lynchburg@t2t.org
END:VEVENT
BEGIN:VEVENT
DTSTART;TZID=America/New_York:20220604T183000
DTEND;TZID=America/New_York:20220604T183000
DTSTAMP:20260423T095155
CREATED:20220120T185318Z
LAST-MODIFIED:20220120T185318Z
UID:29288-1654367400-1654367400@t2t.org
SUMMARY:2022 Tunnel to Towers 5K Run & Walk Middle Tennessee
DESCRIPTION:
URL:https://t2t.org/event/2022-tunnel-to-towers-5k-run-walk-middle-tennessee/
LOCATION:Warren County High School\, 199 Pioneer Lane\, McMinnville\, Tennessee\, 37110\, United States
CATEGORIES:5K Run & Walk Event,Tennessee
ATTACH;FMTTYPE=image/jpeg:https://t2t.org/wp-content/uploads/2019/01/2022-Mid-Tennessee-Run-Thumbnail.jpg
ORGANIZER;CN="T2T Middle Tennessee":MAILTO:MidTennessee@t2t.org
END:VEVENT
BEGIN:VEVENT
DTSTART;TZID=America/New_York:20211009T080000
DTEND;TZID=America/New_York:20211009T080000
DTSTAMP:20260423T095156
CREATED:20210504T184912Z
LAST-MODIFIED:20240506T124151Z
UID:21700-1633766400-1633766400@t2t.org
SUMMARY:2021 Tunnel to Towers 5K Run & Walk Hendersonville
DESCRIPTION:
URL:https://t2t.org/event/2021-tunnel-to-towers-5k-run-walk-hendersonville/
LOCATION:Sanders Ferry Park\, 513 Sanders Ferry Rd.\, Hendersonville\, TN\, 37075\, United States
CATEGORIES:5K Run & Walk Event,Tennessee
ATTACH;FMTTYPE=image/png:https://t2t.org/wp-content/uploads/2021/05/2021-Hendersonville-TN.png
ORGANIZER;CN="T2T Hendersonville":MAILTO:Hendersonville@t2t.org
END:VEVENT
BEGIN:VEVENT
DTSTART;TZID=America/New_York:20210911T083000
DTEND;TZID=America/New_York:20210911T083000
DTSTAMP:20260423T095156
CREATED:20210504T185432Z
LAST-MODIFIED:20240506T125549Z
UID:21705-1631349000-1631349000@t2t.org
SUMMARY:2021 Tunnel to Towers 5K Run & Walk Loudon
DESCRIPTION:
URL:https://t2t.org/event/2021-tunnel-to-towers-5k-run-walk-loundon/
LOCATION:Loudon City Fire Department\, 100 Cedar Grove Street\, Loudon\, TN\, 37774\, United States
CATEGORIES:5K Run & Walk Event,Tennessee
ATTACH;FMTTYPE=image/png:https://t2t.org/wp-content/uploads/2021/05/2021-Loudon.png
ORGANIZER;CN="T2T Loudon":MAILTO:Loudon@t2t.org
END:VEVENT
BEGIN:VEVENT
DTSTART;TZID=America/New_York:20210619T083000
DTEND;TZID=America/New_York:20210619T083000
DTSTAMP:20260423T095156
CREATED:20210409T182450Z
LAST-MODIFIED:20210711T020834Z
UID:21554-1624091400-1624091400@t2t.org
SUMMARY:2021 Tunnel to Towers 5K Run & Walk Middle Tennessee
DESCRIPTION:
URL:https://t2t.org/event/2021-tunnel-to-towers-5k-run-walk-middle-tennessee/
LOCATION:Warren County High School\, 199 Pioneer Lane\, McMinnville\, Tennessee\, 37110\, United States
CATEGORIES:5K Run & Walk Event,Tennessee
ATTACH;FMTTYPE=image/png:https://t2t.org/wp-content/uploads/2019/01/2021-Middle-TN.png
ORGANIZER;CN="T2T Middle Tennessee":MAILTO:MidTennessee@t2t.org
END:VEVENT
BEGIN:VEVENT
DTSTART;TZID=America/New_York:20200923T103000
DTEND;TZID=America/New_York:20200923T103000
DTSTAMP:20260423T095156
CREATED:20200715T153948Z
LAST-MODIFIED:20210711T020831Z
UID:19119-1600857000-1600857000@t2t.org
SUMMARY:2020 Trident Holdings Golf Tournament
DESCRIPTION:
URL:https://t2t.org/event/2020-trident-holdings-golf-tournament/
LOCATION:Vanderbilt Legends Golf Club\, 1500 Legends Club Ln\, Franklin\, TN\, 37069\, United States
CATEGORIES:Tennessee
ORGANIZER;CN="Chris Benner":MAILTO:chris.benner@tridentholdingsllc.com
END:VEVENT
BEGIN:VEVENT
DTSTART;VALUE=DATE:20200606
DTEND;VALUE=DATE:20200607
DTSTAMP:20260423T095156
CREATED:20200205T190608Z
LAST-MODIFIED:20210711T020826Z
UID:17108-1591401600-1591487999@t2t.org
SUMMARY:2020 Tunnel to Towers 5K Run & Walk Middle Tennessee
DESCRIPTION:
URL:https://t2t.org/event/2020-tunnel-to-towers-5k-run-walk-middle-tennessee/
LOCATION:Warren County High School\, 199 Pioneer Lane\, McMinnville\, Tennessee\, 37110\, United States
CATEGORIES:5K Run & Walk Event,Tennessee
ATTACH;FMTTYPE=image/png:https://t2t.org/wp-content/uploads/2019/01/Postponed-Thumbnail-Middle-Ten.png
ORGANIZER;CN="T2T Middle Tennessee":MAILTO:MidTennessee@t2t.org
END:VEVENT
BEGIN:VEVENT
DTSTART;VALUE=DATE:20190919
DTEND;VALUE=DATE:20190923
DTSTAMP:20260423T095156
CREATED:20190314T145713Z
LAST-MODIFIED:20190508T190101Z
UID:14340-1568851200-1569196799@t2t.org
SUMMARY:9/11 NEVER FORGET Mobile Exhibit Visit Welcome Home Veterans Celebration
DESCRIPTION:The Siller Family started the Stephen Siller Tunnel to Towers Foundation to honor the memory and carry on the legacy of their brother\, Stephen\, a New York City ­firefighter (FDNY) who lost his life on September 11\, 2001 after strapping 60 lbs. of gear to his back and rushing on foot through the Brooklyn Battery Tunnel to the Twin Towers\, where he gave up his life while saving others.\n\nIn 2013\, the Stephen Siller Tunnel to Towers Foundation launched its 9/11 NEVER FORGET Mobile Exhibit; a tribute to all those who lost their lives on September 11\, 2001\, including\, of course\, the 343 members of the FDNY who made the ultimate sacrifice. The high-tech\, 53-foot tractor-trailer\, which transforms into a 1\,000 square foot exhibit\, is a tool to further educate citizens throughout the country about the events of that tragic day.\n\nWelcomed around the country\, from the Black Hills of South Dakota to the Tennessee State Fairgrounds\, the memorial provides interactive education; including artifacts such as steel beams from the towers\, documentary videos\, and recordings of first responder radio transmissions. Interactive guided tours are carried out by FDNY firefighters who provide firsthand accounts of the day and its aftermath. The 9/11 NEVER FORGET Mobile Exhibit\, which has traveled to nearly 30 states and Canada\, has welcomed in over 350\,000 people to date.\n\nThe Stephen Siller Tunnel to Towers Foundation is committed to ensuring WE NEVER FORGET.\n\nLearn More
URL:https://t2t.org/event/never-forget-mobile-exhibit-visits-welcome-home-veterans-celebration/
LOCATION:BEACHAVEN VINEYARDS & WINERY\, 1100 Dunlop Lane\, Clarksville\, TN\, 37040\, United States
CATEGORIES:9/11 NEVER FORGET Mobile Exhibit,Tennessee
ATTACH;FMTTYPE=image/png:https://t2t.org/wp-content/uploads/2019/03/Welcome-home-Veterans-Celebration.png
ORGANIZER;CN="9/11 NEVER FORGET Mobile Exhibit":MAILTO:exhibit@t2t.org
END:VEVENT
END:VCALENDAR