BEGIN:VCALENDAR
VERSION:2.0
PRODID:-//Tunnel to Towers Foundation - ECPv6.15.17//NONSGML v1.0//EN
CALSCALE:GREGORIAN
METHOD:PUBLISH
X-WR-CALNAME:Tunnel to Towers Foundation
X-ORIGINAL-URL:https://t2t.org
X-WR-CALDESC:Events for Tunnel to Towers Foundation
REFRESH-INTERVAL;VALUE=DURATION:PT1H
X-Robots-Tag:noindex
X-PUBLISHED-TTL:PT1H
BEGIN:VTIMEZONE
TZID:America/New_York
BEGIN:DAYLIGHT
TZOFFSETFROM:-0500
TZOFFSETTO:-0400
TZNAME:EDT
DTSTART:20240310T070000
END:DAYLIGHT
BEGIN:STANDARD
TZOFFSETFROM:-0400
TZOFFSETTO:-0500
TZNAME:EST
DTSTART:20241103T060000
END:STANDARD
BEGIN:DAYLIGHT
TZOFFSETFROM:-0500
TZOFFSETTO:-0400
TZNAME:EDT
DTSTART:20250309T070000
END:DAYLIGHT
BEGIN:STANDARD
TZOFFSETFROM:-0400
TZOFFSETTO:-0500
TZNAME:EST
DTSTART:20251102T060000
END:STANDARD
BEGIN:DAYLIGHT
TZOFFSETFROM:-0500
TZOFFSETTO:-0400
TZNAME:EDT
DTSTART:20260308T070000
END:DAYLIGHT
BEGIN:STANDARD
TZOFFSETFROM:-0400
TZOFFSETTO:-0500
TZNAME:EST
DTSTART:20261101T060000
END:STANDARD
END:VTIMEZONE
BEGIN:VEVENT
DTSTART;VALUE=DATE:20251113
DTEND;VALUE=DATE:20251114
DTSTAMP:20260422T040822
CREATED:20250603T124151Z
LAST-MODIFIED:20250625T155705Z
UID:62433-1762992000-1763078399@t2t.org
SUMMARY:The Tunnel To Towers 6th Annual Myrtle Beach Veterans Day Golf Classic
DESCRIPTION:*** This event is sold out. Thanks for your support! ***\n  \nDOWNLOAD FORM \n Download Form \n  \nTHURSDAY | November 13\, 2025\nRegistration & Breakfast: 8:00 AM\nShotgun Start: 9:30 AM \nSt. John the Baptist Greek Orthodox Church \nCocktail Hour: 3:00 PM\nDinner: 4:30 PM \n  \n\n\nOn Sept. 11\, 2001\, FDNY firefighter Stephen Siller strapped his gear to his back and raced on foot through the Hugh L. Carey Tunnel to the World Trade Center Site after he received word of an attack. There\, he gave up his life while saving others. To commemorate Stephen’s sacrifice\, and the sacrifice of so many others\, the Tunnel to Towers Foundation began the National Golf Series which benefits the Foundation’s programs and efforts supporting first responders and service members. \nFind out more about our National Golf Series \nLearn More
URL:https://t2t.org/event/the-tunnel-to-towers-6th-annual-myrtle-beach-veterans-day-golf-classic/
LOCATION:Myrtlewood Golf Club\, 48 Avenue North\, Myrtle Beach\, SC\, 29577\, United States
CATEGORIES:South Carolina,Tunnel to Towers National Golf Series
ATTACH;FMTTYPE=image/jpeg:https://t2t.org/wp-content/uploads/2025/06/MYRTLEWOOD-GOLF.jpg
END:VEVENT
END:VCALENDAR