BEGIN:VCALENDAR
VERSION:2.0
PRODID:-//Tunnel to Towers Foundation - ECPv6.15.17//NONSGML v1.0//EN
CALSCALE:GREGORIAN
METHOD:PUBLISH
X-ORIGINAL-URL:https://t2t.org
X-WR-CALDESC:Events for Tunnel to Towers Foundation
REFRESH-INTERVAL;VALUE=DURATION:PT1H
X-Robots-Tag:noindex
X-PUBLISHED-TTL:PT1H
BEGIN:VTIMEZONE
TZID:UTC
BEGIN:STANDARD
TZOFFSETFROM:+0000
TZOFFSETTO:+0000
TZNAME:UTC
DTSTART:20230101T000000
END:STANDARD
END:VTIMEZONE
BEGIN:VTIMEZONE
TZID:America/New_York
BEGIN:DAYLIGHT
TZOFFSETFROM:-0500
TZOFFSETTO:-0400
TZNAME:EDT
DTSTART:20230312T070000
END:DAYLIGHT
BEGIN:STANDARD
TZOFFSETFROM:-0400
TZOFFSETTO:-0500
TZNAME:EST
DTSTART:20231105T060000
END:STANDARD
BEGIN:DAYLIGHT
TZOFFSETFROM:-0500
TZOFFSETTO:-0400
TZNAME:EDT
DTSTART:20240310T070000
END:DAYLIGHT
BEGIN:STANDARD
TZOFFSETFROM:-0400
TZOFFSETTO:-0500
TZNAME:EST
DTSTART:20241103T060000
END:STANDARD
BEGIN:DAYLIGHT
TZOFFSETFROM:-0500
TZOFFSETTO:-0400
TZNAME:EDT
DTSTART:20250309T070000
END:DAYLIGHT
BEGIN:STANDARD
TZOFFSETFROM:-0400
TZOFFSETTO:-0500
TZNAME:EST
DTSTART:20251102T060000
END:STANDARD
END:VTIMEZONE
BEGIN:VEVENT
DTSTART;TZID=UTC:20240913T180000
DTEND;TZID=UTC:20240913T180000
DTSTAMP:20260423T051950
CREATED:20240418T155523Z
LAST-MODIFIED:20240418T155534Z
UID:56329-1726250400-1726250400@t2t.org
SUMMARY:2024 Tunnel to Towers 5K Run & Walk Columbia
DESCRIPTION:
URL:https://t2t.org/event/2024-tunnel-to-towers-5k-run-walk-columbia/
LOCATION:Columbia Convention Center’s 9/11 Memorial Site\, 1100 Lincoln St\, Columbia\, SC\, 29201\, United States
CATEGORIES:5K Run & Walk Event,South Carolina
ATTACH;FMTTYPE=image/png:https://t2t.org/wp-content/uploads/2024/04/2024-Columbia.png
ORGANIZER;CN="T2T Columbia":MAILTO:columbia@t2t.org
GEO:33.9972733;-81.038029
X-APPLE-STRUCTURED-LOCATION;VALUE=URI;X-ADDRESS=Columbia Convention Center’s 9/11 Memorial Site 1100 Lincoln St Columbia SC 29201 United States;X-APPLE-RADIUS=500;X-TITLE=1100 Lincoln St:geo:-81.038029,33.9972733
END:VEVENT
BEGIN:VEVENT
DTSTART;TZID=America/New_York:20240915T080000
DTEND;TZID=America/New_York:20240915T080000
DTSTAMP:20260423T051950
CREATED:20240530T154708Z
LAST-MODIFIED:20240530T154708Z
UID:57351-1726387200-1726387200@t2t.org
SUMMARY:2024 Tunnel to Towers 5K Run & Walk Myrtle Beach
DESCRIPTION:
URL:https://t2t.org/event/2024-tunnel-to-towers-5k-run-walk-myrtle-beach/
LOCATION:Grand Park – The Market Common\, Farrow Parkway & Nevers Street\, Myrtle Beach\, NC\, 29577\, United States
CATEGORIES:5K Run & Walk Event,South Carolina
ATTACH;FMTTYPE=image/jpeg:https://t2t.org/wp-content/uploads/2024/05/2024-Online-Graphic-Myrtle-Beach-SC.jpg
ORGANIZER;CN="T2T Myrtle Beach":MAILTO:MyrtleBeach@t2t.org
END:VEVENT
BEGIN:VEVENT
DTSTART;TZID=America/New_York:20240919T100000
DTEND;TZID=America/New_York:20240919T100000
DTSTAMP:20260423T051950
CREATED:20240830T155105Z
LAST-MODIFIED:20240830T155230Z
UID:58978-1726740000-1726740000@t2t.org
SUMMARY:Tunnel to Towers Locash Golf Bash
DESCRIPTION:FOR TICKETS & SPONSORSHIPS \n Purchase Tickets \nTHURSDAY | September 19\, 2024\n \n  \n \n\n\nOn Sept. 11\, 2001\, FDNY firefighter Stephen Siller strapped his gear to his back and raced on foot through the Hugh L. Carey Tunnel to the World Trade Center Site after he received word of an attack. There\, he gave up his life while saving others. To commemorate Stephen’s sacrifice\, and the sacrifice of so many others\, the Tunnel to Towers Foundation began the National Golf Series which benefits the Foundation’s programs and efforts supporting first responders and service members. \nFind out more about our National Golf Series \nLearn More
URL:https://t2t.org/event/locash-golf-bash/
LOCATION:The Sea Pines Resort\, 32 Greenwood Dr\, Hilton Head Island\, SC\, 29928\, United States
CATEGORIES:South Carolina,Tunnel to Towers National Golf Series
ATTACH;FMTTYPE=image/jpeg:https://t2t.org/wp-content/uploads/2024/08/GOLF-sc-1.jpg
END:VEVENT
END:VCALENDAR