BEGIN:VCALENDAR
VERSION:2.0
PRODID:-//Tunnel to Towers Foundation - ECPv6.15.17//NONSGML v1.0//EN
CALSCALE:GREGORIAN
METHOD:PUBLISH
X-ORIGINAL-URL:https://t2t.org
X-WR-CALDESC:Events for Tunnel to Towers Foundation
REFRESH-INTERVAL;VALUE=DURATION:PT1H
X-Robots-Tag:noindex
X-PUBLISHED-TTL:PT1H
BEGIN:VTIMEZONE
TZID:America/New_York
BEGIN:DAYLIGHT
TZOFFSETFROM:-0500
TZOFFSETTO:-0400
TZNAME:EDT
DTSTART:20250309T070000
END:DAYLIGHT
BEGIN:STANDARD
TZOFFSETFROM:-0400
TZOFFSETTO:-0500
TZNAME:EST
DTSTART:20251102T060000
END:STANDARD
BEGIN:DAYLIGHT
TZOFFSETFROM:-0500
TZOFFSETTO:-0400
TZNAME:EDT
DTSTART:20260308T070000
END:DAYLIGHT
BEGIN:STANDARD
TZOFFSETFROM:-0400
TZOFFSETTO:-0500
TZNAME:EST
DTSTART:20261101T060000
END:STANDARD
BEGIN:DAYLIGHT
TZOFFSETFROM:-0500
TZOFFSETTO:-0400
TZNAME:EDT
DTSTART:20270314T070000
END:DAYLIGHT
BEGIN:STANDARD
TZOFFSETFROM:-0400
TZOFFSETTO:-0500
TZNAME:EST
DTSTART:20271107T060000
END:STANDARD
END:VTIMEZONE
BEGIN:VEVENT
DTSTART;TZID=America/New_York:20260516T090000
DTEND;TZID=America/New_York:20260516T090000
DTSTAMP:20260424T224439
CREATED:20260219T175011Z
LAST-MODIFIED:20260219T175011Z
UID:66505-1778922000-1778922000@t2t.org
SUMMARY:2026 Tunnel to Towers 5K Run & Walk Boyertown
DESCRIPTION:
URL:https://t2t.org/event/2026-tunnel-to-towers-5k-run-walk-boyertown/
LOCATION:Boyertown Area Community Park\, Boyertown Area Community Park\, Boyertown\, PA\, 19512\, United States
CATEGORIES:5K Run & Walk Event,Pennsylvania
ATTACH;FMTTYPE=image/jpeg:https://t2t.org/wp-content/uploads/2026/02/2026_Boyertown_Thumbnail.jpg
ORGANIZER;CN="T2T Boyertown":MAILTO:BoyertownRun@t2t.org
END:VEVENT
BEGIN:VEVENT
DTSTART;TZID=America/New_York:20260815T080000
DTEND;TZID=America/New_York:20260815T080000
DTSTAMP:20260424T224439
CREATED:20260219T173933Z
LAST-MODIFIED:20260219T173933Z
UID:66533-1786780800-1786780800@t2t.org
SUMMARY:2026 Tunnel to Towers 5K Run & Walk Pike County
DESCRIPTION:
URL:https://t2t.org/event/2026-tunnel-to-towers-5k-run-walk-pike-county/
LOCATION:Fawn Lake Forest Association\, 113 Bay Center Circle\, Hawle\, PA\, 18428\, United States
CATEGORIES:5K Run & Walk Event,Pennsylvania
ATTACH;FMTTYPE=image/jpeg:https://t2t.org/wp-content/uploads/2026/02/2026_PikeCounty_Thumbnail.jpg
ORGANIZER;CN="T2T Pike County - Gold Key":MAILTO:PikeCounty@t2t.org
END:VEVENT
BEGIN:VEVENT
DTSTART;TZID=America/New_York:20260912T080000
DTEND;TZID=America/New_York:20260912T080000
DTSTAMP:20260424T224439
CREATED:20260416T165803Z
LAST-MODIFIED:20260416T165803Z
UID:67615-1789200000-1789200000@t2t.org
SUMMARY:2026 Tunnel to Towers 5K Run & Walk Pittsburgh
DESCRIPTION:
URL:https://t2t.org/event/2026-tunnel-to-towers-5k-run-walk-pittsburgh/
LOCATION:Canonsburg Memorial Stadium\, 1 N Jefferson Ave\, Canonsburg\, PA\, 15317\, United States
CATEGORIES:5K Run & Walk Event,Pennsylvania
ATTACH;FMTTYPE=image/jpeg:https://t2t.org/wp-content/uploads/2026/04/2026_Pittsburgh_Thumbnail.jpg
ORGANIZER;CN="T2T Pittsburgh":MAILTO:Pittsburgh@t2t.org
END:VEVENT
BEGIN:VEVENT
DTSTART;TZID=America/New_York:20260912T084500
DTEND;TZID=America/New_York:20260912T084500
DTSTAMP:20260424T224439
CREATED:20260205T155057Z
LAST-MODIFIED:20260205T155057Z
UID:66270-1789202700-1789202700@t2t.org
SUMMARY:2026 Tunnel to Towers 5K Run & Walk Montrose\, PA
DESCRIPTION:
URL:https://t2t.org/event/2026-tunnel-to-towers-5k-run-walk-montrose-pa/
LOCATION:The Green in Montrose\, 18 Monument Square\, Montrose\, PA\, 18801\, United States
CATEGORIES:5K Run & Walk Event,Pennsylvania
ATTACH;FMTTYPE=image/jpeg:https://t2t.org/wp-content/uploads/2026/02/2026_Montrose_Thumbnail.jpg
ORGANIZER;CN="T2T Montrose":MAILTO:MontroseRun@t2t.org
END:VEVENT
END:VCALENDAR