BEGIN:VCALENDAR
VERSION:2.0
PRODID:-//Tunnel to Towers Foundation - ECPv6.15.17//NONSGML v1.0//EN
CALSCALE:GREGORIAN
METHOD:PUBLISH
X-ORIGINAL-URL:https://t2t.org
X-WR-CALDESC:Events for Tunnel to Towers Foundation
REFRESH-INTERVAL;VALUE=DURATION:PT1H
X-Robots-Tag:noindex
X-PUBLISHED-TTL:PT1H
BEGIN:VTIMEZONE
TZID:America/New_York
BEGIN:DAYLIGHT
TZOFFSETFROM:-0500
TZOFFSETTO:-0400
TZNAME:EDT
DTSTART:20220313T070000
END:DAYLIGHT
BEGIN:STANDARD
TZOFFSETFROM:-0400
TZOFFSETTO:-0500
TZNAME:EST
DTSTART:20221106T060000
END:STANDARD
BEGIN:DAYLIGHT
TZOFFSETFROM:-0500
TZOFFSETTO:-0400
TZNAME:EDT
DTSTART:20230312T070000
END:DAYLIGHT
BEGIN:STANDARD
TZOFFSETFROM:-0400
TZOFFSETTO:-0500
TZNAME:EST
DTSTART:20231105T060000
END:STANDARD
BEGIN:DAYLIGHT
TZOFFSETFROM:-0500
TZOFFSETTO:-0400
TZNAME:EDT
DTSTART:20240310T070000
END:DAYLIGHT
BEGIN:STANDARD
TZOFFSETFROM:-0400
TZOFFSETTO:-0500
TZNAME:EST
DTSTART:20241103T060000
END:STANDARD
BEGIN:DAYLIGHT
TZOFFSETFROM:-0500
TZOFFSETTO:-0400
TZNAME:EDT
DTSTART:20250309T070000
END:DAYLIGHT
BEGIN:STANDARD
TZOFFSETFROM:-0400
TZOFFSETTO:-0500
TZNAME:EST
DTSTART:20251102T060000
END:STANDARD
BEGIN:DAYLIGHT
TZOFFSETFROM:-0500
TZOFFSETTO:-0400
TZNAME:EDT
DTSTART:20260308T070000
END:DAYLIGHT
BEGIN:STANDARD
TZOFFSETFROM:-0400
TZOFFSETTO:-0500
TZNAME:EST
DTSTART:20261101T060000
END:STANDARD
END:VTIMEZONE
BEGIN:VTIMEZONE
TZID:UTC
BEGIN:STANDARD
TZOFFSETFROM:+0000
TZOFFSETTO:+0000
TZNAME:UTC
DTSTART:20190101T000000
END:STANDARD
END:VTIMEZONE
BEGIN:VEVENT
DTSTART;TZID=America/New_York:20250920T080000
DTEND;TZID=America/New_York:20250920T080000
DTSTAMP:20260424T172804
CREATED:20250626T132440Z
LAST-MODIFIED:20250626T132440Z
UID:61004-1758355200-1758355200@t2t.org
SUMMARY:2025 Tunnel to Towers 5K Run & Walk Jackson MS
DESCRIPTION:
URL:https://t2t.org/event/2025-tunnel-to-towers-5k-run-walk-jackson-ms/
LOCATION:The District at Eastover\, 1250 Eastover Drive\, Jackson\, MS\, 39211\, United States
CATEGORIES:5K Run & Walk Event,Mississippi
ATTACH;FMTTYPE=image/jpeg:https://t2t.org/wp-content/uploads/2025/06/Jackson-Thumbnail.jpg
ORGANIZER;CN="T2T Jackson MS":MAILTO:jacksonms@t2t.org
END:VEVENT
BEGIN:VEVENT
DTSTART;TZID=UTC:20250913T170000
DTEND;TZID=UTC:20250913T170000
DTSTAMP:20260424T172804
CREATED:20250403T142638Z
LAST-MODIFIED:20250403T142638Z
UID:61563-1757782800-1757782800@t2t.org
SUMMARY:2025 Tunnel to Towers 5K Run & Climb Biloxi
DESCRIPTION:
URL:https://t2t.org/event/2025-tunnel-to-towers-5k-run-climb-biloxi/
LOCATION:Margaritaville Resort Biloxi\, 165 Beach Blvd.\, Biloxi\, MS\, 39530\, United States
CATEGORIES:Mississippi,Run & Climb Event
ATTACH;FMTTYPE=image/png:https://t2t.org/wp-content/uploads/2025/04/2025-Biloxi.png
ORGANIZER;CN="T2T Biloxi":MAILTO:Biloxi@t2t.org
END:VEVENT
BEGIN:VEVENT
DTSTART;TZID=America/New_York:20241116T090000
DTEND;TZID=America/New_York:20241116T090000
DTSTAMP:20260424T172804
CREATED:20240530T155049Z
LAST-MODIFIED:20240530T162611Z
UID:57348-1731747600-1731747600@t2t.org
SUMMARY:2024 Tunnel to Towers 5K Run & Walk Meridian
DESCRIPTION:
URL:https://t2t.org/event/2024-tunnel-to-towers-5k-run-walk-meridian/
LOCATION:City Hall Lawn\, 1860 24th Avenue\, Meridian\, MS\, 39301\, United States
CATEGORIES:5K Run & Walk Event,Mississippi
ATTACH;FMTTYPE=image/jpeg:https://t2t.org/wp-content/uploads/2024/05/2024-Online-Graphic-Meridian-MS.jpeg
ORGANIZER;CN="Central T2T":MAILTO:CentralNY@t2t.org
END:VEVENT
BEGIN:VEVENT
DTSTART;TZID=UTC:20240914T170000
DTEND;TZID=UTC:20240914T170000
DTSTAMP:20260424T172804
CREATED:20240328T173338Z
LAST-MODIFIED:20240328T173338Z
UID:55877-1726333200-1726333200@t2t.org
SUMMARY:2024 Tunnel to Towers 5K Run & Climb Biloxi
DESCRIPTION:
URL:https://t2t.org/event/2024-tunnel-to-towers-5k-run-climb-biloxi/
LOCATION:Margaritaville Resort Biloxi\, 165 Beach Blvd.\, Biloxi\, MS\, 39530\, United States
CATEGORIES:Mississippi,Run & Climb Event
ATTACH;FMTTYPE=image/png:https://t2t.org/wp-content/uploads/2024/03/2024-Biloxi.png
ORGANIZER;CN="T2T Biloxi":MAILTO:Biloxi@t2t.org
END:VEVENT
BEGIN:VEVENT
DTSTART;TZID=America/New_York:20240914T075000
DTEND;TZID=America/New_York:20240914T170000
DTSTAMP:20260424T172804
CREATED:20240620T141145Z
LAST-MODIFIED:20240620T141323Z
UID:57932-1726300200-1726333200@t2t.org
SUMMARY:2024 Tunnel to Towers 5K Run & Walk Jackson MS
DESCRIPTION:
URL:https://t2t.org/event/2024-tunnel-to-towers-5k-run-walk-jackson-ms/
LOCATION:The District at Eastover\, 1250 Eastover Drive\, Jackson\, MS\, 39211\, United States
CATEGORIES:5K Run & Walk Event,Mississippi
ATTACH;FMTTYPE=image/png:https://t2t.org/wp-content/uploads/2024/06/2024-Jackson-MS.png
ORGANIZER;CN="T2T Jackson MS":MAILTO:jacksonms@t2t.org
END:VEVENT
BEGIN:VEVENT
DTSTART;TZID=America/New_York:20231028T080000
DTEND;TZID=America/New_York:20231028T170000
DTSTAMP:20260424T172804
CREATED:20230904T234714Z
LAST-MODIFIED:20240411T212236Z
UID:50853-1698480000-1698512400@t2t.org
SUMMARY:2023 Tunnel to Towers 5K Run & Walk Jackson MS
DESCRIPTION:OCTOBER 28 @ 8:00 AM
URL:https://t2t.org/event/2023-tunnel-to-towers-5k-run-walk-jackson-ms/
LOCATION:The District at Eastover\, 1250 Eastover Drive\, Jackson\, MS\, 39211\, United States
CATEGORIES:5K Run & Walk Event,Mississippi
ATTACH;FMTTYPE=image/webp:https://t2t.org/wp-content/uploads/2023/09/2023-Thumbnails-Jackson-MS.webp
ORGANIZER;CN="T2T Jackson MS":MAILTO:jacksonms@t2t.org
END:VEVENT
BEGIN:VEVENT
DTSTART;TZID=UTC:20230909T170000
DTEND;TZID=UTC:20230909T170000
DTSTAMP:20260424T172804
CREATED:20230427T171404Z
LAST-MODIFIED:20240424T151908Z
UID:36736-1694278800-1694278800@t2t.org
SUMMARY:2023 Tunnel to Towers 5K Run & Climb Biloxi
DESCRIPTION:
URL:https://t2t.org/event/2023-tunnel-to-towers-5k-run-climb-biloxi/
LOCATION:Margaritaville Resort Biloxi\, 165 Beach Blvd.\, Biloxi\, MS\, 39530\, United States
CATEGORIES:Mississippi,Run & Climb Event
ATTACH;FMTTYPE=image/jpeg:https://t2t.org/wp-content/uploads/2023/04/2023-Thumbnails-Biloxi.jpg
ORGANIZER;CN="T2T Biloxi":MAILTO:Biloxi@t2t.org
END:VEVENT
BEGIN:VEVENT
DTSTART;TZID=UTC:20221008T075000
DTEND;TZID=UTC:20221008T075000
DTSTAMP:20260424T172804
CREATED:20220428T194204Z
LAST-MODIFIED:20240506T122220Z
UID:30954-1665215400-1665215400@t2t.org
SUMMARY:2022 Tunnel to Towers 5K Run & Walk Jackson MS
DESCRIPTION:
URL:https://t2t.org/event/2022-tunnel-to-towers-5k-run-walk-jackson-ms/
LOCATION:The District at Eastover\, 1250 Eastover Drive\, Jackson\, MS\, 39211\, United States
CATEGORIES:5K Run & Walk Event,Mississippi
ATTACH;FMTTYPE=image/jpeg:https://t2t.org/wp-content/uploads/2020/05/2022-Jackson-MS-Run-Thumbnail.jpg
ORGANIZER;CN="T2T Jackson MS":MAILTO:jacksonms@t2t.org
END:VEVENT
BEGIN:VEVENT
DTSTART;TZID=UTC:20220910T170000
DTEND;TZID=UTC:20220910T170000
DTSTAMP:20260424T172804
CREATED:20220428T192833Z
LAST-MODIFIED:20220428T192833Z
UID:30942-1662829200-1662829200@t2t.org
SUMMARY:2022 Tunnel to Towers 5K Run & Climb Biloxi
DESCRIPTION:
URL:https://t2t.org/event/2022-tunnel-to-towers-5k-run-climb-biloxi/
LOCATION:Margaritaville Resort Biloxi\, 165 Beach Blvd.\, Biloxi\, MS\, 39530\, United States
CATEGORIES:Mississippi,Run & Climb Event
ATTACH;FMTTYPE=image/jpeg:https://t2t.org/wp-content/uploads/2017/07/2022-Biloxi-Run-Thumbnail.jpg
ORGANIZER;CN="T2T Biloxi":MAILTO:Biloxi@t2t.org
END:VEVENT
BEGIN:VEVENT
DTSTART;TZID=UTC:20210911T170000
DTEND;TZID=UTC:20210911T170000
DTSTAMP:20260424T172804
CREATED:20210602T210737Z
LAST-MODIFIED:20210711T020838Z
UID:22239-1631379600-1631379600@t2t.org
SUMMARY:2021 Tunnel to Towers 5K Run & Climb Biloxi
DESCRIPTION:
URL:https://t2t.org/event/2021-tunnel-to-towers-5k-run-climb-biloxi/
LOCATION:Margaritaville Resort Biloxi\, 165 Beach Blvd.\, Biloxi\, MS\, 39530\, United States
CATEGORIES:Mississippi,Run & Climb Event
ATTACH;FMTTYPE=image/png:https://t2t.org/wp-content/uploads/2017/07/2021-Biloxi.png
ORGANIZER;CN="T2T Biloxi":MAILTO:Biloxi@t2t.org
END:VEVENT
BEGIN:VEVENT
DTSTART;TZID=UTC:20210911T080000
DTEND;TZID=UTC:20210911T080000
DTSTAMP:20260424T172804
CREATED:20210616T182906Z
LAST-MODIFIED:20240506T122719Z
UID:22424-1631347200-1631347200@t2t.org
SUMMARY:2021 Tunnel to Towers 5K Run & Walk Jackson MS
DESCRIPTION:
URL:https://t2t.org/event/2021-tunnel-to-towers-5k-run-walk-jackson-ms/
LOCATION:The District at Eastover\, 1250 Eastover Drive\, Jackson\, MS\, 39211\, United States
CATEGORIES:5K Run & Walk Event,Mississippi
ATTACH;FMTTYPE=image/png:https://t2t.org/wp-content/uploads/2020/05/2021-Jackson-MS-1.png
ORGANIZER;CN="T2T Jackson MS":MAILTO:jacksonms@t2t.org
END:VEVENT
BEGIN:VEVENT
DTSTART;TZID=UTC:20201107T080000
DTEND;TZID=UTC:20201107T080000
DTSTAMP:20260424T172804
CREATED:20200521T153119Z
LAST-MODIFIED:20240506T124057Z
UID:18734-1604736000-1604736000@t2t.org
SUMMARY:2020 Tunnel to Towers 5K Run & Walk Jackson MS
DESCRIPTION:
URL:https://t2t.org/event/2020-tunnel-towers-5k-run-walk-jackson-ms/
LOCATION:The District at Eastover\, 1250 Eastover Drive\, Jackson\, MS\, 39211\, United States
CATEGORIES:5K Run & Walk Event,Mississippi
ATTACH;FMTTYPE=image/png:https://t2t.org/wp-content/uploads/2020/05/2020-Jackson-MS.png
ORGANIZER;CN="T2T Jackson MS":MAILTO:jacksonms@t2t.org
END:VEVENT
BEGIN:VEVENT
DTSTART;TZID=UTC:20200912T170000
DTEND;TZID=UTC:20200912T170000
DTSTAMP:20260424T172804
CREATED:20200313T161733Z
LAST-MODIFIED:20210711T020829Z
UID:17837-1599930000-1599930000@t2t.org
SUMMARY:2020 Tunnel to Towers 5K Run & Climb Biloxi
DESCRIPTION:
URL:https://t2t.org/event/2020-tunnel-towers-5k-run-climb-biloxi/
LOCATION:Margaritaville Resort Biloxi\, 165 Beach Blvd.\, Biloxi\, MS\, 39530\, United States
CATEGORIES:Mississippi,Run & Climb Event
ATTACH;FMTTYPE=image/png:https://t2t.org/wp-content/uploads/2017/07/2020-Biloxi.png
ORGANIZER;CN="T2T Biloxi":MAILTO:Biloxi@t2t.org
END:VEVENT
END:VCALENDAR