BEGIN:VCALENDAR
VERSION:2.0
PRODID:-//Tunnel to Towers Foundation - ECPv6.15.17//NONSGML v1.0//EN
CALSCALE:GREGORIAN
METHOD:PUBLISH
X-WR-CALNAME:Tunnel to Towers Foundation
X-ORIGINAL-URL:https://t2t.org
X-WR-CALDESC:Events for Tunnel to Towers Foundation
REFRESH-INTERVAL;VALUE=DURATION:PT1H
X-Robots-Tag:noindex
X-PUBLISHED-TTL:PT1H
BEGIN:VTIMEZONE
TZID:America/New_York
BEGIN:DAYLIGHT
TZOFFSETFROM:-0500
TZOFFSETTO:-0400
TZNAME:EDT
DTSTART:20200308T070000
END:DAYLIGHT
BEGIN:STANDARD
TZOFFSETFROM:-0400
TZOFFSETTO:-0500
TZNAME:EST
DTSTART:20201101T060000
END:STANDARD
BEGIN:DAYLIGHT
TZOFFSETFROM:-0500
TZOFFSETTO:-0400
TZNAME:EDT
DTSTART:20210314T070000
END:DAYLIGHT
BEGIN:STANDARD
TZOFFSETFROM:-0400
TZOFFSETTO:-0500
TZNAME:EST
DTSTART:20211107T060000
END:STANDARD
BEGIN:DAYLIGHT
TZOFFSETFROM:-0500
TZOFFSETTO:-0400
TZNAME:EDT
DTSTART:20220313T070000
END:DAYLIGHT
BEGIN:STANDARD
TZOFFSETFROM:-0400
TZOFFSETTO:-0500
TZNAME:EST
DTSTART:20221106T060000
END:STANDARD
BEGIN:DAYLIGHT
TZOFFSETFROM:-0500
TZOFFSETTO:-0400
TZNAME:EDT
DTSTART:20230312T070000
END:DAYLIGHT
BEGIN:STANDARD
TZOFFSETFROM:-0400
TZOFFSETTO:-0500
TZNAME:EST
DTSTART:20231105T060000
END:STANDARD
BEGIN:DAYLIGHT
TZOFFSETFROM:-0500
TZOFFSETTO:-0400
TZNAME:EDT
DTSTART:20240310T070000
END:DAYLIGHT
BEGIN:STANDARD
TZOFFSETFROM:-0400
TZOFFSETTO:-0500
TZNAME:EST
DTSTART:20241103T060000
END:STANDARD
BEGIN:DAYLIGHT
TZOFFSETFROM:-0500
TZOFFSETTO:-0400
TZNAME:EDT
DTSTART:20250309T070000
END:DAYLIGHT
BEGIN:STANDARD
TZOFFSETFROM:-0400
TZOFFSETTO:-0500
TZNAME:EST
DTSTART:20251102T060000
END:STANDARD
BEGIN:DAYLIGHT
TZOFFSETFROM:-0500
TZOFFSETTO:-0400
TZNAME:EDT
DTSTART:20260308T070000
END:DAYLIGHT
BEGIN:STANDARD
TZOFFSETFROM:-0400
TZOFFSETTO:-0500
TZNAME:EST
DTSTART:20261101T060000
END:STANDARD
END:VTIMEZONE
BEGIN:VTIMEZONE
TZID:UTC
BEGIN:STANDARD
TZOFFSETFROM:+0000
TZOFFSETTO:+0000
TZNAME:UTC
DTSTART:20190101T000000
END:STANDARD
END:VTIMEZONE
BEGIN:VEVENT
DTSTART;TZID=America/New_York:20250427T090000
DTEND;TZID=America/New_York:20250427T090000
DTSTAMP:20260424T090828
CREATED:20250306T174340Z
LAST-MODIFIED:20250306T174340Z
UID:61375-1745744400-1745744400@t2t.org
SUMMARY:2025 Tunnel to Towers Tower Climb Towson
DESCRIPTION:
URL:https://t2t.org/event/2025-tunnel-to-towers-tower-climb-towson/
LOCATION:Johnny Unitas Stadium/Towson University\, 7537 Auburn Dr.\, Towson\, MD\, 21204\, United States
CATEGORIES:Maryland,Tower Climb Event
ATTACH;FMTTYPE=image/png:https://t2t.org/wp-content/uploads/2025/03/2025-Towson.png
ORGANIZER;CN="Towson Climb - Jill Prevatt":MAILTO:LuthervilleClimb@t2t.org
END:VEVENT
BEGIN:VEVENT
DTSTART;TZID=America/New_York:20210815T140000
DTEND;TZID=America/New_York:20210815T180000
DTSTAMP:20260424T090828
CREATED:20210723T175639Z
LAST-MODIFIED:20210818T212529Z
UID:23920-1629036000-1629050400@t2t.org
SUMMARY:9/11 NEVER FORGET Mobile Exhibit Visits Cecil County Public Library
DESCRIPTION:The Siller Family started the Tunnel to Towers Foundation to honor the memory and carry on the legacy of their brother\, Stephen\, a New York City ­firefighter (FDNY) who lost his life on September 11\, 2001 after strapping 60 lbs. of gear to his back and rushing on foot through the Brooklyn Battery Tunnel to the Twin Towers\, where he gave up his life while saving others. \nIn 2013\, the Tunnel to Towers Foundation launched its 9/11 NEVER FORGET Mobile Exhibit; a tribute to all those who lost their lives on September 11\, 2001\, including\, of course\, the 343 members of the FDNY who made the ultimate sacrifice. The high-tech\, 53-foot tractor-trailer\, which transforms into a 1\,000 square foot exhibit\, is a tool to further educate citizens throughout the country about the events of that tragic day. \nWelcomed around the country\, from the Black Hills of South Dakota to the Tennessee State Fairgrounds\, the memorial provides interactive education; including artifacts such as steel beams from the towers\, documentary videos\, and recordings of first responder radio transmissions. Interactive guided tours are carried out by FDNY firefighters who provide firsthand accounts of the day and its aftermath. The 9/11 NEVER FORGET Mobile Exhibit\, which has traveled to nearly 30 states and Canada\, has welcomed in over 350\,000 people to date. \nThe Tunnel to Towers Foundation is committed to ensuring WE NEVER FORGET. \nEscort date 8/15/21 \nLearn More
URL:https://t2t.org/event/9-11-never-forget-mobile-exhibit-visits-cecil-county-public-library/2021-08-15/
LOCATION:Cecil County Public Library\, 485 Mauldin Avenue\, North East\, MD\, 21901\, United States
CATEGORIES:9/11 NEVER FORGET Mobile Exhibit,Maryland
ATTACH;FMTTYPE=image/png:https://t2t.org/wp-content/uploads/2021/07/Cecil-County-Public-Library.png
END:VEVENT
BEGIN:VEVENT
DTSTART;VALUE=DATE:20210621
DTEND;VALUE=DATE:20210622
DTSTAMP:20260424T090828
CREATED:20210510T230150Z
LAST-MODIFIED:20211217T221415Z
UID:21778-1624233600-1624319999@t2t.org
SUMMARY:2021 Delmarva Golf Classic at Links at Lighthouse Sound
DESCRIPTION:On Sept. 11\, 2001\, FDNY firefighter Stephen Siller strapped his gear to his back and raced on foot through the Hugh L. Carey Tunnel to the World Trade Center Site after he received word of an attack. There\, he gave up his life while saving others. \nTo commemorate Stephen’s sacrifice\, and the sacrifice of so many others\, the Tunnel to Towers Foundation began the National Golf Series which benefits the Foundation’s programs and efforts supporting first responders and service members. \nThis year’s Delmarva Golf Outing will take place on Monday\, June 21\, 2021. \nTo register for golf and/or sponsorships\, Download  \nLearn more about the Tunnel to Towers National Golf Series here. \nFor more information\, please contact Golf@t2t.org
URL:https://t2t.org/event/2021-delmarva-golf-classic-at-links-at-lighthouse-sound/
LOCATION:Links at Lighthouse Sound\, 12723 St. Martin's Neck Road\, Bishopville\, MD\, 21813\, United States
CATEGORIES:Maryland,Tunnel to Towers National Golf Series
ATTACH;FMTTYPE=image/png:https://t2t.org/wp-content/uploads/2021/05/2021-Delmarva-1.png
END:VEVENT
BEGIN:VEVENT
DTSTART;VALUE=DATE:20200614
DTEND;VALUE=DATE:20200615
DTSTAMP:20260424T090828
CREATED:20190321T180018Z
LAST-MODIFIED:20210711T020821Z
UID:14380-1592092800-1592179199@t2t.org
SUMMARY:2020 Tunnel to Towers 5K Run & Walk Central Maryland
DESCRIPTION:
URL:https://t2t.org/event/2020-tunnel-towers-5k-run-walk-central-maryland/
LOCATION:Columbia Gateway Business Park\, 7134 Columbia Gateway Drive\, Columbia\, MD\, 21046\, United States
CATEGORIES:5K Run & Walk Event,Maryland
ATTACH;FMTTYPE=image/png:https://t2t.org/wp-content/uploads/2020/03/Postponed-Thumbnail-Central-Maryland.png
ORGANIZER;CN="T2T Central Maryland":MAILTO:centralmaryland@t2t.org
END:VEVENT
END:VCALENDAR